BEGIN:VCALENDAR
VERSION:2.0
PRODID:-//Aniada a Noar - ECPv6.15.11//NONSGML v1.0//EN
CALSCALE:GREGORIAN
METHOD:PUBLISH
X-ORIGINAL-URL:https://aniada.at
X-WR-CALDESC:Veranstaltungen für Aniada a Noar
REFRESH-INTERVAL;VALUE=DURATION:PT1H
X-Robots-Tag:noindex
X-PUBLISHED-TTL:PT1H
BEGIN:VTIMEZONE
TZID:UTC
BEGIN:STANDARD
TZOFFSETFROM:+0000
TZOFFSETTO:+0000
TZNAME:UTC
DTSTART:20160101T000000
END:STANDARD
END:VTIMEZONE
BEGIN:VEVENT
DTSTART;TZID=UTC:20180718T190000
DTEND;TZID=UTC:20180718T210000
DTSTAMP:20260425T041517
CREATED:20180301T115258Z
LAST-MODIFIED:20180620T110233Z
UID:10000146-1531940400-1531947600@aniada.at
SUMMARY:Aniada a Noar beim Tollwood Festival in München - Hacker-Pschorr Brettl
DESCRIPTION:Hacker – Pschorr Brettl
URL:https://aniada.at/event/aniada-a-noar-beim-tollwood-festival-in-muenchen/
LOCATION:München Tollwood Festival\, Hacker Brettl/Waisenhausstr. 20\, München\, München\, 80637\, Deutschland
END:VEVENT
BEGIN:VEVENT
DTSTART;TZID=UTC:20180718T190000
DTEND;TZID=UTC:20180718T210000
DTSTAMP:20260425T041517
CREATED:20180301T115258Z
LAST-MODIFIED:20180301T115258Z
UID:10000465-1531940400-1531947600@aniada.at
SUMMARY:Aniada a Noar beim Tollwood Festival in München - Hacker-Pschorr Brettl
DESCRIPTION:Hacker – Pschorr Brettl
URL:https://aniada.at/event/aniada-a-noar-beim-tollwood-festival-in-muenchen-2/
LOCATION:München Tollwood Festival\, Hacker Brettl/Waisenhausstr. 20\, München\, München\, 80637\, Deutschland
END:VEVENT
BEGIN:VEVENT
DTSTART;TZID=UTC:20170712T190000
DTEND;TZID=UTC:20170712T220000
DTSTAMP:20260425T041517
CREATED:20170524T094016Z
LAST-MODIFIED:20170524T094016Z
UID:10000105-1499886000-1499896800@aniada.at
SUMMARY:Aniada a Noar in München beim Tollwood Festival
DESCRIPTION:
URL:https://aniada.at/event/aniada-a-noar-in-muenchen-beim-tollwood-festival/
LOCATION:München Tollwood Festival\, Hacker Brettl/Waisenhausstr. 20\, München\, München\, 80637\, Deutschland
END:VEVENT
BEGIN:VEVENT
DTSTART;TZID=UTC:20170712T190000
DTEND;TZID=UTC:20170712T220000
DTSTAMP:20260425T041517
CREATED:20170524T094016Z
LAST-MODIFIED:20170524T094016Z
UID:10000434-1499886000-1499896800@aniada.at
SUMMARY:Aniada a Noar in München beim Tollwood Festival
DESCRIPTION:
URL:https://aniada.at/event/aniada-a-noar-in-muenchen-beim-tollwood-festival-2/
LOCATION:München Tollwood Festival\, Hacker Brettl/Waisenhausstr. 20\, München\, München\, 80637\, Deutschland
END:VEVENT
END:VCALENDAR