BEGIN:VCALENDAR
VERSION:2.0
PRODID:-//Aniada a Noar - ECPv6.15.11//NONSGML v1.0//EN
CALSCALE:GREGORIAN
METHOD:PUBLISH
X-WR-CALNAME:Aniada a Noar
X-ORIGINAL-URL:https://aniada.at
X-WR-CALDESC:Veranstaltungen für Aniada a Noar
REFRESH-INTERVAL;VALUE=DURATION:PT1H
X-Robots-Tag:noindex
X-PUBLISHED-TTL:PT1H
BEGIN:VTIMEZONE
TZID:Europe/Vienna
BEGIN:DAYLIGHT
TZOFFSETFROM:+0100
TZOFFSETTO:+0200
TZNAME:CEST
DTSTART:20250330T010000
END:DAYLIGHT
BEGIN:STANDARD
TZOFFSETFROM:+0200
TZOFFSETTO:+0100
TZNAME:CET
DTSTART:20251026T010000
END:STANDARD
BEGIN:DAYLIGHT
TZOFFSETFROM:+0100
TZOFFSETTO:+0200
TZNAME:CEST
DTSTART:20260329T010000
END:DAYLIGHT
BEGIN:STANDARD
TZOFFSETFROM:+0200
TZOFFSETTO:+0100
TZNAME:CET
DTSTART:20261025T010000
END:STANDARD
BEGIN:DAYLIGHT
TZOFFSETFROM:+0100
TZOFFSETTO:+0200
TZNAME:CEST
DTSTART:20270328T010000
END:DAYLIGHT
BEGIN:STANDARD
TZOFFSETFROM:+0200
TZOFFSETTO:+0100
TZNAME:CET
DTSTART:20271031T010000
END:STANDARD
END:VTIMEZONE
BEGIN:VEVENT
DTSTART;TZID=Europe/Vienna:20260621T140000
DTEND;TZID=Europe/Vienna:20260621T160000
DTSTAMP:20260422T171840
CREATED:20260422T083044Z
LAST-MODIFIED:20260422T083044Z
UID:10000772-1782050400-1782057600@aniada.at
SUMMARY:ANIADA A NOAR auf der Johann Waller Hütte am Schöckel
DESCRIPTION:Fest zur Sommersonnenwende mit Live Musik \, Lagerfeuer\, Slow Food aus der Region\, Bar auf der Terrasse & DJ.\n14 – 16 Uhr ANIADA A NOAR & Lothar Lässer\n16 – 18 Uhr Quartett Die Band ohne Namen- Jazziges von Balkan bis Funk\nab 18 Uhr DJ MG – Funk\, Soul & Elektronik mit Schwerpunkt Tanzbein\nvoraussichtliches Ende 21 Uhr
URL:https://aniada.at/event/aniada-a-noar-auf-der-johann-waller-huette-am-schoeckel/
LOCATION:Schöckel\, Johann Waller Hütte\, Schöckl 71\, St. Radegund\, 8061
ORGANIZER;CN="Sch%C3%B6ckl%2C Johann Waller H%C3%BCtte":MAILTO:griasdi@johannwallerhuette.at
END:VEVENT
END:VCALENDAR