BEGIN:VCALENDAR
VERSION:2.0
PRODID:-//Aniada a Noar - ECPv6.15.11//NONSGML v1.0//EN
CALSCALE:GREGORIAN
METHOD:PUBLISH
X-ORIGINAL-URL:https://aniada.at
X-WR-CALDESC:Veranstaltungen für Aniada a Noar
REFRESH-INTERVAL;VALUE=DURATION:PT1H
X-Robots-Tag:noindex
X-PUBLISHED-TTL:PT1H
BEGIN:VTIMEZONE
TZID:UTC
BEGIN:STANDARD
TZOFFSETFROM:+0000
TZOFFSETTO:+0000
TZNAME:UTC
DTSTART:20170101T000000
END:STANDARD
END:VTIMEZONE
BEGIN:VEVENT
DTSTART;TZID=UTC:20190928T150000
DTEND;TZID=UTC:20190928T170000
DTSTAMP:20260424T050352
CREATED:20190722T080440Z
LAST-MODIFIED:20190722T080440Z
UID:10000516-1569682800-1569690000@aniada.at
SUMMARY:Aniada a Noar mit Erich Oskar Hütter und Stefan Henkel im Rahmen des Festivals haus.kultur 2019
DESCRIPTION:Messequartier (Dachterrasse)\nMünzgrabenstr. 84\, 8010 Graz\n„Spiel am Wasser“  im Rahmen des Festivals haus.kultur 2019\nmit Erich Oskar Hütter und Stefan Heckel\nMehr Infos=> 
URL:https://aniada.at/event/aniada-a-noar-mit-erich-oskar-muetter-und-stefan-henkel-im-rahmen-des-festivals-haus-kultur-2019-2/
LOCATION:Graz Messequartier (Dachterrasse)\, Münzgrabenstraße 84\, Graz\, 8010\, Österreich
END:VEVENT
BEGIN:VEVENT
DTSTART;TZID=UTC:20190928T150000
DTEND;TZID=UTC:20190928T170000
DTSTAMP:20260424T050352
CREATED:20190722T080440Z
LAST-MODIFIED:20191007T092755Z
UID:10000197-1569682800-1569690000@aniada.at
SUMMARY:Aniada a Noar mit Erich Oskar Hütter und Stefan Henkel im Rahmen des Festivals haus.kultur 2019
DESCRIPTION:Messequartier (Dachterrasse)\nMünzgrabenstr. 84\, 8010 Graz\n„Spiel am Wasser“  im Rahmen des Festivals haus.kultur 2019\nmit Erich Oskar Hütter und Stefan Heckel\nMehr Infos=> 
URL:https://aniada.at/event/aniada-a-noar-mit-erich-oskar-muetter-und-stefan-henkel-im-rahmen-des-festivals-haus-kultur-2019/
LOCATION:Graz Messequartier (Dachterrasse)\, Münzgrabenstraße 84\, Graz\, 8010\, Österreich
END:VEVENT
BEGIN:VEVENT
DTSTART;TZID=UTC:20180922T150000
DTEND;TZID=UTC:20180922T170000
DTSTAMP:20260424T050352
CREATED:20180709T042807Z
LAST-MODIFIED:20180709T052523Z
UID:10000066-1537628400-1537635600@aniada.at
SUMMARY:Aniada a Noar bei "extra.vaganz" auf der  Dachterrasse im Messequartier
DESCRIPTION:extra.vaganz \n  \nDer Ausblick zum Träumen. Opulente Dachterrasse samt Swimmingpool. Preisgekrönt. Ein Hauch von cooler Dekadenz. Violoncello mal vier und Aniada a Noar. Musikalisch schillernder Regenbogen. Weltumspannend\, mitreißend und berührend. \nProgramm \nGardel: Por Una Cabeza\nJüdische und arabische Musik aus dem Orient\nArvo Pärt:  Fratres\, Spiegel im Spiegel\nZeitgenössische Volksmusik\nJohn Lennon: Imagine \nKünstler \nVioloncello \n\nJames Barralet (GB)\nRamón Jaffé (D)\nAdiel Shmit (IL)\nErich Oskar Huetter\n\nAniada a Noar
URL:https://aniada.at/event/aniada-a-noar-bei-versoehnliche-toene-im-landhaus-graz/
LOCATION:Graz Messequartier (Dachterrasse)\, Münzgrabenstraße 84\, Graz\, 8010\, Österreich
END:VEVENT
BEGIN:VEVENT
DTSTART;TZID=UTC:20180922T150000
DTEND;TZID=UTC:20180922T170000
DTSTAMP:20260424T050352
CREATED:20180709T042807Z
LAST-MODIFIED:20180709T042807Z
UID:10000480-1537628400-1537635600@aniada.at
SUMMARY:Aniada a Noar bei "extra.vaganz" auf der  Dachterrasse im Messequartier
DESCRIPTION:extra.vaganz \n  \nDer Ausblick zum Träumen. Opulente Dachterrasse samt Swimmingpool. Preisgekrönt. Ein Hauch von cooler Dekadenz. Violoncello mal vier und Aniada a Noar. Musikalisch schillernder Regenbogen. Weltumspannend\, mitreißend und berührend. \nProgramm \nGardel: Por Una Cabeza\nJüdische und arabische Musik aus dem Orient\nArvo Pärt:  Fratres\, Spiegel im Spiegel\nZeitgenössische Volksmusik\nJohn Lennon: Imagine \nKünstler \nVioloncello \n\nJames Barralet (GB)\nRamón Jaffé (D)\nAdiel Shmit (IL)\nErich Oskar Huetter\n\nAniada a Noar
URL:https://aniada.at/event/aniada-a-noar-bei-versoehnliche-toene-im-landhaus-graz-2/
LOCATION:Graz Messequartier (Dachterrasse)\, Münzgrabenstraße 84\, Graz\, 8010\, Österreich
END:VEVENT
END:VCALENDAR