BEGIN:VCALENDAR
VERSION:2.0
PRODID:-//Aniada a Noar - ECPv6.15.11//NONSGML v1.0//EN
CALSCALE:GREGORIAN
METHOD:PUBLISH
X-ORIGINAL-URL:https://aniada.at
X-WR-CALDESC:Veranstaltungen für Aniada a Noar
REFRESH-INTERVAL;VALUE=DURATION:PT1H
X-Robots-Tag:noindex
X-PUBLISHED-TTL:PT1H
BEGIN:VTIMEZONE
TZID:UTC
BEGIN:STANDARD
TZOFFSETFROM:+0000
TZOFFSETTO:+0000
TZNAME:UTC
DTSTART:20170101T000000
END:STANDARD
END:VTIMEZONE
BEGIN:VEVENT
DTSTART;TZID=UTC:20180921T190000
DTEND;TZID=UTC:20180921T200000
DTSTAMP:20260424T094458
CREATED:20180709T043731Z
LAST-MODIFIED:20180709T052411Z
UID:10000074-1537556400-1537560000@aniada.at
SUMMARY:Aniada a Noar bei "versöhnliche.töne"  Rittersaal/ Landhaus
DESCRIPTION:!! Für dieses Konzert ist eine verbindliche Anmeldung bis 14.09. erforderlich.\nAusnahmslos über: veranstaltungen@landtag-steiermark.at oder 0316.877 2297 \nDer historische Landhaushof gibt Raum und Heimat anlässlich des Weltfriedenstages. Musik als humanistischer Klebstoff\, der tragfähig verbindet.  Ein internationales Cello-Ensemble und Aniada a Noar als künstlerische Interpreten dieses Gedanken auf einer musikalische Reise in den Nahen Osten\, nach Estland\, mit steirischer Weltmusik und Zwischenstopps in Argentinien und den USA. \nProgramm \nCarlos Gardell: Por una cabeza\nJüdische & arabische Musik aus dem Orient\nArvo Pärt: Fratres\, Spiegel im Spiegel\nZeitgenössische Volksmusik\nJohn Lennon: Imagine \nKünstler \nVioloncello \n\nJames Barralet (GB)\nRamón Jaffé (D)\nAdiel Shmit (IL)\nErich Oskar Huetter\n\nAniada a Noar
URL:https://aniada.at/event/aniada-a-noar-bei-versoehnliche-toene-rittersaal-landhaus/
LOCATION:Graz Landhaus Rittersaal\, Herrengasse 16\, 8010\, Steiermark\, 8010\, Österreich
END:VEVENT
BEGIN:VEVENT
DTSTART;TZID=UTC:20180921T190000
DTEND;TZID=UTC:20180921T200000
DTSTAMP:20260424T094458
CREATED:20180709T043731Z
LAST-MODIFIED:20180709T043731Z
UID:10000481-1537556400-1537560000@aniada.at
SUMMARY:Aniada a Noar bei "versöhnliche.töne"  Rittersaal/ Landhaus
DESCRIPTION:!! Für dieses Konzert ist eine verbindliche Anmeldung bis 14.09. erforderlich.\nAusnahmslos über: veranstaltungen@landtag-steiermark.at oder 0316.877 2297 \nDer historische Landhaushof gibt Raum und Heimat anlässlich des Weltfriedenstages. Musik als humanistischer Klebstoff\, der tragfähig verbindet.  Ein internationales Cello-Ensemble und Aniada a Noar als künstlerische Interpreten dieses Gedanken auf einer musikalische Reise in den Nahen Osten\, nach Estland\, mit steirischer Weltmusik und Zwischenstopps in Argentinien und den USA. \nProgramm \nCarlos Gardell: Por una cabeza\nJüdische & arabische Musik aus dem Orient\nArvo Pärt: Fratres\, Spiegel im Spiegel\nZeitgenössische Volksmusik\nJohn Lennon: Imagine \nKünstler \nVioloncello \n\nJames Barralet (GB)\nRamón Jaffé (D)\nAdiel Shmit (IL)\nErich Oskar Huetter\n\nAniada a Noar
URL:https://aniada.at/event/aniada-a-noar-bei-versoehnliche-toene-rittersaal-landhaus-2/
LOCATION:Graz Landhaus Rittersaal\, Herrengasse 16\, 8010\, Steiermark\, 8010\, Österreich
END:VEVENT
END:VCALENDAR