BEGIN:VCALENDAR
VERSION:2.0
PRODID:-//Aniada a Noar - ECPv6.15.11//NONSGML v1.0//EN
CALSCALE:GREGORIAN
METHOD:PUBLISH
X-ORIGINAL-URL:https://aniada.at
X-WR-CALDESC:Veranstaltungen für Aniada a Noar
REFRESH-INTERVAL;VALUE=DURATION:PT1H
X-Robots-Tag:noindex
X-PUBLISHED-TTL:PT1H
BEGIN:VTIMEZONE
TZID:UTC
BEGIN:STANDARD
TZOFFSETFROM:+0000
TZOFFSETTO:+0000
TZNAME:UTC
DTSTART:20150101T000000
END:STANDARD
END:VTIMEZONE
BEGIN:VTIMEZONE
TZID:UTC
BEGIN:STANDARD
TZOFFSETFROM:+0000
TZOFFSETTO:+0000
TZNAME:UTC
DTSTART:20140101T000000
END:STANDARD
END:VTIMEZONE
BEGIN:VEVENT
DTSTART;TZID=UTC:20211217T200000
DTEND;TZID=UTC:20211217T220000
DTSTAMP:20260422T125037
CREATED:20211203T171158Z
LAST-MODIFIED:20211203T171158Z
UID:10000588-1639771200-1639778400@aniada.at
SUMMARY:ANIADA A NOAR & Lothar Lässer
DESCRIPTION:Kulturzentrum Leibnitz\, Kaspar Harb Gasse 4\, 8430 Leibnitz \n03452 76506 office@leibnitz-kult.at www.leibnitz-kult.at
URL:https://aniada.at/event/aniada-a-noar-lothar-laesser-2/
LOCATION:Leibnitz Kulturzentrum\, Kaspar-Harb-Gasse 4\, Leibnitz\, Steiermark\, 8430\, Österreich
ORGANIZER;CN="Leibnitz KULT":MAILTO:office@leibnitz-kult.at 
END:VEVENT
BEGIN:VEVENT
DTSTART;TZID=UTC:20211217T200000
DTEND;TZID=UTC:20211217T220000
DTSTAMP:20260422T125037
CREATED:20211203T171158Z
LAST-MODIFIED:20211203T173039Z
UID:10000259-1639771200-1639778400@aniada.at
SUMMARY:ANIADA A NOAR & Lothar Lässer
DESCRIPTION:Kulturzentrum Leibnitz\, Kaspar Harb Gasse 4\, 8430 Leibnitz \n03452 76506 office@leibnitz-kult.at www.leibnitz-kult.at
URL:https://aniada.at/event/aniada-a-noar-lothar-laesser/
LOCATION:Leibnitz Kulturzentrum\, Kaspar-Harb-Gasse 4\, Leibnitz\, Steiermark\, 8430\, Österreich
ORGANIZER;CN="Leibnitz KULT":MAILTO:office@leibnitz-kult.at 
END:VEVENT
BEGIN:VEVENT
DTSTART;TZID=UTC:20201217T200000
DTEND;TZID=UTC:20201217T213000
DTSTAMP:20260422T125037
CREATED:20201009T053013Z
LAST-MODIFIED:20201009T053013Z
UID:10000562-1608235200-1608240600@aniada.at
SUMMARY:Weihnachtstour FELICITÀ mit Emma Montanari\, Giulio Venier und Flavio Bortuzzo im Kulturzentrum in Leibnitz
DESCRIPTION:Do. 17.12.   Leibnitz Kulturzentrum    20 h\nKaspar Harb G. 4\, 8430 Leibnitz\nReservierung:  office@leibnitz-kult.at   03452 76506   www.leibnitzkult.at
URL:https://aniada.at/event/weihnachtstour-felicita-mit-emma-montanari-giulio-venier-und-flavio-bortuzzo-im-kulturzentrum-in-leibnitz-2/
LOCATION:Leibnitz Kulturzentrum\, Kaspar-Harb-Gasse 4\, Leibnitz\, Steiermark\, 8430\, Österreich
ORGANIZER;CN="Leibnitz KULT":MAILTO:office@leibnitz-kult.at 
END:VEVENT
BEGIN:VEVENT
DTSTART;TZID=UTC:20201217T200000
DTEND;TZID=UTC:20201217T213000
DTSTAMP:20260422T125037
CREATED:20201009T053013Z
LAST-MODIFIED:20201009T053013Z
UID:10000236-1608235200-1608240600@aniada.at
SUMMARY:Weihnachtstour FELICITÀ mit Emma Montanari\, Giulio Venier und Flavio Bortuzzo im Kulturzentrum in Leibnitz
DESCRIPTION:Do. 17.12.   Leibnitz Kulturzentrum    20 h\nKaspar Harb G. 4\, 8430 Leibnitz\nReservierung:  office@leibnitz-kult.at   03452 76506   www.leibnitzkult.at
URL:https://aniada.at/event/weihnachtstour-felicita-mit-emma-montanari-giulio-venier-und-flavio-bortuzzo-im-kulturzentrum-in-leibnitz/
LOCATION:Leibnitz Kulturzentrum\, Kaspar-Harb-Gasse 4\, Leibnitz\, Steiermark\, 8430\, Österreich
ORGANIZER;CN="Leibnitz KULT":MAILTO:office@leibnitz-kult.at 
END:VEVENT
BEGIN:VEVENT
DTSTART;TZID=UTC:20191219T200000
DTEND;TZID=UTC:20191219T200000
DTSTAMP:20260422T125037
CREATED:20190722T084612Z
LAST-MODIFIED:20190722T084612Z
UID:10000525-1576785600-1576785600@aniada.at
SUMMARY:Aniada a Noar | Weihnachtskonzert mit Maria Gstättner und Stefan Heckel im Kulturzentrum Leibnitz
DESCRIPTION:
URL:https://aniada.at/event/aniada-a-noar-weihnachtskonzert-mit-maria-gstaettner-und-stefan-heckel-im-kulturzentrum-leibnitz-2/
LOCATION:Leibnitz Kulturzentrum\, Kaspar-Harb-Gasse 4\, Leibnitz\, Steiermark\, 8430\, Österreich
ORGANIZER;CN="Leibnitz KULT":MAILTO:office@leibnitz-kult.at 
END:VEVENT
BEGIN:VEVENT
DTSTART;TZID=UTC:20191219T200000
DTEND;TZID=UTC:20191219T200000
DTSTAMP:20260422T125037
CREATED:20190722T084612Z
LAST-MODIFIED:20200108T113504Z
UID:10000206-1576785600-1576785600@aniada.at
SUMMARY:Aniada a Noar | Weihnachtskonzert mit Maria Gstättner und Stefan Heckel im Kulturzentrum Leibnitz
DESCRIPTION:
URL:https://aniada.at/event/aniada-a-noar-weihnachtskonzert-mit-maria-gstaettner-und-stefan-heckel-im-kulturzentrum-leibnitz/
LOCATION:Leibnitz Kulturzentrum\, Kaspar-Harb-Gasse 4\, Leibnitz\, Steiermark\, 8430\, Österreich
ORGANIZER;CN="Leibnitz KULT":MAILTO:office@leibnitz-kult.at 
END:VEVENT
BEGIN:VEVENT
DTSTART;TZID=UTC:20181220T200000
DTEND;TZID=UTC:20181220T223000
DTSTAMP:20260422T125037
CREATED:20180705T090902Z
LAST-MODIFIED:20180705T090902Z
UID:10000479-1545336000-1545345000@aniada.at
SUMMARY:Slowenisch-steirischer Advent im Kulturzentrum Leibnitz
DESCRIPTION:
URL:https://aniada.at/event/slowenisch-steirischer-advent-im-kulturzentrum-leibnitz-2/
LOCATION:Leibnitz Kulturzentrum\, Kaspar-Harb-Gasse 4\, Leibnitz\, Steiermark\, 8430\, Österreich
ORGANIZER;CN="Leibnitz KULT":MAILTO:office@leibnitz-kult.at 
END:VEVENT
BEGIN:VEVENT
DTSTART;TZID=UTC:20181220T200000
DTEND;TZID=UTC:20181220T223000
DTSTAMP:20260422T125037
CREATED:20180705T090902Z
LAST-MODIFIED:20181203T094817Z
UID:10000077-1545336000-1545345000@aniada.at
SUMMARY:Slowenisch-steirischer Advent im Kulturzentrum Leibnitz
DESCRIPTION:
URL:https://aniada.at/event/slowenisch-steirischer-advent-im-kulturzentrum-leibnitz/
LOCATION:Leibnitz Kulturzentrum\, Kaspar-Harb-Gasse 4\, Leibnitz\, Steiermark\, 8430\, Österreich
ORGANIZER;CN="Leibnitz KULT":MAILTO:office@leibnitz-kult.at 
END:VEVENT
BEGIN:VEVENT
DTSTART;TZID=UTC:20161217T200000
DTEND;TZID=UTC:20161217T220000
DTSTAMP:20260422T125037
CREATED:20160121T093701Z
LAST-MODIFIED:20160121T093701Z
UID:10000377-1482004800-1482012000@aniada.at
SUMMARY:Aniada a Noar spielt In Compagnia in Leibnitz (A)
DESCRIPTION:Weihnachtsprogramm mit In Compagnia\, Aniada a Noar mit Emma Montanari\, Giulio Venier und Flavio Bortuzzo
URL:https://aniada.at/event/aniada-a-noar-spielt-incompagnia-in-leibnitz-a-2/
LOCATION:Leibnitz Kulturzentrum\, Kaspar-Harb-Gasse 4\, Leibnitz\, Steiermark\, 8430\, Österreich
ORGANIZER;CN="Leibnitz KULT":MAILTO:office@leibnitz-kult.at 
END:VEVENT
BEGIN:VEVENT
DTSTART;TZID=UTC:20161217T200000
DTEND;TZID=UTC:20161217T220000
DTSTAMP:20260422T125037
CREATED:20160121T093701Z
LAST-MODIFIED:20161114T063656Z
UID:10000069-1482004800-1482012000@aniada.at
SUMMARY:Aniada a Noar spielt In Compagnia in Leibnitz (A)
DESCRIPTION:Weihnachtsprogramm mit In Compagnia\, Aniada a Noar mit Emma Montanari\, Giulio Venier und Flavio Bortuzzo
URL:https://aniada.at/event/aniada-a-noar-spielt-incompagnia-in-leibnitz-a/
LOCATION:Leibnitz Kulturzentrum\, Kaspar-Harb-Gasse 4\, Leibnitz\, Steiermark\, 8430\, Österreich
ORGANIZER;CN="Leibnitz KULT":MAILTO:office@leibnitz-kult.at 
END:VEVENT
BEGIN:VEVENT
DTSTART;TZID=UTC:20151218T200000
DTEND;TZID=UTC:20151218T220000
DTSTAMP:20260422T125037
CREATED:20150901T075014Z
LAST-MODIFIED:20150903T064758Z
UID:10000067-1450468800-1450476000@aniada.at
SUMMARY:Aniada a Noar und Egon Egemann in Leibnitz (A)
DESCRIPTION:Leibnitz Kult \nWas machen die Schweizer im Advent? Werden Kekse gebacken und Weihnachtslieder gesungen? Oder hetzt auch dort jeder der Geschenkeliste hinterher? \nEgon Egemann\, der Ausnahmegeiger aus der Schweiz mit Köflacher Wurzeln\, hat in Wien Klassik und Jazz studiert. Er ist Grenzgänger und Ausloter verschiedener Stile und Genres\, ein Weltmusiker. Sein Gefühl für leise Zwischentöne lässt Kindheitserinnerungen an besondere Momente unterm Christbaum wach werden. Sein halsbrecherisches Tempo an der Violine spiegelt voll Ironie die Hektik zu Weihnachten. \nANIADA A NOAR stehen seit Anbeginn für Grenzüberschreitung und entziehen sich bis zum heutigen Schaffen demonstrativ Schubladisierungen und Etikettierungen. Poesie mit Witz und musikalischem Temperament zu vereinen\, macht die „Noarnmusik“ zu etwas ganz Besonderem. Nicht nur im Advent.
URL:https://aniada.at/event/aniada-a-noar-und-egon-egemann-in-leibnitz-a/
LOCATION:Leibnitz Kulturzentrum\, Kaspar-Harb-Gasse 4\, Leibnitz\, Steiermark\, 8430\, Österreich
ORGANIZER;CN="Leibnitz KULT":MAILTO:office@leibnitz-kult.at 
END:VEVENT
BEGIN:VEVENT
DTSTART;TZID=UTC:20151218T200000
DTEND;TZID=UTC:20151218T220000
DTSTAMP:20260422T125037
CREATED:20150901T075014Z
LAST-MODIFIED:20150901T075014Z
UID:10000355-1450468800-1450476000@aniada.at
SUMMARY:Aniada a Noar und Egon Egemann in Leibnitz (A)
DESCRIPTION:Leibnitz Kult \nWas machen die Schweizer im Advent? Werden Kekse gebacken und Weihnachtslieder gesungen? Oder hetzt auch dort jeder der Geschenkeliste hinterher? \nEgon Egemann\, der Ausnahmegeiger aus der Schweiz mit Köflacher Wurzeln\, hat in Wien Klassik und Jazz studiert. Er ist Grenzgänger und Ausloter verschiedener Stile und Genres\, ein Weltmusiker. Sein Gefühl für leise Zwischentöne lässt Kindheitserinnerungen an besondere Momente unterm Christbaum wach werden. Sein halsbrecherisches Tempo an der Violine spiegelt voll Ironie die Hektik zu Weihnachten. \nANIADA A NOAR stehen seit Anbeginn für Grenzüberschreitung und entziehen sich bis zum heutigen Schaffen demonstrativ Schubladisierungen und Etikettierungen. Poesie mit Witz und musikalischem Temperament zu vereinen\, macht die „Noarnmusik“ zu etwas ganz Besonderem. Nicht nur im Advent.
URL:https://aniada.at/event/aniada-a-noar-und-egon-egemann-in-leibnitz-a-2/
LOCATION:Leibnitz Kulturzentrum\, Kaspar-Harb-Gasse 4\, Leibnitz\, Steiermark\, 8430\, Österreich
ORGANIZER;CN="Leibnitz KULT":MAILTO:office@leibnitz-kult.at 
END:VEVENT
END:VCALENDAR