BEGIN:VCALENDAR
VERSION:2.0
PRODID:-//Aniada a Noar - ECPv6.15.11//NONSGML v1.0//EN
CALSCALE:GREGORIAN
METHOD:PUBLISH
X-ORIGINAL-URL:https://aniada.at
X-WR-CALDESC:Veranstaltungen für Aniada a Noar
REFRESH-INTERVAL;VALUE=DURATION:PT1H
X-Robots-Tag:noindex
X-PUBLISHED-TTL:PT1H
BEGIN:VTIMEZONE
TZID:UTC
BEGIN:STANDARD
TZOFFSETFROM:+0000
TZOFFSETTO:+0000
TZNAME:UTC
DTSTART:20180101T000000
END:STANDARD
END:VTIMEZONE
BEGIN:VEVENT
DTSTART;TZID=UTC:20230903T104500
DTEND;TZID=UTC:20230903T133000
DTSTAMP:20260422T111637
CREATED:20230203T092838Z
LAST-MODIFIED:20230203T092838Z
UID:10000645-1693737900-1693747800@aniada.at
SUMMARY:ANIADA A NAOR In Compagnia in Straden
DESCRIPTION:Matinee im Rahmen von Grad & Schräg 2023.\nMit Lothar Lässer\, Emma Montanari\, Giro Venier & Flavio Bortuzzo.
URL:https://aniada.at/event/aniada-a-naor-in-compagnia-in-straden-2/
LOCATION:Straden Kulturhaus\, Straden\, 8345
ORGANIZER;CN="straden aktiv":MAILTO:office@straden-aktiv.com
END:VEVENT
BEGIN:VEVENT
DTSTART;TZID=UTC:20220225T194500
DTEND;TZID=UTC:20220225T214500
DTSTAMP:20260422T111637
CREATED:20211203T184045Z
LAST-MODIFIED:20220208T090238Z
UID:10000261-1645818300-1645825500@aniada.at
SUMMARY:„Die 3 steirischen NaRRen vor 300 JaRRen“ mit Rainer Hauer & Lothar Lässer
DESCRIPTION:„Die 3 steirischen NaRRen vor 300 JaRRen“mit Rainer Hauer & Lothar Lässer\nKulturhaus  8345 Straden\n+43 676 6253606   info@straden-aktiv.at    www.straden-aktiv.com
URL:https://aniada.at/event/die-3-steirischen-narren-mit-rainer-hauer-lothar-laesser/
LOCATION:Straden Kulturhaus\, Straden\, 8345
END:VEVENT
BEGIN:VEVENT
DTSTART;TZID=UTC:20220225T194500
DTEND;TZID=UTC:20220225T214500
DTSTAMP:20260422T111637
CREATED:20211203T184045Z
LAST-MODIFIED:20211203T184045Z
UID:10000592-1645818300-1645825500@aniada.at
SUMMARY:„Die 3 steirischen NaRRen vor 300 JaRRen“ mit Rainer Hauer & Lothar Lässer
DESCRIPTION:„Die 3 steirischen NaRRen vor 300 JaRRen“mit Rainer Hauer & Lothar Lässer\nKulturhaus  8345 Straden\n+43 676 6253606   info@straden-aktiv.at    www.straden-aktiv.com
URL:https://aniada.at/event/die-3-steirischen-narren-mit-rainer-hauer-lothar-laesser-2/
LOCATION:Straden Kulturhaus\, Straden\, 8345
END:VEVENT
BEGIN:VEVENT
DTSTART;TZID=UTC:20190901T104500
DTEND;TZID=UTC:20190901T124500
DTSTAMP:20260422T111637
CREATED:20190424T093104Z
LAST-MODIFIED:20190424T093104Z
UID:10000510-1567334700-1567341900@aniada.at
SUMMARY:Aniada a Noar & Brina Duo beim Grad & Schräg Festival 2019 in Straden
DESCRIPTION:Sonntag\, 1. September  10.45 h \nAniada a Noar & Brina Duo \n„Hoch vom.. bis zum..Štajermark“ \nGrad & Schräg Festival 2019 \nKulturhaus  8345 Straden \n+43 676 6253606  info@straden-aktiv.com   www.straden-aktiv.com \n 
URL:https://aniada.at/event/aniada-a-noar-brina-duo-beim-grad-schraeg-festival-2019-in-straden-2/
LOCATION:Straden Kulturhaus\, Straden\, 8345
ORGANIZER;CN="straden aktiv":MAILTO:office@straden-aktiv.com
END:VEVENT
BEGIN:VEVENT
DTSTART;TZID=UTC:20190901T104500
DTEND;TZID=UTC:20190901T124500
DTSTAMP:20260422T111637
CREATED:20190424T093104Z
LAST-MODIFIED:20190424T093104Z
UID:10000191-1567334700-1567341900@aniada.at
SUMMARY:Aniada a Noar & Brina Duo beim Grad & Schräg Festival 2019 in Straden
DESCRIPTION:Sonntag\, 1. September  10.45 h \nAniada a Noar & Brina Duo \n„Hoch vom.. bis zum..Štajermark“ \nGrad & Schräg Festival 2019 \nKulturhaus  8345 Straden \n+43 676 6253606  info@straden-aktiv.com   www.straden-aktiv.com \n 
URL:https://aniada.at/event/aniada-a-noar-brina-duo-beim-grad-schraeg-festival-2019-in-straden/
LOCATION:Straden Kulturhaus\, Straden\, 8345
ORGANIZER;CN="straden aktiv":MAILTO:office@straden-aktiv.com
END:VEVENT
END:VCALENDAR