BEGIN:VCALENDAR
VERSION:2.0
PRODID:-//Aniada a Noar - ECPv6.15.11//NONSGML v1.0//EN
CALSCALE:GREGORIAN
METHOD:PUBLISH
X-WR-CALNAME:Aniada a Noar
X-ORIGINAL-URL:https://aniada.at
X-WR-CALDESC:Veranstaltungen für Aniada a Noar
REFRESH-INTERVAL;VALUE=DURATION:PT1H
X-Robots-Tag:noindex
X-PUBLISHED-TTL:PT1H
BEGIN:VTIMEZONE
TZID:UTC
BEGIN:STANDARD
TZOFFSETFROM:+0000
TZOFFSETTO:+0000
TZNAME:UTC
DTSTART:20150101T000000
END:STANDARD
END:VTIMEZONE
BEGIN:VTIMEZONE
TZID:UTC
BEGIN:STANDARD
TZOFFSETFROM:+0000
TZOFFSETTO:+0000
TZNAME:UTC
DTSTART:20140101T000000
END:STANDARD
END:VTIMEZONE
BEGIN:VEVENT
DTSTART;TZID=UTC:20181003T193000
DTEND;TZID=UTC:20181003T203000
DTSTAMP:20260424T232640
CREATED:20180416T084058Z
LAST-MODIFIED:20180416T084058Z
UID:10000469-1538595000-1538598600@aniada.at
SUMMARY:Aniada a Noar im Penzinghof in Oberndorf in Tirol / Steirische Wochen
DESCRIPTION:T.  +43 5352 62905 \nMail:   info@penzinghof.at \nWebseite: www.penzinghof.at
URL:https://aniada.at/event/aniada-a-noar-im-penzinghof-in-oberndorf-in-tirol-steirische-wochen-2/
LOCATION:Oberndorf Hotel Penzinghof\, Penzingweg 14\, Oberndorf\, Tirol\, 6372\, Österreich
END:VEVENT
BEGIN:VEVENT
DTSTART;TZID=UTC:20181003T193000
DTEND;TZID=UTC:20181003T203000
DTSTAMP:20260424T232640
CREATED:20180416T084058Z
LAST-MODIFIED:20180416T084058Z
UID:10000150-1538595000-1538598600@aniada.at
SUMMARY:Aniada a Noar im Penzinghof in Oberndorf in Tirol / Steirische Wochen
DESCRIPTION:T.  +43 5352 62905 \nMail:   info@penzinghof.at \nWebseite: www.penzinghof.at
URL:https://aniada.at/event/aniada-a-noar-im-penzinghof-in-oberndorf-in-tirol-steirische-wochen/
LOCATION:Oberndorf Hotel Penzinghof\, Penzingweg 14\, Oberndorf\, Tirol\, 6372\, Österreich
END:VEVENT
BEGIN:VEVENT
DTSTART;TZID=UTC:20171011T193000
DTEND;TZID=UTC:20171011T213000
DTSTAMP:20260424T232640
CREATED:20170524T100403Z
LAST-MODIFIED:20170524T100403Z
UID:10000439-1507750200-1507757400@aniada.at
SUMMARY:Aniada a Noar im Penzinghof in Oberndorf / Tirol im Rahmen der "Steirischen Wochen"
DESCRIPTION:
URL:https://aniada.at/event/aniada-a-noar-im-penzinghof-in-oberndorf-tirol-im-rahmen-der-steirischen-wochen-2/
LOCATION:Oberndorf Hotel Penzinghof\, Penzingweg 14\, Oberndorf\, Tirol\, 6372\, Österreich
END:VEVENT
BEGIN:VEVENT
DTSTART;TZID=UTC:20171011T193000
DTEND;TZID=UTC:20171011T213000
DTSTAMP:20260424T232640
CREATED:20170524T100403Z
LAST-MODIFIED:20170524T100403Z
UID:10000109-1507750200-1507757400@aniada.at
SUMMARY:Aniada a Noar im Penzinghof in Oberndorf / Tirol im Rahmen der "Steirischen Wochen"
DESCRIPTION:
URL:https://aniada.at/event/aniada-a-noar-im-penzinghof-in-oberndorf-tirol-im-rahmen-der-steirischen-wochen/
LOCATION:Oberndorf Hotel Penzinghof\, Penzingweg 14\, Oberndorf\, Tirol\, 6372\, Österreich
END:VEVENT
BEGIN:VEVENT
DTSTART;TZID=UTC:20161014T193000
DTEND;TZID=UTC:20161014T213000
DTSTAMP:20260424T232640
CREATED:20160801T055904Z
LAST-MODIFIED:20160801T055904Z
UID:10000392-1476473400-1476480600@aniada.at
SUMMARY:Aniada a Noar spielt in Oberndorf bei den Steirischen Wochen
DESCRIPTION:Programm „33“ – 3 Männer – 33 Jahre live auf der Bühne
URL:https://aniada.at/event/aniada-a-noar-spielt-in-oberndorf-bei-den-steirischen-wochen-2/
LOCATION:Oberndorf Hotel Penzinghof\, Penzingweg 14\, Oberndorf\, Tirol\, 6372\, Österreich
ORGANIZER;CN="Hotel Penzinghof":MAILTO:info@penzinghof.at
END:VEVENT
BEGIN:VEVENT
DTSTART;TZID=UTC:20161014T193000
DTEND;TZID=UTC:20161014T213000
DTSTAMP:20260424T232640
CREATED:20160801T055904Z
LAST-MODIFIED:20160801T055904Z
UID:10000004-1476473400-1476480600@aniada.at
SUMMARY:Aniada a Noar spielt in Oberndorf bei den Steirischen Wochen
DESCRIPTION:Programm „33“ – 3 Männer – 33 Jahre live auf der Bühne
URL:https://aniada.at/event/aniada-a-noar-spielt-in-oberndorf-bei-den-steirischen-wochen/
LOCATION:Oberndorf Hotel Penzinghof\, Penzingweg 14\, Oberndorf\, Tirol\, 6372\, Österreich
ORGANIZER;CN="Hotel Penzinghof":MAILTO:info@penzinghof.at
END:VEVENT
BEGIN:VEVENT
DTSTART;VALUE=DATE:20151014
DTEND;VALUE=DATE:20151015
DTSTAMP:20260424T232640
CREATED:20150831T090553Z
LAST-MODIFIED:20150903T065451Z
UID:10000047-1444780800-1444867199@aniada.at
SUMMARY:Aniada a Noar in Oberndorf / Tirol (A)
DESCRIPTION:31. Steirische Wochen im Hotel Penzinghof in Tirol \nProgramm \n„33“ – 3 Männer – 33 Jahre live auf der Bühne
URL:https://aniada.at/event/aniada-a-noar-in-oberndorf-tirol-a/
LOCATION:Oberndorf Hotel Penzinghof\, Penzingweg 14\, Oberndorf\, Tirol\, 6372\, Österreich
ORGANIZER;CN="Unnamed Organizer":MAILTO:info@penzinghof.at
END:VEVENT
BEGIN:VEVENT
DTSTART;VALUE=DATE:20151014
DTEND;VALUE=DATE:20151015
DTSTAMP:20260424T232640
CREATED:20150831T090553Z
LAST-MODIFIED:20150831T090553Z
UID:10000353-1444780800-1444867199@aniada.at
SUMMARY:Aniada a Noar in Oberndorf / Tirol (A)
DESCRIPTION:31. Steirische Wochen im Hotel Penzinghof in Tirol \nProgramm \n„33“ – 3 Männer – 33 Jahre live auf der Bühne
URL:https://aniada.at/event/aniada-a-noar-in-oberndorf-tirol-a-2/
LOCATION:Oberndorf Hotel Penzinghof\, Penzingweg 14\, Oberndorf\, Tirol\, 6372\, Österreich
ORGANIZER;CN="Unnamed Organizer":MAILTO:info@penzinghof.at
END:VEVENT
END:VCALENDAR