BEGIN:VCALENDAR
VERSION:2.0
PRODID:-//Aniada a Noar - ECPv6.15.11//NONSGML v1.0//EN
CALSCALE:GREGORIAN
METHOD:PUBLISH
X-ORIGINAL-URL:https://aniada.at
X-WR-CALDESC:Veranstaltungen für Aniada a Noar
REFRESH-INTERVAL;VALUE=DURATION:PT1H
X-Robots-Tag:noindex
X-PUBLISHED-TTL:PT1H
BEGIN:VTIMEZONE
TZID:UTC
BEGIN:STANDARD
TZOFFSETFROM:+0000
TZOFFSETTO:+0000
TZNAME:UTC
DTSTART:20160101T000000
END:STANDARD
END:VTIMEZONE
BEGIN:VEVENT
DTSTART;TZID=UTC:20170609T193000
DTEND;TZID=UTC:20170609T213000
DTSTAMP:20260426T054114
CREATED:20170215T121140Z
LAST-MODIFIED:20170607T085824Z
UID:10000012-1497036600-1497043800@aniada.at
SUMMARY:Aniada a Noar & August Schmölzer in Gratwein
DESCRIPTION:„Aniada a Noar und August Schmölzer“ \nAn einem Abend mit Literatur und Musik verschmelzen Aniada a Noar und August Schmölzer ineinander. Es ist ein sich Gegenseitiges Ergänzen\, ein Abend mit Tiefe\, Freude und Humor\, alles was das Herz des Hörers und Schauers begehrt. \nNichts wird ausgelassen außer die LANGEWEILE.
URL:https://aniada.at/event/aniada-a-noar-august-schmoelzer-in-gratwein/
LOCATION:Gratwein MZH\, Schulgasse 10\, Gratwein\, 81121\, Österreich
END:VEVENT
BEGIN:VEVENT
DTSTART;TZID=UTC:20170609T193000
DTEND;TZID=UTC:20170609T213000
DTSTAMP:20260426T054114
CREATED:20170215T121140Z
LAST-MODIFIED:20170215T121140Z
UID:10000419-1497036600-1497043800@aniada.at
SUMMARY:Aniada a Noar & August Schmölzer in Gratwein
DESCRIPTION:„Aniada a Noar und August Schmölzer“ \nAn einem Abend mit Literatur und Musik verschmelzen Aniada a Noar und August Schmölzer ineinander. Es ist ein sich Gegenseitiges Ergänzen\, ein Abend mit Tiefe\, Freude und Humor\, alles was das Herz des Hörers und Schauers begehrt. \nNichts wird ausgelassen außer die LANGEWEILE.
URL:https://aniada.at/event/aniada-a-noar-august-schmoelzer-in-gratwein-2/
LOCATION:Gratwein MZH\, Schulgasse 10\, Gratwein\, 81121\, Österreich
END:VEVENT
END:VCALENDAR