BEGIN:VCALENDAR
VERSION:2.0
PRODID:-//Aniada a Noar - ECPv6.15.11//NONSGML v1.0//EN
CALSCALE:GREGORIAN
METHOD:PUBLISH
X-WR-CALNAME:Aniada a Noar
X-ORIGINAL-URL:https://aniada.at
X-WR-CALDESC:Veranstaltungen für Aniada a Noar
REFRESH-INTERVAL;VALUE=DURATION:PT1H
X-Robots-Tag:noindex
X-PUBLISHED-TTL:PT1H
BEGIN:VTIMEZONE
TZID:UTC
BEGIN:STANDARD
TZOFFSETFROM:+0000
TZOFFSETTO:+0000
TZNAME:UTC
DTSTART:20170101T000000
END:STANDARD
END:VTIMEZONE
BEGIN:VTIMEZONE
TZID:UTC
BEGIN:STANDARD
TZOFFSETFROM:+0000
TZOFFSETTO:+0000
TZNAME:UTC
DTSTART:20140101T000000
END:STANDARD
END:VTIMEZONE
BEGIN:VEVENT
DTSTART;TZID=UTC:20240126T200000
DTEND;TZID=UTC:20240126T223000
DTSTAMP:20260424T234241
CREATED:20231107T092531Z
LAST-MODIFIED:20231107T092531Z
UID:10000667-1706299200-1706308200@aniada.at
SUMMARY:ANIADA A NOAR & Martin Moro in Fügen im Zillertal
DESCRIPTION:
URL:https://aniada.at/event/aniada-a-noar-martin-moro-in-fuegen-im-zillertal/
LOCATION:Fügen FeuerWerk bei binderholz\, Binderholz Straße 49\, Fügen\, Tirol\, 6263\, Österreich
ORGANIZER;CN="FeuerWerk  Binderholz":MAILTO:feuerwerk@binderholz.com
END:VEVENT
BEGIN:VEVENT
DTSTART;TZID=UTC:20181004T200000
DTEND;TZID=UTC:20181004T210000
DTSTAMP:20260424T234241
CREATED:20180416T084455Z
LAST-MODIFIED:20180622T082558Z
UID:10000151-1538683200-1538686800@aniada.at
SUMMARY:Aniada a Noar im FeuerWerk in Fügen im Zillertal
DESCRIPTION:www.binderholz-feuerwerk.com
URL:https://aniada.at/event/aniada-a-noar-im-feuerwerk-in-fuegen-im-zillertal/
LOCATION:Fügen FeuerWerk bei binderholz\, Binderholz Straße 49\, Fügen\, Tirol\, 6263\, Österreich
END:VEVENT
BEGIN:VEVENT
DTSTART;TZID=UTC:20181004T200000
DTEND;TZID=UTC:20181004T210000
DTSTAMP:20260424T234241
CREATED:20180416T084455Z
LAST-MODIFIED:20180416T084455Z
UID:10000470-1538683200-1538686800@aniada.at
SUMMARY:Aniada a Noar im FeuerWerk in Fügen im Zillertal
DESCRIPTION:www.binderholz-feuerwerk.com
URL:https://aniada.at/event/aniada-a-noar-im-feuerwerk-in-fuegen-im-zillertal-2/
LOCATION:Fügen FeuerWerk bei binderholz\, Binderholz Straße 49\, Fügen\, Tirol\, 6263\, Österreich
END:VEVENT
BEGIN:VEVENT
DTSTART;TZID=UTC:20151119T190000
DTEND;TZID=UTC:20151119T210000
DTSTAMP:20260424T234241
CREATED:20150420T174331Z
LAST-MODIFIED:20150420T174331Z
UID:10000344-1447959600-1447966800@aniada.at
SUMMARY:Aniada a Noar in Fügen / Zillertal (A)
DESCRIPTION:Programm \n„33“ – 3 Männer – 33 Jahre live auf der Bühne \n 
URL:https://aniada.at/event/aniada-a-noar-in-fuegen-zillertal-a-2/
LOCATION:Fügen FeuerWerk bei binderholz\, Binderholz Straße 49\, Fügen\, Tirol\, 6263\, Österreich
ORGANIZER;CN="FeuerWerk  Binderholz":MAILTO:feuerwerk@binderholz.com
END:VEVENT
BEGIN:VEVENT
DTSTART;TZID=UTC:20151119T190000
DTEND;TZID=UTC:20151119T210000
DTSTAMP:20260424T234241
CREATED:20150420T174331Z
LAST-MODIFIED:20150903T065151Z
UID:10000056-1447959600-1447966800@aniada.at
SUMMARY:Aniada a Noar in Fügen / Zillertal (A)
DESCRIPTION:Programm \n„33“ – 3 Männer – 33 Jahre live auf der Bühne \n 
URL:https://aniada.at/event/aniada-a-noar-in-fuegen-zillertal-a/
LOCATION:Fügen FeuerWerk bei binderholz\, Binderholz Straße 49\, Fügen\, Tirol\, 6263\, Österreich
ORGANIZER;CN="FeuerWerk  Binderholz":MAILTO:feuerwerk@binderholz.com
END:VEVENT
END:VCALENDAR