BEGIN:VCALENDAR
VERSION:2.0
PRODID:-//Aniada a Noar - ECPv6.15.11//NONSGML v1.0//EN
CALSCALE:GREGORIAN
METHOD:PUBLISH
X-ORIGINAL-URL:https://aniada.at
X-WR-CALDESC:Veranstaltungen für Aniada a Noar
REFRESH-INTERVAL;VALUE=DURATION:PT1H
X-Robots-Tag:noindex
X-PUBLISHED-TTL:PT1H
BEGIN:VTIMEZONE
TZID:UTC
BEGIN:STANDARD
TZOFFSETFROM:+0000
TZOFFSETTO:+0000
TZNAME:UTC
DTSTART:20160101T000000
END:STANDARD
END:VTIMEZONE
BEGIN:VEVENT
DTSTART;TZID=UTC:20170604T113000
DTEND;TZID=UTC:20170604T133000
DTSTAMP:20260426T040833
CREATED:20170524T095052Z
LAST-MODIFIED:20170524T095119Z
UID:10000106-1496575800-1496583000@aniada.at
SUMMARY:In Compagnia im Agriturismo Ai Padrons / Meduno
DESCRIPTION:im Rahmen des Projektes Folk in Tour : http://www.folkintour.it \n  \nTickets : info@folkintour.it
URL:https://aniada.at/event/in-compagnia-im-agriturismo-ai-padrons-meduno/
LOCATION:Meduno Agriturismo Al Padrons\, Via Tomba\, Meduno\, Italien
END:VEVENT
BEGIN:VEVENT
DTSTART;TZID=UTC:20170604T113000
DTEND;TZID=UTC:20170604T133000
DTSTAMP:20260426T040833
CREATED:20170524T095052Z
LAST-MODIFIED:20170524T095052Z
UID:10000436-1496575800-1496583000@aniada.at
SUMMARY:In Compagnia im Agriturismo Ai Padrons / Meduno
DESCRIPTION:im Rahmen des Projektes Folk in Tour : http://www.folkintour.it \n  \nTickets : info@folkintour.it
URL:https://aniada.at/event/in-compagnia-im-agriturismo-ai-padrons-meduno-2/
LOCATION:Meduno Agriturismo Al Padrons\, Via Tomba\, Meduno\, Italien
END:VEVENT
END:VCALENDAR