BEGIN:VCALENDAR
VERSION:2.0
PRODID:-//Aniada a Noar - ECPv6.15.11//NONSGML v1.0//EN
CALSCALE:GREGORIAN
METHOD:PUBLISH
X-WR-CALNAME:Aniada a Noar
X-ORIGINAL-URL:https://aniada.at
X-WR-CALDESC:Veranstaltungen für Aniada a Noar
REFRESH-INTERVAL;VALUE=DURATION:PT1H
X-Robots-Tag:noindex
X-PUBLISHED-TTL:PT1H
BEGIN:VTIMEZONE
TZID:UTC
BEGIN:STANDARD
TZOFFSETFROM:+0000
TZOFFSETTO:+0000
TZNAME:UTC
DTSTART:20140101T000000
END:STANDARD
END:VTIMEZONE
BEGIN:VEVENT
DTSTART;VALUE=DATE:20150418
DTEND;VALUE=DATE:20150419
DTSTAMP:20260422T213744
CREATED:20150126T213606Z
LAST-MODIFIED:20150126T213606Z
UID:10000310-1429315200-1429401599@aniada.at
SUMMARY:Aniada a Noar in Mürzzuschlag (A)
DESCRIPTION:polka potente
URL:https://aniada.at/event/aniada-a-noar-in-muerzzuschlag-a/
LOCATION:Mürzzuschlag Kunsthaus Mürz\, Österreich
END:VEVENT
END:VCALENDAR