BEGIN:VCALENDAR
VERSION:2.0
PRODID:-//Aniada a Noar - ECPv6.15.11//NONSGML v1.0//EN
CALSCALE:GREGORIAN
METHOD:PUBLISH
X-ORIGINAL-URL:https://aniada.at
X-WR-CALDESC:Veranstaltungen für Aniada a Noar
REFRESH-INTERVAL;VALUE=DURATION:PT1H
X-Robots-Tag:noindex
X-PUBLISHED-TTL:PT1H
BEGIN:VTIMEZONE
TZID:UTC
BEGIN:STANDARD
TZOFFSETFROM:+0000
TZOFFSETTO:+0000
TZNAME:UTC
DTSTART:20150101T000000
END:STANDARD
END:VTIMEZONE
BEGIN:VEVENT
DTSTART;TZID=UTC:20191108T190000
DTEND;TZID=UTC:20191108T210000
DTSTAMP:20260424T013901
CREATED:20190108T071630Z
LAST-MODIFIED:20190108T071630Z
UID:10000500-1573239600-1573246800@aniada.at
SUMMARY:Aniada a Noar im Dachbodentheater in Voitsberg
DESCRIPTION:Lesung und Musik mit Gabi Zagler.
URL:https://aniada.at/event/aniada-a-noar-im-dachbodentheater-in-voitsberg-2/
LOCATION:Voitsberg Stadtsäle\, Schillerstraße 4\, Voitsberg\, Steiermark\, 8570\, Österreich
ORGANIZER;CN="Stadtgemeinde Voitsberg":MAILTO:stadtgemeinde@voitsberg.gv.at
END:VEVENT
BEGIN:VEVENT
DTSTART;TZID=UTC:20191108T190000
DTEND;TZID=UTC:20191108T210000
DTSTAMP:20260424T013901
CREATED:20190108T071630Z
LAST-MODIFIED:20191022T053502Z
UID:10000174-1573239600-1573246800@aniada.at
SUMMARY:Aniada a Noar im Dachbodentheater in Voitsberg
DESCRIPTION:Lesung und Musik mit Gabi Zagler.
URL:https://aniada.at/event/aniada-a-noar-im-dachbodentheater-in-voitsberg/
LOCATION:Voitsberg Stadtsäle\, Schillerstraße 4\, Voitsberg\, Steiermark\, 8570\, Österreich
ORGANIZER;CN="Stadtgemeinde Voitsberg":MAILTO:stadtgemeinde@voitsberg.gv.at
END:VEVENT
BEGIN:VEVENT
DTSTART;TZID=UTC:20161119T193000
DTEND;TZID=UTC:20161119T213000
DTSTAMP:20260424T013901
CREATED:20160121T092451Z
LAST-MODIFIED:20161025T091452Z
UID:10000024-1479583800-1479591000@aniada.at
SUMMARY:Aniada a Noar in Voitsberg (A)
DESCRIPTION:Programm „33“ – 3 Männer – 33 Jahre live auf der Bühne
URL:https://aniada.at/event/aniada-a-noar-in-voitsberg-a/
LOCATION:Voitsberg Stadtsäle\, Schillerstraße 4\, Voitsberg\, Steiermark\, 8570\, Österreich
ORGANIZER;CN="Stadtgemeinde Voitsberg":MAILTO:stadtgemeinde@voitsberg.gv.at
END:VEVENT
BEGIN:VEVENT
DTSTART;TZID=UTC:20161119T193000
DTEND;TZID=UTC:20161119T213000
DTSTAMP:20260424T013901
CREATED:20160121T092451Z
LAST-MODIFIED:20160121T092451Z
UID:10000374-1479583800-1479591000@aniada.at
SUMMARY:Aniada a Noar in Voitsberg (A)
DESCRIPTION:Programm „33“ – 3 Männer – 33 Jahre live auf der Bühne
URL:https://aniada.at/event/aniada-a-noar-in-voitsberg-a-2/
LOCATION:Voitsberg Stadtsäle\, Schillerstraße 4\, Voitsberg\, Steiermark\, 8570\, Österreich
ORGANIZER;CN="Stadtgemeinde Voitsberg":MAILTO:stadtgemeinde@voitsberg.gv.at
END:VEVENT
END:VCALENDAR