BEGIN:VCALENDAR
VERSION:2.0
PRODID:-//Aniada a Noar - ECPv6.15.11//NONSGML v1.0//EN
CALSCALE:GREGORIAN
METHOD:PUBLISH
X-ORIGINAL-URL:https://aniada.at
X-WR-CALDESC:Veranstaltungen für Aniada a Noar
REFRESH-INTERVAL;VALUE=DURATION:PT1H
X-Robots-Tag:noindex
X-PUBLISHED-TTL:PT1H
BEGIN:VTIMEZONE
TZID:UTC
BEGIN:STANDARD
TZOFFSETFROM:+0000
TZOFFSETTO:+0000
TZNAME:UTC
DTSTART:20160101T000000
END:STANDARD
END:VTIMEZONE
BEGIN:VEVENT
DTSTART;TZID=UTC:20170610T193000
DTEND;TZID=UTC:20170610T203000
DTSTAMP:20260426T040900
CREATED:20170215T131721Z
LAST-MODIFIED:20170216T131028Z
UID:10000091-1497123000-1497126600@aniada.at
SUMMARY:Aniada Noar und August Schmölzer in Hartberg im Rahmen von "Literatur und Musik"
DESCRIPTION:„Aniada a Noar und August Schmölzer“ \nAn einem Abend mit Literatur und Musik verschmelzen Aniada a Noar und August Schmölzer ineinander. Es ist ein sich Gegenseitiges Ergänzen\, ein Abend mit Tiefe\, Freude und Humor\, alles was das Herz des Hörers und Schauers begehrt. \nNichts wird ausgelassen außer die LANGEWEILE.
URL:https://aniada.at/event/aniada-noar-und-august-schmoelzer-in-hartberg-im-rahmen-von-literatur-und-musik/
ORGANIZER;CN="leykam Buchhandelsges.m.b.H":MAILTO:gerlinde.wiesenhofer@leykam-buch.at
END:VEVENT
BEGIN:VEVENT
DTSTART;TZID=UTC:20170610T193000
DTEND;TZID=UTC:20170610T203000
DTSTAMP:20260426T040900
CREATED:20170215T131721Z
LAST-MODIFIED:20170215T131721Z
UID:10000421-1497123000-1497126600@aniada.at
SUMMARY:Aniada Noar und August Schmölzer in Hartberg im Rahmen von "Literatur und Musik"
DESCRIPTION:„Aniada a Noar und August Schmölzer“ \nAn einem Abend mit Literatur und Musik verschmelzen Aniada a Noar und August Schmölzer ineinander. Es ist ein sich Gegenseitiges Ergänzen\, ein Abend mit Tiefe\, Freude und Humor\, alles was das Herz des Hörers und Schauers begehrt. \nNichts wird ausgelassen außer die LANGEWEILE.
URL:https://aniada.at/event/aniada-noar-und-august-schmoelzer-in-hartberg-im-rahmen-von-literatur-und-musik-2/
ORGANIZER;CN="leykam Buchhandelsges.m.b.H":MAILTO:gerlinde.wiesenhofer@leykam-buch.at
END:VEVENT
END:VCALENDAR