BEGIN:VCALENDAR
VERSION:2.0
PRODID:-//Aniada a Noar - ECPv6.15.11//NONSGML v1.0//EN
CALSCALE:GREGORIAN
METHOD:PUBLISH
X-ORIGINAL-URL:https://aniada.at
X-WR-CALDESC:Veranstaltungen für Aniada a Noar
REFRESH-INTERVAL;VALUE=DURATION:PT1H
X-Robots-Tag:noindex
X-PUBLISHED-TTL:PT1H
BEGIN:VTIMEZONE
TZID:UTC
BEGIN:STANDARD
TZOFFSETFROM:+0000
TZOFFSETTO:+0000
TZNAME:UTC
DTSTART:20200101T000000
END:STANDARD
END:VTIMEZONE
BEGIN:VEVENT
DTSTART;TZID=UTC:20210718T103000
DTEND;TZID=UTC:20210718T120000
DTSTAMP:20260422T200652
CREATED:20210506T084043Z
LAST-MODIFIED:20210511T062718Z
UID:10000231-1626604200-1626609600@aniada.at
SUMMARY:40 Jahre ANIADA A NOAR im Sensenwerk Deutschfeistritz
DESCRIPTION:So. 18. Juli     10:30 h\nDeutschfeistritz Sensenwerk\n8121 Deutschfeistritz\nKulturverein Sensenwerk\n+43 3127 42200
URL:https://aniada.at/event/40-jahre-aniada-a-noar-im-sensenwerk-deutschfeistritz/
LOCATION:Deutschfeitritz Sensenwerk\, Sensenwerk\, Deutschfeitritz\, Steiermark\, 8121
END:VEVENT
BEGIN:VEVENT
DTSTART;TZID=UTC:20210718T103000
DTEND;TZID=UTC:20210718T120000
DTSTAMP:20260422T200652
CREATED:20210506T084043Z
LAST-MODIFIED:20210506T084043Z
UID:10000567-1626604200-1626609600@aniada.at
SUMMARY:40 Jahre ANIADA A NOAR im Sensenwerk Deutschfeistritz
DESCRIPTION:So. 18. Juli     10:30 h\nDeutschfeistritz Sensenwerk\n8121 Deutschfeistritz\nKulturverein Sensenwerk\n+43 3127 42200
URL:https://aniada.at/event/40-jahre-aniada-a-noar-im-sensenwerk-deutschfeistritz-2/
LOCATION:Deutschfeitritz Sensenwerk\, Sensenwerk\, Deutschfeitritz\, Steiermark\, 8121
END:VEVENT
END:VCALENDAR