BEGIN:VCALENDAR
VERSION:2.0
PRODID:-//Aniada a Noar - ECPv6.15.11//NONSGML v1.0//EN
CALSCALE:GREGORIAN
METHOD:PUBLISH
X-ORIGINAL-URL:https://aniada.at
X-WR-CALDESC:Veranstaltungen für Aniada a Noar
REFRESH-INTERVAL;VALUE=DURATION:PT1H
X-Robots-Tag:noindex
X-PUBLISHED-TTL:PT1H
BEGIN:VTIMEZONE
TZID:UTC
BEGIN:STANDARD
TZOFFSETFROM:+0000
TZOFFSETTO:+0000
TZNAME:UTC
DTSTART:20210101T000000
END:STANDARD
END:VTIMEZONE
BEGIN:VEVENT
DTSTART;TZID=UTC:20221023T110000
DTEND;TZID=UTC:20221023T130000
DTSTAMP:20260421T212233
CREATED:20220816T101244Z
LAST-MODIFIED:20220816T101244Z
UID:10000280-1666522800-1666530000@aniada.at
SUMMARY:ANIADA A NOAR & Martin Moro beim Folkart Festival Graz
DESCRIPTION:Matinee im Kultursalon Graz
URL:https://aniada.at/event/aniada-a-noar-martin-moro-beim-folkart-festival-graz/
LOCATION:Graz Kult\, Herrengasse 3/III\, Graz\, 8010
ORGANIZER;CN="Folkart Festival Graz":MAILTO:office@folkart.at
END:VEVENT
BEGIN:VEVENT
DTSTART;TZID=UTC:20221023T110000
DTEND;TZID=UTC:20221023T130000
DTSTAMP:20260421T212233
CREATED:20220816T101244Z
LAST-MODIFIED:20220816T101244Z
UID:10000619-1666522800-1666530000@aniada.at
SUMMARY:ANIADA A NOAR & Martin Moro beim Folkart Festival Graz
DESCRIPTION:Matinee im Kultursalon Graz
URL:https://aniada.at/event/aniada-a-noar-martin-moro-beim-folkart-festival-graz-2/
LOCATION:Graz Kult\, Herrengasse 3/III\, Graz\, 8010
ORGANIZER;CN="Folkart Festival Graz":MAILTO:office@folkart.at
END:VEVENT
END:VCALENDAR