BEGIN:VCALENDAR
VERSION:2.0
PRODID:-//Aniada a Noar - ECPv6.15.11//NONSGML v1.0//EN
CALSCALE:GREGORIAN
METHOD:PUBLISH
X-ORIGINAL-URL:https://aniada.at
X-WR-CALDESC:Veranstaltungen für Aniada a Noar
REFRESH-INTERVAL;VALUE=DURATION:PT1H
X-Robots-Tag:noindex
X-PUBLISHED-TTL:PT1H
BEGIN:VTIMEZONE
TZID:UTC
BEGIN:STANDARD
TZOFFSETFROM:+0000
TZOFFSETTO:+0000
TZNAME:UTC
DTSTART:20170101T000000
END:STANDARD
END:VTIMEZONE
BEGIN:VEVENT
DTSTART;TZID=UTC:20180602T180000
DTEND;TZID=UTC:20180602T190000
DTSTAMP:20260425T055228
CREATED:20180416T082427Z
LAST-MODIFIED:20180416T082427Z
UID:10000147-1527962400-1527966000@aniada.at
SUMMARY:Aniada a Noar beim Folk in Tour Festival in Paluzza (Friaul- Julisch Ventien)
DESCRIPTION:
URL:https://aniada.at/event/aniada-a-noar-beim-folk-in-tour-festival-in-paluzza-friaul-julisch-ventien/
LOCATION:Paluzza\, Segheria Veneziana\, Paluzza\, Friaul Julisch Venetien\, Italien
END:VEVENT
BEGIN:VEVENT
DTSTART;TZID=UTC:20180602T180000
DTEND;TZID=UTC:20180602T190000
DTSTAMP:20260425T055228
CREATED:20180416T082427Z
LAST-MODIFIED:20180416T082427Z
UID:10000466-1527962400-1527966000@aniada.at
SUMMARY:Aniada a Noar beim Folk in Tour Festival in Paluzza (Friaul- Julisch Ventien)
DESCRIPTION:
URL:https://aniada.at/event/aniada-a-noar-beim-folk-in-tour-festival-in-paluzza-friaul-julisch-ventien-2/
LOCATION:Paluzza\, Segheria Veneziana\, Paluzza\, Friaul Julisch Venetien\, Italien
END:VEVENT
END:VCALENDAR