BEGIN:VCALENDAR
VERSION:2.0
PRODID:-//Aniada a Noar - ECPv6.15.11//NONSGML v1.0//EN
CALSCALE:GREGORIAN
METHOD:PUBLISH
X-ORIGINAL-URL:https://aniada.at
X-WR-CALDESC:Veranstaltungen für Aniada a Noar
REFRESH-INTERVAL;VALUE=DURATION:PT1H
X-Robots-Tag:noindex
X-PUBLISHED-TTL:PT1H
BEGIN:VTIMEZONE
TZID:UTC
BEGIN:STANDARD
TZOFFSETFROM:+0000
TZOFFSETTO:+0000
TZNAME:UTC
DTSTART:20180101T000000
END:STANDARD
END:VTIMEZONE
BEGIN:VEVENT
DTSTART;TZID=UTC:20190519T120000
DTEND;TZID=UTC:20190519T140000
DTSTAMP:20260424T112723
CREATED:20190424T090157Z
LAST-MODIFIED:20190424T090157Z
UID:10000504-1558267200-1558274400@aniada.at
SUMMARY:In Compagnia beim Festival  „Cantomaggio“ / gemeinsame Abschlussveranstaltung
DESCRIPTION:Sonntag\, 19. Mai   ca. 12 h \nFestival „Cantomaggio“\, gemeinsame Abschlussveranstaltung \nCentro Storico
URL:https://aniada.at/event/in-compagnia-beim-festival-cantomaggio-gemeinsame-abschlussveranstaltung-2/
LOCATION:Morro d’Alba Centro Storico\, Morro d´Alba (AN)\, 60030\, Italien
END:VEVENT
BEGIN:VEVENT
DTSTART;TZID=UTC:20190519T120000
DTEND;TZID=UTC:20190519T140000
DTSTAMP:20260424T112723
CREATED:20190424T090157Z
LAST-MODIFIED:20190424T090157Z
UID:10000182-1558267200-1558274400@aniada.at
SUMMARY:In Compagnia beim Festival  „Cantomaggio“ / gemeinsame Abschlussveranstaltung
DESCRIPTION:Sonntag\, 19. Mai   ca. 12 h \nFestival „Cantomaggio“\, gemeinsame Abschlussveranstaltung \nCentro Storico
URL:https://aniada.at/event/in-compagnia-beim-festival-cantomaggio-gemeinsame-abschlussveranstaltung/
LOCATION:Morro d’Alba Centro Storico\, Morro d´Alba (AN)\, 60030\, Italien
END:VEVENT
END:VCALENDAR