BEGIN:VCALENDAR
VERSION:2.0
PRODID:-//Aniada a Noar - ECPv6.15.11//NONSGML v1.0//EN
CALSCALE:GREGORIAN
METHOD:PUBLISH
X-ORIGINAL-URL:https://aniada.at
X-WR-CALDESC:Veranstaltungen für Aniada a Noar
REFRESH-INTERVAL;VALUE=DURATION:PT1H
X-Robots-Tag:noindex
X-PUBLISHED-TTL:PT1H
BEGIN:VTIMEZONE
TZID:UTC
BEGIN:STANDARD
TZOFFSETFROM:+0000
TZOFFSETTO:+0000
TZNAME:UTC
DTSTART:20210101T000000
END:STANDARD
END:VTIMEZONE
BEGIN:VEVENT
DTSTART;TZID=UTC:20220709T200000
DTEND;TZID=UTC:20220709T220000
DTSTAMP:20260421T211823
CREATED:20220307T100920Z
LAST-MODIFIED:20220523T140748Z
UID:10000183-1657396800-1657404000@aniada.at
SUMMARY:ANIADA A NOAR & Martin Moro in der Brücke Graz
DESCRIPTION:
URL:https://aniada.at/event/aniada-a-noar-martin-moro-in-der-bruecke-graz/
LOCATION:Graz Die Brücke\, Grabenstraße 39\, 8020 Graz\, www.bruecke-graz.com\, Österreich
ORGANIZER;CN="Die Br%C3%BCcke":MAILTO:office@bruecke-graz.com
END:VEVENT
BEGIN:VEVENT
DTSTART;TZID=UTC:20220709T200000
DTEND;TZID=UTC:20220709T220000
DTSTAMP:20260421T211823
CREATED:20220307T100920Z
LAST-MODIFIED:20220307T100920Z
UID:10000604-1657396800-1657404000@aniada.at
SUMMARY:ANIADA A NOAR & Martin Moro in der Brücke Graz
DESCRIPTION:
URL:https://aniada.at/event/aniada-a-noar-martin-moro-in-der-bruecke-graz-2/
LOCATION:Graz Die Brücke\, Grabenstraße 39\, 8020 Graz\, www.bruecke-graz.com\, Österreich
ORGANIZER;CN="Die Br%C3%BCcke":MAILTO:office@bruecke-graz.com
END:VEVENT
BEGIN:VEVENT
DTSTART;TZID=UTC:20220714T170000
DTEND;TZID=UTC:20220714T220000
DTSTAMP:20260421T211823
CREATED:20220518T150056Z
LAST-MODIFIED:20220518T150056Z
UID:10000611-1657818000-1657836000@aniada.at
SUMMARY:ANIADA A NOAR bei Donnerszenen in Klagenfurt
DESCRIPTION:
URL:https://aniada.at/event/aniada-a-noar-bei-donnerszenen-in-klagenfurt-2/
LOCATION:Klagenfurt Bamberger Hof\, Alter Platz 22\, Klagenfurt\, 9020
END:VEVENT
BEGIN:VEVENT
DTSTART;TZID=UTC:20220714T170000
DTEND;TZID=UTC:20220714T220000
DTSTAMP:20260421T211823
CREATED:20220518T150056Z
LAST-MODIFIED:20220518T150056Z
UID:10000272-1657818000-1657836000@aniada.at
SUMMARY:ANIADA A NOAR bei Donnerszenen in Klagenfurt
DESCRIPTION:
URL:https://aniada.at/event/aniada-a-noar-bei-donnerszenen-in-klagenfurt/
LOCATION:Klagenfurt Bamberger Hof\, Alter Platz 22\, Klagenfurt\, 9020
END:VEVENT
BEGIN:VEVENT
DTSTART;TZID=UTC:20220715T200000
DTEND;TZID=UTC:20220715T220000
DTSTAMP:20260421T211823
CREATED:20220307T101438Z
LAST-MODIFIED:20220307T101438Z
UID:10000605-1657915200-1657922400@aniada.at
SUMMARY:ANIADA A NOAR& Martin Moro im Schilcherhof Ligist
DESCRIPTION:Sommerfestival 2022
URL:https://aniada.at/event/aniada-a-noar-martin-moro-im-schilcherhof-ligist-2/
ORGANIZER;CN="Schilcherhof":MAILTO:schilcherhof@schilcherhof.at
END:VEVENT
BEGIN:VEVENT
DTSTART;TZID=UTC:20220715T200000
DTEND;TZID=UTC:20220715T220000
DTSTAMP:20260421T211823
CREATED:20220307T101438Z
LAST-MODIFIED:20220307T101438Z
UID:10000185-1657915200-1657922400@aniada.at
SUMMARY:ANIADA A NOAR& Martin Moro im Schilcherhof Ligist
DESCRIPTION:Sommerfestival 2022
URL:https://aniada.at/event/aniada-a-noar-martin-moro-im-schilcherhof-ligist/
ORGANIZER;CN="Schilcherhof":MAILTO:schilcherhof@schilcherhof.at
END:VEVENT
BEGIN:VEVENT
DTSTART;TZID=UTC:20220716T200000
DTEND;TZID=UTC:20220716T210000
DTSTAMP:20260421T211823
CREATED:20220512T071431Z
LAST-MODIFIED:20220512T071431Z
UID:10000609-1658001600-1658005200@aniada.at
SUMMARY:Aniada a Noar & Martin Moro und Lothar Lässer beim Kultursommer Wien
DESCRIPTION:
URL:https://aniada.at/event/aniada-a-noar-martin-moro-und-lothar-laesser-beim-kultursommer-wien-2/
LOCATION:Wien Herderpark\, Herderpark\, Wien\, 1110
ORGANIZER;CN="Kultursommer Wien":MAILTO:info@kultursommer.wien.at
END:VEVENT
BEGIN:VEVENT
DTSTART;TZID=UTC:20220716T200000
DTEND;TZID=UTC:20220716T210000
DTSTAMP:20260421T211823
CREATED:20220512T071431Z
LAST-MODIFIED:20220512T075155Z
UID:10000270-1658001600-1658005200@aniada.at
SUMMARY:Aniada a Noar & Martin Moro und Lothar Lässer beim Kultursommer Wien
DESCRIPTION:
URL:https://aniada.at/event/aniada-a-noar-martin-moro-und-lothar-laesser-beim-kultursommer-wien/
LOCATION:Wien Herderpark\, Herderpark\, Wien\, 1110
ORGANIZER;CN="Kultursommer Wien":MAILTO:info@kultursommer.wien.at
END:VEVENT
BEGIN:VEVENT
DTSTART;TZID=UTC:20220723T170000
DTEND;TZID=UTC:20220723T220000
DTSTAMP:20260421T211823
CREATED:20220607T151410Z
LAST-MODIFIED:20220607T151410Z
UID:10000612-1658595600-1658613600@aniada.at
SUMMARY:ANIADA A NOAR & Martin Moro bei der Klangstadt Hall
DESCRIPTION:verschiedene Künstler musizieren in Gastgärten & Plätzen der Altstadt Hall
URL:https://aniada.at/event/aniada-a-noar-martin-moro-bei-der-klangstadt-hall-2/
LOCATION:Klangstadt Hall\, Altstadt\, Hall\, 6060
ORGANIZER;CN="Klangstadt Hall":MAILTO:office@ivkultur.at
END:VEVENT
BEGIN:VEVENT
DTSTART;TZID=UTC:20220723T170000
DTEND;TZID=UTC:20220723T220000
DTSTAMP:20260421T211823
CREATED:20220607T151410Z
LAST-MODIFIED:20220607T151410Z
UID:10000273-1658595600-1658613600@aniada.at
SUMMARY:ANIADA A NOAR & Martin Moro bei der Klangstadt Hall
DESCRIPTION:verschiedene Künstler musizieren in Gastgärten & Plätzen der Altstadt Hall
URL:https://aniada.at/event/aniada-a-noar-martin-moro-bei-der-klangstadt-hall/
LOCATION:Klangstadt Hall\, Altstadt\, Hall\, 6060
ORGANIZER;CN="Klangstadt Hall":MAILTO:office@ivkultur.at
END:VEVENT
BEGIN:VEVENT
DTSTART;TZID=UTC:20220731T170000
DTEND;TZID=UTC:20220731T190000
DTSTAMP:20260421T211823
CREATED:20220613T141653Z
LAST-MODIFIED:20220613T141653Z
UID:10000613-1659286800-1659294000@aniada.at
SUMMARY:ANIADA A NOAR "FELICITÁ" im Stieglerhaus St. Stefan
DESCRIPTION:In Compagnia mit Emma Montanari\, Flavio Bortuzzo\, Giulio Venier & Lothar Lässer
URL:https://aniada.at/event/aniada-a-noar-in-compagnia-im-stieglerhaus-st-stefan-2/
LOCATION:St. Stefan Stieglerhaus\, St.Stefan ob Stainz 14\, St. Stefan ob Stainz\, 8511
ORGANIZER;CN="St. Stefan Stieglerhaus":MAILTO:tickets@stieglerhaus.at
END:VEVENT
BEGIN:VEVENT
DTSTART;TZID=UTC:20220731T170000
DTEND;TZID=UTC:20220731T190000
DTSTAMP:20260421T211823
CREATED:20220613T141653Z
LAST-MODIFIED:20221021T135745Z
UID:10000274-1659286800-1659294000@aniada.at
SUMMARY:ANIADA A NOAR "FELICITÁ" im Stieglerhaus St. Stefan
DESCRIPTION:In Compagnia mit Emma Montanari\, Flavio Bortuzzo\, Giulio Venier & Lothar Lässer
URL:https://aniada.at/event/aniada-a-noar-in-compagnia-im-stieglerhaus-st-stefan/
LOCATION:St. Stefan Stieglerhaus\, St.Stefan ob Stainz 14\, St. Stefan ob Stainz\, 8511
ORGANIZER;CN="St. Stefan Stieglerhaus":MAILTO:tickets@stieglerhaus.at
END:VEVENT
END:VCALENDAR