BEGIN:VCALENDAR
VERSION:2.0
PRODID:-//Aniada a Noar - ECPv6.15.11//NONSGML v1.0//EN
CALSCALE:GREGORIAN
METHOD:PUBLISH
X-WR-CALNAME:Aniada a Noar
X-ORIGINAL-URL:https://aniada.at
X-WR-CALDESC:Veranstaltungen für Aniada a Noar
REFRESH-INTERVAL;VALUE=DURATION:PT1H
X-Robots-Tag:noindex
X-PUBLISHED-TTL:PT1H
BEGIN:VTIMEZONE
TZID:UTC
BEGIN:STANDARD
TZOFFSETFROM:+0000
TZOFFSETTO:+0000
TZNAME:UTC
DTSTART:20210101T000000
END:STANDARD
END:VTIMEZONE
BEGIN:VEVENT
DTSTART;TZID=UTC:20220505T203000
DTEND;TZID=UTC:20220505T223000
DTSTAMP:20260422T003027
CREATED:20220307T085619Z
LAST-MODIFIED:20220307T085619Z
UID:10000597-1651782600-1651789800@aniada.at
SUMMARY:ANIADA A NOAR & Martin Moro in München
DESCRIPTION:
URL:https://aniada.at/event/aniada-a-noar-martin-moro-in-muenchen-2/
ORGANIZER;CN="Theater Fraunhofer":MAILTO:info@fraunhofertheater.de
END:VEVENT
BEGIN:VEVENT
DTSTART;TZID=UTC:20220505T203000
DTEND;TZID=UTC:20220505T223000
DTSTAMP:20260422T003027
CREATED:20220307T085619Z
LAST-MODIFIED:20220307T085619Z
UID:10000169-1651782600-1651789800@aniada.at
SUMMARY:ANIADA A NOAR & Martin Moro in München
DESCRIPTION:
URL:https://aniada.at/event/aniada-a-noar-martin-moro-in-muenchen/
ORGANIZER;CN="Theater Fraunhofer":MAILTO:info@fraunhofertheater.de
END:VEVENT
BEGIN:VEVENT
DTSTART;TZID=UTC:20220506T200000
DTEND;TZID=UTC:20220506T220000
DTSTAMP:20260422T003027
CREATED:20220307T091010Z
LAST-MODIFIED:20220307T091010Z
UID:10000171-1651867200-1651874400@aniada.at
SUMMARY:ANIADA A NOAR & Martin Moro in Oberhaching
DESCRIPTION:
URL:https://aniada.at/event/aniada-a-noar-martin-moro-in-oberhaching/
LOCATION:Oberhaching Bürgersaal „Beim Forstner“\, Kybergstr. 2\, Oberhaching\, 82041\, Deutschland
END:VEVENT
BEGIN:VEVENT
DTSTART;TZID=UTC:20220506T200000
DTEND;TZID=UTC:20220506T220000
DTSTAMP:20260422T003027
CREATED:20220307T091010Z
LAST-MODIFIED:20220307T091010Z
UID:10000598-1651867200-1651874400@aniada.at
SUMMARY:ANIADA A NOAR & Martin Moro in Oberhaching
DESCRIPTION:
URL:https://aniada.at/event/aniada-a-noar-martin-moro-in-oberhaching-2/
LOCATION:Oberhaching Bürgersaal „Beim Forstner“\, Kybergstr. 2\, Oberhaching\, 82041\, Deutschland
END:VEVENT
BEGIN:VEVENT
DTSTART;TZID=UTC:20220507T201500
DTEND;TZID=UTC:20220507T223000
DTSTAMP:20260422T003027
CREATED:20220307T091552Z
LAST-MODIFIED:20220307T091552Z
UID:10000173-1651954500-1651962600@aniada.at
SUMMARY:ANIADA A NOAR & Martin Moro in Gaspoltshofen
DESCRIPTION:
URL:https://aniada.at/event/aniada-a-noar-martin-moro-in-gaspoltshofen/
LOCATION:Gaspoltshofen Spielraum\, Hauptstraße 47\, Gaspoltshofen\, Oberösterreich\, 4673\, Österreich
ORGANIZER;CN="Gaspoltshofen Kulturinitiative Spielraum":MAILTO:office@spielraum.at
END:VEVENT
BEGIN:VEVENT
DTSTART;TZID=UTC:20220507T201500
DTEND;TZID=UTC:20220507T223000
DTSTAMP:20260422T003027
CREATED:20220307T091552Z
LAST-MODIFIED:20220307T091552Z
UID:10000599-1651954500-1651962600@aniada.at
SUMMARY:ANIADA A NOAR & Martin Moro in Gaspoltshofen
DESCRIPTION:
URL:https://aniada.at/event/aniada-a-noar-martin-moro-in-gaspoltshofen-2/
LOCATION:Gaspoltshofen Spielraum\, Hauptstraße 47\, Gaspoltshofen\, Oberösterreich\, 4673\, Österreich
ORGANIZER;CN="Gaspoltshofen Kulturinitiative Spielraum":MAILTO:office@spielraum.at
END:VEVENT
BEGIN:VEVENT
DTSTART;TZID=UTC:20220515T100000
DTEND;TZID=UTC:20220515T123000
DTSTAMP:20260422T003027
CREATED:20220307T093602Z
LAST-MODIFIED:20220307T093602Z
UID:10000175-1652608800-1652617800@aniada.at
SUMMARY:ANIADA A NOAR & Martin Moro im Hotel Savoyen\, Wien
DESCRIPTION:Matinee für Otto Tausig.\nMit Konstantin Wecker\, Paul Gulda\, Michael Dangl\, Martin Spengler & Die foischn Wiener\, Aniada a Noar & Martin Moro\nReservierungen: dastheaterhotel.at/theaterhotel/karten-reservieren
URL:https://aniada.at/event/aniada-a-noar-martin-moro-im-hotel-savoyen-wien/
LOCATION:Wien Hotel Savoyen\, Rennweg 16\, Wien\, Wien\, 1030
END:VEVENT
BEGIN:VEVENT
DTSTART;TZID=UTC:20220515T100000
DTEND;TZID=UTC:20220515T123000
DTSTAMP:20260422T003027
CREATED:20220307T093602Z
LAST-MODIFIED:20220307T093602Z
UID:10000600-1652608800-1652617800@aniada.at
SUMMARY:ANIADA A NOAR & Martin Moro im Hotel Savoyen\, Wien
DESCRIPTION:Matinee für Otto Tausig.\nMit Konstantin Wecker\, Paul Gulda\, Michael Dangl\, Martin Spengler & Die foischn Wiener\, Aniada a Noar & Martin Moro\nReservierungen: dastheaterhotel.at/theaterhotel/karten-reservieren
URL:https://aniada.at/event/aniada-a-noar-martin-moro-im-hotel-savoyen-wien-2/
LOCATION:Wien Hotel Savoyen\, Rennweg 16\, Wien\, Wien\, 1030
END:VEVENT
END:VCALENDAR