BEGIN:VCALENDAR
VERSION:2.0
PRODID:-//Aniada a Noar - ECPv6.15.11//NONSGML v1.0//EN
CALSCALE:GREGORIAN
METHOD:PUBLISH
X-WR-CALNAME:Aniada a Noar
X-ORIGINAL-URL:https://aniada.at
X-WR-CALDESC:Veranstaltungen für Aniada a Noar
REFRESH-INTERVAL;VALUE=DURATION:PT1H
X-Robots-Tag:noindex
X-PUBLISHED-TTL:PT1H
BEGIN:VTIMEZONE
TZID:UTC
BEGIN:STANDARD
TZOFFSETFROM:+0000
TZOFFSETTO:+0000
TZNAME:UTC
DTSTART:20210101T000000
END:STANDARD
END:VTIMEZONE
BEGIN:VEVENT
DTSTART;TZID=UTC:20220301T190000
DTEND;TZID=UTC:20220301T210000
DTSTAMP:20260422T033220
CREATED:20211203T185005Z
LAST-MODIFIED:20211203T185005Z
UID:10000593-1646161200-1646168400@aniada.at
SUMMARY:ANIADA  A NOAR & Martin Moro mit Maria Gstättner\, Stefan Hecke | Akkordeon Festival Wien
DESCRIPTION:Akkordeon Festival Wien\nANIADA  A NOAR & Martin Moro mit Maria Gstättner\, Stefan Heckel\nOrpheum\, Steigenteschgasse 94 B\, 1220 Wien   +43 1 481 1717  www.orpheum.at
URL:https://aniada.at/event/aniada-a-noar-martin-moro-mit-maria-gstaettner-stefan-hecke-akkordeon-festival-wien-2/
LOCATION:Wien Orpheum\, Steigenteschgasse 94 B\, Wien\, 1220\, Österreich
END:VEVENT
BEGIN:VEVENT
DTSTART;TZID=UTC:20220301T190000
DTEND;TZID=UTC:20220301T210000
DTSTAMP:20260422T033220
CREATED:20211203T185005Z
LAST-MODIFIED:20211203T185026Z
UID:10000262-1646161200-1646168400@aniada.at
SUMMARY:ANIADA  A NOAR & Martin Moro mit Maria Gstättner\, Stefan Hecke | Akkordeon Festival Wien
DESCRIPTION:Akkordeon Festival Wien\nANIADA  A NOAR & Martin Moro mit Maria Gstättner\, Stefan Heckel\nOrpheum\, Steigenteschgasse 94 B\, 1220 Wien   +43 1 481 1717  www.orpheum.at
URL:https://aniada.at/event/aniada-a-noar-martin-moro-mit-maria-gstaettner-stefan-hecke-akkordeon-festival-wien/
LOCATION:Wien Orpheum\, Steigenteschgasse 94 B\, Wien\, 1220\, Österreich
END:VEVENT
BEGIN:VEVENT
DTSTART;TZID=UTC:20220331T200000
DTEND;TZID=UTC:20220331T220000
DTSTAMP:20260422T033220
CREATED:20211203T185338Z
LAST-MODIFIED:20211203T191843Z
UID:10000263-1648756800-1648764000@aniada.at
SUMMARY:ANIADA A NOAR & Martin Moro
DESCRIPTION:NIADA A NOAR & Martin Moro\nMandellstr. 11\, 8010 Graz\n+ 43 (0) 316 842043   www.hinwider.com
URL:https://aniada.at/event/aniada-a-noar-martin-moro-2/
END:VEVENT
BEGIN:VEVENT
DTSTART;TZID=UTC:20220331T200000
DTEND;TZID=UTC:20220331T220000
DTSTAMP:20260422T033220
CREATED:20211203T185338Z
LAST-MODIFIED:20211203T185338Z
UID:10000594-1648756800-1648764000@aniada.at
SUMMARY:ANIADA A NOAR & Martin Moro
DESCRIPTION:NIADA A NOAR & Martin Moro\nMandellstr. 11\, 8010 Graz\n+ 43 (0) 316 842043   www.hinwider.com
URL:https://aniada.at/event/aniada-a-noar-martin-moro-2-3/
END:VEVENT
END:VCALENDAR