BEGIN:VCALENDAR
VERSION:2.0
PRODID:-//Aniada a Noar - ECPv6.15.11//NONSGML v1.0//EN
CALSCALE:GREGORIAN
METHOD:PUBLISH
X-ORIGINAL-URL:https://aniada.at
X-WR-CALDESC:Veranstaltungen für Aniada a Noar
REFRESH-INTERVAL;VALUE=DURATION:PT1H
X-Robots-Tag:noindex
X-PUBLISHED-TTL:PT1H
BEGIN:VTIMEZONE
TZID:UTC
BEGIN:STANDARD
TZOFFSETFROM:+0000
TZOFFSETTO:+0000
TZNAME:UTC
DTSTART:20200101T000000
END:STANDARD
END:VTIMEZONE
BEGIN:VEVENT
DTSTART;TZID=UTC:20211008T193000
DTEND;TZID=UTC:20211008T213000
DTSTAMP:20260422T111303
CREATED:20210729T115421Z
LAST-MODIFIED:20210729T115421Z
UID:10000252-1633721400-1633728600@aniada.at
SUMMARY:40 Jahre ANIADA A NOAR\, Kunsthaus Mürz
DESCRIPTION:Kunsthaus Mürz\, Wiener Strasse 35\, 8680 Mürzzuschlag \n+43 3852 56200 kunst@kunsthausmuerz.at
URL:https://aniada.at/event/40-jahre-aniada-a-noar-kunsthaus-muerz/
LOCATION:Mürzzuschlag Kunsthaus Mürz\, Österreich
END:VEVENT
BEGIN:VEVENT
DTSTART;TZID=UTC:20211008T193000
DTEND;TZID=UTC:20211008T213000
DTSTAMP:20260422T111303
CREATED:20210729T115421Z
LAST-MODIFIED:20210729T115421Z
UID:10000580-1633721400-1633728600@aniada.at
SUMMARY:40 Jahre ANIADA A NOAR\, Kunsthaus Mürz
DESCRIPTION:Kunsthaus Mürz\, Wiener Strasse 35\, 8680 Mürzzuschlag \n+43 3852 56200 kunst@kunsthausmuerz.at
URL:https://aniada.at/event/40-jahre-aniada-a-noar-kunsthaus-muerz-2/
LOCATION:Mürzzuschlag Kunsthaus Mürz\, Österreich
END:VEVENT
BEGIN:VEVENT
DTSTART;TZID=UTC:20211015T193000
DTEND;TZID=UTC:20211015T220000
DTSTAMP:20260422T111303
CREATED:20210729T115648Z
LAST-MODIFIED:20210729T115648Z
UID:10000251-1634326200-1634335200@aniada.at
SUMMARY:40 Jahre ANIADA A NOAR - Kunsthaus Weiz
DESCRIPTION:Kunsthaus\, Rathausgasse 3\, 8160 Weiz\nhttps://www.tourismus-weiz.at/kultur-events/kunsthaus-weiz/
URL:https://aniada.at/event/40-jahre-aniada-a-noar-kunsthaus-weiz/
LOCATION:Weiz Kunsthaus\, Rathausgasse 1\, Weiz\, 8160\, Österreich
END:VEVENT
BEGIN:VEVENT
DTSTART;TZID=UTC:20211015T193000
DTEND;TZID=UTC:20211015T220000
DTSTAMP:20260422T111303
CREATED:20210729T115648Z
LAST-MODIFIED:20210729T115648Z
UID:10000581-1634326200-1634335200@aniada.at
SUMMARY:40 Jahre ANIADA A NOAR - Kunsthaus Weiz
DESCRIPTION:Kunsthaus\, Rathausgasse 3\, 8160 Weiz\nhttps://www.tourismus-weiz.at/kultur-events/kunsthaus-weiz/
URL:https://aniada.at/event/40-jahre-aniada-a-noar-kunsthaus-weiz-2/
LOCATION:Weiz Kunsthaus\, Rathausgasse 1\, Weiz\, 8160\, Österreich
END:VEVENT
END:VCALENDAR