BEGIN:VCALENDAR
VERSION:2.0
PRODID:-//Aniada a Noar - ECPv6.15.11//NONSGML v1.0//EN
CALSCALE:GREGORIAN
METHOD:PUBLISH
X-WR-CALNAME:Aniada a Noar
X-ORIGINAL-URL:https://aniada.at
X-WR-CALDESC:Veranstaltungen für Aniada a Noar
REFRESH-INTERVAL;VALUE=DURATION:PT1H
X-Robots-Tag:noindex
X-PUBLISHED-TTL:PT1H
BEGIN:VTIMEZONE
TZID:UTC
BEGIN:STANDARD
TZOFFSETFROM:+0000
TZOFFSETTO:+0000
TZNAME:UTC
DTSTART:20200101T000000
END:STANDARD
END:VTIMEZONE
BEGIN:VEVENT
DTSTART;TZID=UTC:20210911T200000
DTEND;TZID=UTC:20210911T223000
DTSTAMP:20260422T122657
CREATED:20210729T114354Z
LAST-MODIFIED:20210729T114354Z
UID:10000248-1631390400-1631399400@aniada.at
SUMMARY:40 Jahre ANIADA A NOAR - Warschenhofergut Gallneukirchen
DESCRIPTION:Warschenhofergut\, Punzenberg 9\, 4210 Gallneukirchen \nVerein Gallnsteine: office@gallnsteine.at www.gallnsteine.at \n 
URL:https://aniada.at/event/40-jahre-aniada-a-noar-warschenhofergut-gallneukirchen/
LOCATION:Gallneukirchen Kulturbauernhof Warschenhofer\, Punzenberg 9\, Gallneukirchen\, Oberösterreich\, 4210\, Österreich
END:VEVENT
BEGIN:VEVENT
DTSTART;TZID=UTC:20210911T200000
DTEND;TZID=UTC:20210911T223000
DTSTAMP:20260422T122657
CREATED:20210729T114354Z
LAST-MODIFIED:20210729T114354Z
UID:10000577-1631390400-1631399400@aniada.at
SUMMARY:40 Jahre ANIADA A NOAR - Warschenhofergut Gallneukirchen
DESCRIPTION:Warschenhofergut\, Punzenberg 9\, 4210 Gallneukirchen \nVerein Gallnsteine: office@gallnsteine.at www.gallnsteine.at \n 
URL:https://aniada.at/event/40-jahre-aniada-a-noar-warschenhofergut-gallneukirchen-2/
LOCATION:Gallneukirchen Kulturbauernhof Warschenhofer\, Punzenberg 9\, Gallneukirchen\, Oberösterreich\, 4210\, Österreich
END:VEVENT
BEGIN:VEVENT
DTSTART;TZID=UTC:20210916T193000
DTEND;TZID=UTC:20210916T213000
DTSTAMP:20260422T122658
CREATED:20210729T114759Z
LAST-MODIFIED:20210729T114829Z
UID:10000249-1631820600-1631827800@aniada.at
SUMMARY:40 Jahre ANIADA A NOAR - Museumsdepot Trofaiach
DESCRIPTION:Museumsdepot\, Silvester Heider Platz 1\, 8793 Trofaiach\n+43 699 1300 5202
URL:https://aniada.at/event/40-jahre-aniada-a-noar-museumsdepot-trofaiach/
LOCATION:Trofaiach Museumsdepot\, Silvester Heider Platz 1\, Trofaiach\, 8793
END:VEVENT
BEGIN:VEVENT
DTSTART;TZID=UTC:20210916T193000
DTEND;TZID=UTC:20210916T213000
DTSTAMP:20260422T122658
CREATED:20210729T114759Z
LAST-MODIFIED:20210729T114759Z
UID:10000578-1631820600-1631827800@aniada.at
SUMMARY:40 Jahre ANIADA A NOAR - Museumsdepot Trofaiach
DESCRIPTION:Museumsdepot\, Silvester Heider Platz 1\, 8793 Trofaiach\n+43 699 1300 5202
URL:https://aniada.at/event/40-jahre-aniada-a-noar-museumsdepot-trofaiach-2/
LOCATION:Trofaiach Museumsdepot\, Silvester Heider Platz 1\, Trofaiach\, 8793
END:VEVENT
BEGIN:VEVENT
DTSTART;TZID=UTC:20210930T193000
DTEND;TZID=UTC:20210930T220000
DTSTAMP:20260422T122658
CREATED:20210729T115137Z
LAST-MODIFIED:20210924T043620Z
UID:10000250-1633030200-1633039200@aniada.at
SUMMARY:40 Jahre ANIADA A NOAR - CCW Stainach
DESCRIPTION:CCW\, Bahnhofstrasse 110\, 8950 Steinach\n+43 3682 23250 office@ccw.st www.ccw.st
URL:https://aniada.at/event/40-jahre-aniada-a-noar-ccw-stainach/
LOCATION:Stainach CCW\, Bahnhofstrasse 110\, Steinach\, Steriermark\, 8950\, Österreich
END:VEVENT
BEGIN:VEVENT
DTSTART;TZID=UTC:20210930T193000
DTEND;TZID=UTC:20210930T220000
DTSTAMP:20260422T122658
CREATED:20210729T115137Z
LAST-MODIFIED:20210729T115137Z
UID:10000579-1633030200-1633039200@aniada.at
SUMMARY:40 Jahre ANIADA A NOAR - CCW Stainach
DESCRIPTION:CCW\, Bahnhofstrasse 110\, 8950 Steinach\n+43 3682 23250 office@ccw.st www.ccw.st
URL:https://aniada.at/event/40-jahre-aniada-a-noar-ccw-stainach-2/
LOCATION:Stainach CCW\, Bahnhofstrasse 110\, Steinach\, Steriermark\, 8950\, Österreich
END:VEVENT
END:VCALENDAR