BEGIN:VCALENDAR
VERSION:2.0
PRODID:-//Aniada a Noar - ECPv6.15.11//NONSGML v1.0//EN
CALSCALE:GREGORIAN
METHOD:PUBLISH
X-ORIGINAL-URL:https://aniada.at
X-WR-CALDESC:Veranstaltungen für Aniada a Noar
REFRESH-INTERVAL;VALUE=DURATION:PT1H
X-Robots-Tag:noindex
X-PUBLISHED-TTL:PT1H
BEGIN:VTIMEZONE
TZID:UTC
BEGIN:STANDARD
TZOFFSETFROM:+0000
TZOFFSETTO:+0000
TZNAME:UTC
DTSTART:20190101T000000
END:STANDARD
END:VTIMEZONE
BEGIN:VEVENT
DTSTART;TZID=UTC:20201017T200000
DTEND;TZID=UTC:20201017T210000
DTSTAMP:20260423T045227
CREATED:20201008T080320Z
LAST-MODIFIED:20201008T080320Z
UID:10000224-1602964800-1602968400@aniada.at
SUMMARY:Aniada a Noar mit "Zwitschern" im Kulturverein Bahnhof in Andelsbuch
DESCRIPTION:Samstag\, 17.10.  Bahnhof Andelsbuch  20 Uhr\nKulturverein Bahnhof\, Hof 347\, 6866 Andelsbuch\ninfo@bahnhof.cc    www.bahnhof.cc
URL:https://aniada.at/event/aniada-a-noar-mit-zwitschern-im-kulturverein-bahnhof-in-andelsbuch/
LOCATION:Andeslbuch Bahnhof\, Hof 347\, Andelsbuch\, Vorarlberg\, 6866\, Österreich
END:VEVENT
BEGIN:VEVENT
DTSTART;TZID=UTC:20201017T200000
DTEND;TZID=UTC:20201017T210000
DTSTAMP:20260423T045227
CREATED:20201008T080320Z
LAST-MODIFIED:20201008T080320Z
UID:10000553-1602964800-1602968400@aniada.at
SUMMARY:Aniada a Noar mit "Zwitschern" im Kulturverein Bahnhof in Andelsbuch
DESCRIPTION:Samstag\, 17.10.  Bahnhof Andelsbuch  20 Uhr\nKulturverein Bahnhof\, Hof 347\, 6866 Andelsbuch\ninfo@bahnhof.cc    www.bahnhof.cc
URL:https://aniada.at/event/aniada-a-noar-mit-zwitschern-im-kulturverein-bahnhof-in-andelsbuch-2/
LOCATION:Andeslbuch Bahnhof\, Hof 347\, Andelsbuch\, Vorarlberg\, 6866\, Österreich
END:VEVENT
END:VCALENDAR