BEGIN:VCALENDAR
VERSION:2.0
PRODID:-//Aniada a Noar - ECPv6.15.11//NONSGML v1.0//EN
CALSCALE:GREGORIAN
METHOD:PUBLISH
X-WR-CALNAME:Aniada a Noar
X-ORIGINAL-URL:https://aniada.at
X-WR-CALDESC:Veranstaltungen für Aniada a Noar
REFRESH-INTERVAL;VALUE=DURATION:PT1H
X-Robots-Tag:noindex
X-PUBLISHED-TTL:PT1H
BEGIN:VTIMEZONE
TZID:UTC
BEGIN:STANDARD
TZOFFSETFROM:+0000
TZOFFSETTO:+0000
TZNAME:UTC
DTSTART:20190101T000000
END:STANDARD
END:VTIMEZONE
BEGIN:VEVENT
DTSTART;TZID=UTC:20200508T193000
DTEND;TZID=UTC:20200508T203000
DTSTAMP:20260423T122741
CREATED:20200303T125426Z
LAST-MODIFIED:20200303T125426Z
UID:10000544-1588966200-1588969800@aniada.at
SUMMARY:Aniada a Noar im Kunsthaus Weiz / Abgesagt
DESCRIPTION:Kunsthaus Weiz\nFreitag\, 8. Mai  19:30 Uhr\nRathausgasse 1\, 8160 Weiz\nT +43 3172 2319 620\nM kultur@weiz.at
URL:https://aniada.at/event/aniada-a-noar-im-kunsthaus-weiz-2/
LOCATION:Weiz Kunsthaus\, Rathausgasse 1\, Weiz\, 8160\, Österreich
ORGANIZER;CN="Kunsthaus Weiz":MAILTO:kultur@weiz.at
END:VEVENT
BEGIN:VEVENT
DTSTART;TZID=UTC:20200508T193000
DTEND;TZID=UTC:20200508T203000
DTSTAMP:20260423T122741
CREATED:20200303T125426Z
LAST-MODIFIED:20200518T062131Z
UID:10000134-1588966200-1588969800@aniada.at
SUMMARY:Aniada a Noar im Kunsthaus Weiz / Abgesagt
DESCRIPTION:Kunsthaus Weiz\nFreitag\, 8. Mai  19:30 Uhr\nRathausgasse 1\, 8160 Weiz\nT +43 3172 2319 620\nM kultur@weiz.at
URL:https://aniada.at/event/aniada-a-noar-im-kunsthaus-weiz/
LOCATION:Weiz Kunsthaus\, Rathausgasse 1\, Weiz\, 8160\, Österreich
ORGANIZER;CN="Kunsthaus Weiz":MAILTO:kultur@weiz.at
END:VEVENT
BEGIN:VEVENT
DTSTART;TZID=UTC:20200509T201500
DTEND;TZID=UTC:20200509T211500
DTSTAMP:20260423T122741
CREATED:20200303T125633Z
LAST-MODIFIED:20200303T125633Z
UID:10000545-1589055300-1589058900@aniada.at
SUMMARY:Aniada a Noar im Spielraum Gaspoltshofen / Abgesagt
DESCRIPTION:Gaspoltshofen  Spielraum\nSamstag\, 9. Mai   20:15 Uhr\nSpielraum Kulturinitiative Gaspoltshofen\,\nHauptstrasse 47\, 4673 Gaspoltshofen\n+43 681 81301140\noffice@spielraum.at\nwww.spielraum.at
URL:https://aniada.at/event/aniada-a-noar-im-spielraum-gaspoltshofen-2-2/
LOCATION:Gaspoltshofen Spielraum\, Hauptstraße 47\, Gaspoltshofen\, Oberösterreich\, 4673\, Österreich
ORGANIZER;CN="Gaspoltshofen Kulturinitiative Spielraum":MAILTO:office@spielraum.at
END:VEVENT
BEGIN:VEVENT
DTSTART;TZID=UTC:20200509T201500
DTEND;TZID=UTC:20200509T211500
DTSTAMP:20260423T122741
CREATED:20200303T125633Z
LAST-MODIFIED:20200518T062329Z
UID:10000136-1589055300-1589058900@aniada.at
SUMMARY:Aniada a Noar im Spielraum Gaspoltshofen / Abgesagt
DESCRIPTION:Gaspoltshofen  Spielraum\nSamstag\, 9. Mai   20:15 Uhr\nSpielraum Kulturinitiative Gaspoltshofen\,\nHauptstrasse 47\, 4673 Gaspoltshofen\n+43 681 81301140\noffice@spielraum.at\nwww.spielraum.at
URL:https://aniada.at/event/aniada-a-noar-im-spielraum-gaspoltshofen-2/
LOCATION:Gaspoltshofen Spielraum\, Hauptstraße 47\, Gaspoltshofen\, Oberösterreich\, 4673\, Österreich
ORGANIZER;CN="Gaspoltshofen Kulturinitiative Spielraum":MAILTO:office@spielraum.at
END:VEVENT
BEGIN:VEVENT
DTSTART;TZID=UTC:20200510T200000
DTEND;TZID=UTC:20200510T210000
DTSTAMP:20260423T122741
CREATED:20200303T125940Z
LAST-MODIFIED:20200303T125940Z
UID:10000546-1589140800-1589144400@aniada.at
SUMMARY:Aniada a Noar im Schwab´nstall in Weissenbach / Abgesagt
DESCRIPTION:Schwab’nstall\nSonntag\, 10. Mai  20:00 Uhr  Weissenbach bei Haus im Ennstal\nDorfgemeinschaft Weissenbach  +43 664 4677185
URL:https://aniada.at/event/aniada-a-noar-im-schwabnstall-in-weissenbach-2/
LOCATION:Weissenbach Schwabnstall\, Weissenbach 10\, Weissenbach bei Haus\, Steiermark\, 8967\, Österreich
ORGANIZER;CN="Dorfgemeinschaft Weissenbach":MAILTO:ernestineputre@gmx.net
END:VEVENT
BEGIN:VEVENT
DTSTART;TZID=UTC:20200510T200000
DTEND;TZID=UTC:20200510T210000
DTSTAMP:20260423T122741
CREATED:20200303T125940Z
LAST-MODIFIED:20200518T062410Z
UID:10000218-1589140800-1589144400@aniada.at
SUMMARY:Aniada a Noar im Schwab´nstall in Weissenbach / Abgesagt
DESCRIPTION:Schwab’nstall\nSonntag\, 10. Mai  20:00 Uhr  Weissenbach bei Haus im Ennstal\nDorfgemeinschaft Weissenbach  +43 664 4677185
URL:https://aniada.at/event/aniada-a-noar-im-schwabnstall-in-weissenbach/
LOCATION:Weissenbach Schwabnstall\, Weissenbach 10\, Weissenbach bei Haus\, Steiermark\, 8967\, Österreich
ORGANIZER;CN="Dorfgemeinschaft Weissenbach":MAILTO:ernestineputre@gmx.net
END:VEVENT
BEGIN:VEVENT
DTSTART;TZID=UTC:20200514T200000
DTEND;TZID=UTC:20200514T210000
DTSTAMP:20260423T122741
CREATED:20200303T130154Z
LAST-MODIFIED:20200518T062456Z
UID:10000219-1589486400-1589490000@aniada.at
SUMMARY:Aniada a Noar im Black OX | Murstetten / Abgesagt
DESCRIPTION:Black OX\nDonnerstag\, 14. Mai  20:00 Uhr\nUntere Hauptstrasse 6\, 3142 Murstetten\n+43 2784 2267       www.blackox.at
URL:https://aniada.at/event/aniada-a-noar-im-black-ox-murstetten/
LOCATION:Murstetten Black OX\, Untere Hauptstraße 6\, Murstetten\, Niederösterreich\, 3142\, Österreich
END:VEVENT
BEGIN:VEVENT
DTSTART;TZID=UTC:20200514T200000
DTEND;TZID=UTC:20200514T210000
DTSTAMP:20260423T122741
CREATED:20200303T130154Z
LAST-MODIFIED:20200303T130154Z
UID:10000547-1589486400-1589490000@aniada.at
SUMMARY:Aniada a Noar im Black OX | Murstetten / Abgesagt
DESCRIPTION:Black OX\nDonnerstag\, 14. Mai  20:00 Uhr\nUntere Hauptstrasse 6\, 3142 Murstetten\n+43 2784 2267       www.blackox.at
URL:https://aniada.at/event/aniada-a-noar-im-black-ox-murstetten-2/
LOCATION:Murstetten Black OX\, Untere Hauptstraße 6\, Murstetten\, Niederösterreich\, 3142\, Österreich
END:VEVENT
BEGIN:VEVENT
DTSTART;TZID=UTC:20200515T200000
DTEND;TZID=UTC:20200515T210000
DTSTAMP:20260423T122741
CREATED:20200303T130401Z
LAST-MODIFIED:20200518T062554Z
UID:10000222-1589572800-1589576400@aniada.at
SUMMARY:Aniada a Noar im Café Kemetmüller in Spital am Pyhrn / Abgesagt
DESCRIPTION:Freitag\, 15. Mai   20 Uhr   Spital/Pyhrn   Café Kemetmüller\nStiftsplatz 8\, 4582 Spital am Pyhrn\n+43 7563 8007    info@kemetmueller.at    www.kemetmueller.at
URL:https://aniada.at/event/aniada-a-noar-im-cafe-kemetmueller-in-spital-am-pyhrn/
LOCATION:Spital Cafe Kemetmüller\, Stiftsplatz 8\, Spital am Pyhrn\, Oberösterreich\, 4582\, Österreich
END:VEVENT
BEGIN:VEVENT
DTSTART;TZID=UTC:20200515T200000
DTEND;TZID=UTC:20200515T210000
DTSTAMP:20260423T122741
CREATED:20200303T130401Z
LAST-MODIFIED:20200303T130401Z
UID:10000548-1589572800-1589576400@aniada.at
SUMMARY:Aniada a Noar im Café Kemetmüller in Spital am Pyhrn / Abgesagt
DESCRIPTION:Freitag\, 15. Mai   20 Uhr   Spital/Pyhrn   Café Kemetmüller\nStiftsplatz 8\, 4582 Spital am Pyhrn\n+43 7563 8007    info@kemetmueller.at    www.kemetmueller.at
URL:https://aniada.at/event/aniada-a-noar-im-cafe-kemetmueller-in-spital-am-pyhrn-2/
LOCATION:Spital Cafe Kemetmüller\, Stiftsplatz 8\, Spital am Pyhrn\, Oberösterreich\, 4582\, Österreich
END:VEVENT
END:VCALENDAR