BEGIN:VCALENDAR
VERSION:2.0
PRODID:-//Aniada a Noar - ECPv6.15.11//NONSGML v1.0//EN
CALSCALE:GREGORIAN
METHOD:PUBLISH
X-WR-CALNAME:Aniada a Noar
X-ORIGINAL-URL:https://aniada.at
X-WR-CALDESC:Veranstaltungen für Aniada a Noar
REFRESH-INTERVAL;VALUE=DURATION:PT1H
X-Robots-Tag:noindex
X-PUBLISHED-TTL:PT1H
BEGIN:VTIMEZONE
TZID:UTC
BEGIN:STANDARD
TZOFFSETFROM:+0000
TZOFFSETTO:+0000
TZNAME:UTC
DTSTART:20190101T000000
END:STANDARD
END:VTIMEZONE
BEGIN:VEVENT
DTSTART;TZID=UTC:20200307T200000
DTEND;TZID=UTC:20200307T200000
DTSTAMP:20260423T151759
CREATED:20200108T101945Z
LAST-MODIFIED:20200108T101945Z
UID:10000539-1583611200-1583611200@aniada.at
SUMMARY:Aniada a Noar im Schloss Pichl in St. Barbara im Mürztal | 30 Jahre KIM
DESCRIPTION:Konzert mit Maria Gstättner und Stefan Heckel\n30 Jahre Kultur.Initiative.Mitterdorf KIM \n\nSchloss Pichl\n8662 St. Barbara Im Mürztal\n\n30 Jahre Kultur.Initiative.Mitterdorf KIM\n\nVVK:  +43 676 7315497\n   info@rudolfgstaettner.at
URL:https://aniada.at/event/aniada-a-noar-im-schloss-pichler-in-st-barbara-im-muerztal-30-jahre-kim-2/
LOCATION:St. Barbara Schloss Pichl\, St. Barbara im Mürztal\, 8662\, Österreich
ORGANIZER;CN="Kultur Initiative Mitterdorf":MAILTO:info@rudolfgstaettner.at
END:VEVENT
BEGIN:VEVENT
DTSTART;TZID=UTC:20200307T200000
DTEND;TZID=UTC:20200307T200000
DTSTAMP:20260423T151759
CREATED:20200108T101945Z
LAST-MODIFIED:20200108T113135Z
UID:10000124-1583611200-1583611200@aniada.at
SUMMARY:Aniada a Noar im Schloss Pichl in St. Barbara im Mürztal | 30 Jahre KIM
DESCRIPTION:Konzert mit Maria Gstättner und Stefan Heckel\n30 Jahre Kultur.Initiative.Mitterdorf KIM \n\nSchloss Pichl\n8662 St. Barbara Im Mürztal\n\n30 Jahre Kultur.Initiative.Mitterdorf KIM\n\nVVK:  +43 676 7315497\n   info@rudolfgstaettner.at
URL:https://aniada.at/event/aniada-a-noar-im-schloss-pichler-in-st-barbara-im-muerztal-30-jahre-kim/
LOCATION:St. Barbara Schloss Pichl\, St. Barbara im Mürztal\, 8662\, Österreich
ORGANIZER;CN="Kultur Initiative Mitterdorf":MAILTO:info@rudolfgstaettner.at
END:VEVENT
BEGIN:VEVENT
DTSTART;TZID=UTC:20200319T193000
DTEND;TZID=UTC:20200319T193000
DTSTAMP:20260423T151759
CREATED:20200108T102622Z
LAST-MODIFIED:20200525T055450Z
UID:10000126-1584646200-1584646200@aniada.at
SUMMARY:Aniada a Noar im Festsaal der Stadtwerke Hartberg | special guest:  Martin Moro! Abgesagt
DESCRIPTION:Festsaal der Stadtwerke Hartberg Halle\,\nWiesengasse 43\, 8230 Hartberg\nspecial guest:  Martin Moro\nVVK: Stadtservice im Rathaus Hartberg   und   www.oeticket.com
URL:https://aniada.at/event/aniada-a-noar-im-festsaal-der-stadtwerke-hartberg-special-guest-martin-moro/
LOCATION:Hartberg Festsaal der Stadtwerke\, Wiesengasse 43\, Hartberg\, 8230
END:VEVENT
BEGIN:VEVENT
DTSTART;TZID=UTC:20200319T193000
DTEND;TZID=UTC:20200319T193000
DTSTAMP:20260423T151759
CREATED:20200108T102622Z
LAST-MODIFIED:20200108T102622Z
UID:10000540-1584646200-1584646200@aniada.at
SUMMARY:Aniada a Noar im Festsaal der Stadtwerke Hartberg | special guest:  Martin Moro! Abgesagt
DESCRIPTION:Festsaal der Stadtwerke Hartberg Halle\,\nWiesengasse 43\, 8230 Hartberg\nspecial guest:  Martin Moro\nVVK: Stadtservice im Rathaus Hartberg   und   www.oeticket.com
URL:https://aniada.at/event/aniada-a-noar-im-festsaal-der-stadtwerke-hartberg-special-guest-martin-moro-2/
LOCATION:Hartberg Festsaal der Stadtwerke\, Wiesengasse 43\, Hartberg\, 8230
END:VEVENT
BEGIN:VEVENT
DTSTART;TZID=UTC:20200326T190000
DTEND;TZID=UTC:20200326T190000
DTSTAMP:20260423T151759
CREATED:20200108T102935Z
LAST-MODIFIED:20200525T055718Z
UID:10000128-1585249200-1585249200@aniada.at
SUMMARY:Aniada a Noar im Audimax in Leoben / abgesagt
DESCRIPTION:Audimax Montanuniversität Leoben\,\nBuchmüllerplatz 4\, 8700 Leoben
URL:https://aniada.at/event/aniada-a-noar-im-audimax-in-leoben/
LOCATION:Leoben Montanuniversität\, Buchmüllerplatz 4\, Leoben\, 8700
END:VEVENT
BEGIN:VEVENT
DTSTART;TZID=UTC:20200326T190000
DTEND;TZID=UTC:20200326T190000
DTSTAMP:20260423T151759
CREATED:20200108T102935Z
LAST-MODIFIED:20200108T102935Z
UID:10000541-1585249200-1585249200@aniada.at
SUMMARY:Aniada a Noar im Audimax in Leoben / abgesagt
DESCRIPTION:Audimax Montanuniversität Leoben\,\nBuchmüllerplatz 4\, 8700 Leoben
URL:https://aniada.at/event/aniada-a-noar-im-audimax-in-leoben-2/
LOCATION:Leoben Montanuniversität\, Buchmüllerplatz 4\, Leoben\, 8700
END:VEVENT
BEGIN:VEVENT
DTSTART;TZID=UTC:20200328T193000
DTEND;TZID=UTC:20200328T193000
DTSTAMP:20260423T151759
CREATED:20200108T103238Z
LAST-MODIFIED:20200525T055803Z
UID:10000130-1585423800-1585423800@aniada.at
SUMMARY:Aniada a Noar im Rahmen des Jahreskonzertes des Chor Arkadia Arnfels in der Grenzlandsportstätte Arnfels / Abgesagt
DESCRIPTION:Samstag 28. März  19:30 Uhr & Sonntag 29. März 15:30 h   Arnfels \nGrenzlandsportstätte Arnfels  8454 Arnfels\n\nAuftritt im Rahmen des Jahreskonzertes des Chor Arkadia Arnfels
URL:https://aniada.at/event/aniada-a-noar-im-rahmen-des-jahreskonzertes-des-chor-arkadien-arnfels-in-der-grenzlandsportstaette-arnfels/
LOCATION:Arnfels Grenzlandsportstätte\, Arnfels\, 8454
END:VEVENT
BEGIN:VEVENT
DTSTART;TZID=UTC:20200328T193000
DTEND;TZID=UTC:20200328T193000
DTSTAMP:20260423T151759
CREATED:20200108T103238Z
LAST-MODIFIED:20200108T103238Z
UID:10000542-1585423800-1585423800@aniada.at
SUMMARY:Aniada a Noar im Rahmen des Jahreskonzertes des Chor Arkadia Arnfels in der Grenzlandsportstätte Arnfels / Abgesagt
DESCRIPTION:Samstag 28. März  19:30 Uhr & Sonntag 29. März 15:30 h   Arnfels \nGrenzlandsportstätte Arnfels  8454 Arnfels\n\nAuftritt im Rahmen des Jahreskonzertes des Chor Arkadia Arnfels
URL:https://aniada.at/event/aniada-a-noar-im-rahmen-des-jahreskonzertes-des-chor-arkadien-arnfels-in-der-grenzlandsportstaette-arnfels-3/
LOCATION:Arnfels Grenzlandsportstätte\, Arnfels\, 8454
END:VEVENT
BEGIN:VEVENT
DTSTART;TZID=UTC:20200329T153000
DTEND;TZID=UTC:20200329T153000
DTSTAMP:20260423T151759
CREATED:20200108T103355Z
LAST-MODIFIED:20200108T103355Z
UID:10000543-1585495800-1585495800@aniada.at
SUMMARY:Aniada a Noar im Rahmen des Jahreskonzertes des Chor Arkadia Arnfels in der Grenzlandsportstätte Arnfels / Abgesagt
DESCRIPTION:Grenzlandsportstätte Arnfels\n8454 Arnfels\nAuftritt im Rahmen des Jahreskonzertes des Chor Arkadia Arnfels
URL:https://aniada.at/event/aniada-a-noar-im-rahmen-des-jahreskonzertes-des-chor-arkadien-arnfels-in-der-grenzlandsportstaette-arnfels-2-2/
LOCATION:Arnfels Grenzlandsportstätte\, Arnfels\, 8454
END:VEVENT
BEGIN:VEVENT
DTSTART;TZID=UTC:20200329T153000
DTEND;TZID=UTC:20200329T153000
DTSTAMP:20260423T151759
CREATED:20200108T103355Z
LAST-MODIFIED:20200525T055923Z
UID:10000132-1585495800-1585495800@aniada.at
SUMMARY:Aniada a Noar im Rahmen des Jahreskonzertes des Chor Arkadia Arnfels in der Grenzlandsportstätte Arnfels / Abgesagt
DESCRIPTION:Grenzlandsportstätte Arnfels\n8454 Arnfels\nAuftritt im Rahmen des Jahreskonzertes des Chor Arkadia Arnfels
URL:https://aniada.at/event/aniada-a-noar-im-rahmen-des-jahreskonzertes-des-chor-arkadien-arnfels-in-der-grenzlandsportstaette-arnfels-2/
LOCATION:Arnfels Grenzlandsportstätte\, Arnfels\, 8454
END:VEVENT
END:VCALENDAR