BEGIN:VCALENDAR
VERSION:2.0
PRODID:-//Aniada a Noar - ECPv6.15.11//NONSGML v1.0//EN
CALSCALE:GREGORIAN
METHOD:PUBLISH
X-WR-CALNAME:Aniada a Noar
X-ORIGINAL-URL:https://aniada.at
X-WR-CALDESC:Veranstaltungen für Aniada a Noar
REFRESH-INTERVAL;VALUE=DURATION:PT1H
X-Robots-Tag:noindex
X-PUBLISHED-TTL:PT1H
BEGIN:VTIMEZONE
TZID:UTC
BEGIN:STANDARD
TZOFFSETFROM:+0000
TZOFFSETTO:+0000
TZNAME:UTC
DTSTART:20190101T000000
END:STANDARD
END:VTIMEZONE
BEGIN:VEVENT
DTSTART;TZID=UTC:20200202T193000
DTEND;TZID=UTC:20200202T193000
DTSTAMP:20260423T164045
CREATED:20200108T100354Z
LAST-MODIFIED:20200108T113320Z
UID:10000215-1580671800-1580671800@aniada.at
SUMMARY:Aniada a Noar in der Schrottgalerie Friedel in Glonn | Deutschland
DESCRIPTION:St. Johannes Star. 2\,\nD 85625 Glonn\n\nreservierung@schrottgaleriefriedel.de\n\n www.schrottgaleriefriedel.de
URL:https://aniada.at/event/aniada-a-noar-in-der-schrottgalerie-friedel-in-glonn-deutschland/
LOCATION:Glonn Schrottgalerie\, St.-Johannes-Straße 2\, Glonn\, Bayern\, 85625\, Deutschland
ORGANIZER;CN="Glonn Schrottgalerie":MAILTO:info@schrottgalerie.de
END:VEVENT
BEGIN:VEVENT
DTSTART;TZID=UTC:20200202T193000
DTEND;TZID=UTC:20200202T193000
DTSTAMP:20260423T164045
CREATED:20200108T100354Z
LAST-MODIFIED:20200108T100354Z
UID:10000534-1580671800-1580671800@aniada.at
SUMMARY:Aniada a Noar in der Schrottgalerie Friedel in Glonn | Deutschland
DESCRIPTION:St. Johannes Star. 2\,\nD 85625 Glonn\n\nreservierung@schrottgaleriefriedel.de\n\n www.schrottgaleriefriedel.de
URL:https://aniada.at/event/aniada-a-noar-in-der-schrottgalerie-friedel-in-glonn-deutschland-2/
LOCATION:Glonn Schrottgalerie\, St.-Johannes-Straße 2\, Glonn\, Bayern\, 85625\, Deutschland
ORGANIZER;CN="Glonn Schrottgalerie":MAILTO:info@schrottgalerie.de
END:VEVENT
BEGIN:VEVENT
DTSTART;TZID=UTC:20200215T090000
DTEND;TZID=UTC:20200215T090000
DTSTAMP:20260423T164045
CREATED:20200108T100728Z
LAST-MODIFIED:20200108T113302Z
UID:10000217-1581757200-1581757200@aniada.at
SUMMARY:Aniada a Noar beim Kultur.Lunch im Theaterhotel Wien | Hotel Savoyen => AUSVERKAUFT
DESCRIPTION:Kultur.Lunch im Theaterhotel Wien\,\nHotel Savoyen\,\nRennweg 16\,\n1030 Wien\n\n=> Ausverkauft!
URL:https://aniada.at/event/aniada-a-noar-beim-kultur-lunch-im-theaterhotel-wien-hotel-savoyen-ausverkauft/
LOCATION:Wien Hotel Savoyen\, Rennweg 16\, Wien\, Wien\, 1030
END:VEVENT
BEGIN:VEVENT
DTSTART;TZID=UTC:20200215T090000
DTEND;TZID=UTC:20200215T090000
DTSTAMP:20260423T164045
CREATED:20200108T100728Z
LAST-MODIFIED:20200108T100728Z
UID:10000535-1581757200-1581757200@aniada.at
SUMMARY:Aniada a Noar beim Kultur.Lunch im Theaterhotel Wien | Hotel Savoyen => AUSVERKAUFT
DESCRIPTION:Kultur.Lunch im Theaterhotel Wien\,\nHotel Savoyen\,\nRennweg 16\,\n1030 Wien\n\n=> Ausverkauft!
URL:https://aniada.at/event/aniada-a-noar-beim-kultur-lunch-im-theaterhotel-wien-hotel-savoyen-ausverkauft-2/
LOCATION:Wien Hotel Savoyen\, Rennweg 16\, Wien\, Wien\, 1030
END:VEVENT
BEGIN:VEVENT
DTSTART;TZID=UTC:20200227T200000
DTEND;TZID=UTC:20200227T200000
DTSTAMP:20260423T164045
CREATED:20200108T101036Z
LAST-MODIFIED:20200108T101036Z
UID:10000536-1582833600-1582833600@aniada.at
SUMMARY:Aniada a Noar im Theatercafé Graz
DESCRIPTION:Donnerstag 27.\, Freitag 28. und Samstag 29. Feber um jeweils 20:00 Uhr   \n\nTheatercafé\,  Mandellstr. 11 8010 Graz\n+43 (0)316 842043\n\nwww.hinwider.com
URL:https://aniada.at/event/aniada-a-noar-im-theatercafe-graz-5-2/
LOCATION:Graz Theater Café\, Mandellstraße 11\, Graz\, 8010
END:VEVENT
BEGIN:VEVENT
DTSTART;TZID=UTC:20200227T200000
DTEND;TZID=UTC:20200227T200000
DTSTAMP:20260423T164045
CREATED:20200108T101036Z
LAST-MODIFIED:20200108T113239Z
UID:10000118-1582833600-1582833600@aniada.at
SUMMARY:Aniada a Noar im Theatercafé Graz
DESCRIPTION:Donnerstag 27.\, Freitag 28. und Samstag 29. Feber um jeweils 20:00 Uhr   \n\nTheatercafé\,  Mandellstr. 11 8010 Graz\n+43 (0)316 842043\n\nwww.hinwider.com
URL:https://aniada.at/event/aniada-a-noar-im-theatercafe-graz-5/
LOCATION:Graz Theater Café\, Mandellstraße 11\, Graz\, 8010
ORGANIZER;CN="Graz Hin & Wider":MAILTO:buero.hinwider.com
END:VEVENT
BEGIN:VEVENT
DTSTART;TZID=UTC:20200228T200000
DTEND;TZID=UTC:20200228T200000
DTSTAMP:20260423T164045
CREATED:20200108T101330Z
LAST-MODIFIED:20200108T101330Z
UID:10000537-1582920000-1582920000@aniada.at
SUMMARY:Aniada a Noar im Theatercafé Graz
DESCRIPTION:Donnerstag 27.\, Freitag 28. und Samstag 29. Feber jeweils um 20:00 Uhr  \nTheatercafé\,  Mandellstr. 11\n8010 Graz\n+43 (0)316 842043\n\nwww.hinwider.com
URL:https://aniada.at/event/aniada-a-noar-im-theatercafe-graz-6-2/
LOCATION:Graz Theater Café\, Mandellstraße 11\, Graz\, 8010
END:VEVENT
BEGIN:VEVENT
DTSTART;TZID=UTC:20200228T200000
DTEND;TZID=UTC:20200228T200000
DTSTAMP:20260423T164045
CREATED:20200108T101330Z
LAST-MODIFIED:20200108T113220Z
UID:10000120-1582920000-1582920000@aniada.at
SUMMARY:Aniada a Noar im Theatercafé Graz
DESCRIPTION:Donnerstag 27.\, Freitag 28. und Samstag 29. Feber jeweils um 20:00 Uhr  \nTheatercafé\,  Mandellstr. 11\n8010 Graz\n+43 (0)316 842043\n\nwww.hinwider.com
URL:https://aniada.at/event/aniada-a-noar-im-theatercafe-graz-6/
LOCATION:Graz Theater Café\, Mandellstraße 11\, Graz\, 8010
ORGANIZER;CN="Graz Hin & Wider":MAILTO:buero.hinwider.com
END:VEVENT
BEGIN:VEVENT
DTSTART;TZID=UTC:20200229T200000
DTEND;TZID=UTC:20200229T200000
DTSTAMP:20260423T164045
CREATED:20200108T101426Z
LAST-MODIFIED:20200108T101426Z
UID:10000538-1583006400-1583006400@aniada.at
SUMMARY:Aniada a Noar im Theatercafé Graz
DESCRIPTION:Donnerstag 27.\, Freitag 28. und Samstag 29. Feber jeweils um 20:00 Uhr  \nTheatercafé\,  Mandellstr. 11\n8010 Graz\n+43 (0)316 842043\n\nwww.hinwider.com
URL:https://aniada.at/event/aniada-a-noar-im-theatercafe-graz-7-2/
LOCATION:Graz Theater Café\, Mandellstraße 11\, Graz\, 8010
END:VEVENT
BEGIN:VEVENT
DTSTART;TZID=UTC:20200229T200000
DTEND;TZID=UTC:20200229T200000
DTSTAMP:20260423T164045
CREATED:20200108T101426Z
LAST-MODIFIED:20200108T113159Z
UID:10000122-1583006400-1583006400@aniada.at
SUMMARY:Aniada a Noar im Theatercafé Graz
DESCRIPTION:Donnerstag 27.\, Freitag 28. und Samstag 29. Feber jeweils um 20:00 Uhr  \nTheatercafé\,  Mandellstr. 11\n8010 Graz\n+43 (0)316 842043\n\nwww.hinwider.com
URL:https://aniada.at/event/aniada-a-noar-im-theatercafe-graz-7/
LOCATION:Graz Theater Café\, Mandellstraße 11\, Graz\, 8010
ORGANIZER;CN="Graz Hin & Wider":MAILTO:buero.hinwider.com
END:VEVENT
END:VCALENDAR