BEGIN:VCALENDAR
VERSION:2.0
PRODID:-//Aniada a Noar - ECPv6.15.11//NONSGML v1.0//EN
CALSCALE:GREGORIAN
METHOD:PUBLISH
X-ORIGINAL-URL:https://aniada.at
X-WR-CALDESC:Veranstaltungen für Aniada a Noar
REFRESH-INTERVAL;VALUE=DURATION:PT1H
X-Robots-Tag:noindex
X-PUBLISHED-TTL:PT1H
BEGIN:VTIMEZONE
TZID:UTC
BEGIN:STANDARD
TZOFFSETFROM:+0000
TZOFFSETTO:+0000
TZNAME:UTC
DTSTART:20190101T000000
END:STANDARD
END:VTIMEZONE
BEGIN:VEVENT
DTSTART;TZID=UTC:20200115T193000
DTEND;TZID=UTC:20200115T193000
DTSTAMP:20260423T180637
CREATED:20200108T093409Z
LAST-MODIFIED:20200108T113544Z
UID:10000210-1579116600-1579116600@aniada.at
SUMMARY:Aniada a Noar im Konzertsaal der Musikschule Fernitz-Mellach
DESCRIPTION:Einlass 18:45 Uhr \nVVK: € 8\,– | AK: € 10\,– | Jugendliche bis 18 Jahre € 6\,- \nFreie Platzwahl! \nFür Schüler der MS Fernitz-Mellach freier Eintritt! \nKartenverkauf in der Gemeinde / Postpartner / Bibliothek u. Musikschule Fernitz-Mellach \nT. 0664 54 95 990
URL:https://aniada.at/event/aniada-a-noar-im-konzertsaal-der-musikschule-fernitz-mellach/
LOCATION:Fernitz-Mellach Musikschule\, Sportplatzstraße 27\, Fernitz-Mellach\, 8072\, Österreich
END:VEVENT
BEGIN:VEVENT
DTSTART;TZID=UTC:20200115T193000
DTEND;TZID=UTC:20200115T193000
DTSTAMP:20260423T180637
CREATED:20200108T093409Z
LAST-MODIFIED:20200108T093409Z
UID:10000529-1579116600-1579116600@aniada.at
SUMMARY:Aniada a Noar im Konzertsaal der Musikschule Fernitz-Mellach
DESCRIPTION:Einlass 18:45 Uhr \nVVK: € 8\,– | AK: € 10\,– | Jugendliche bis 18 Jahre € 6\,- \nFreie Platzwahl! \nFür Schüler der MS Fernitz-Mellach freier Eintritt! \nKartenverkauf in der Gemeinde / Postpartner / Bibliothek u. Musikschule Fernitz-Mellach \nT. 0664 54 95 990
URL:https://aniada.at/event/aniada-a-noar-im-konzertsaal-der-musikschule-fernitz-mellach-2/
LOCATION:Fernitz-Mellach Musikschule\, Sportplatzstraße 27\, Fernitz-Mellach\, 8072\, Österreich
END:VEVENT
BEGIN:VEVENT
DTSTART;TZID=UTC:20200116T200000
DTEND;TZID=UTC:20200116T200000
DTSTAMP:20260423T180637
CREATED:20200108T095201Z
LAST-MODIFIED:20200108T095201Z
UID:10000531-1579204800-1579204800@aniada.at
SUMMARY:Aniada a Noar im Musikverein\, Gläserner Saal\, Wien
DESCRIPTION:Musikverein\, Gläserner Saal\, Musikvereinsplatz 1\, 1010 Wien\nT. +43 1 5058190\,\n tickets@musikverein.at\n www.musikverein.at
URL:https://aniada.at/event/aniada-a-noar-im-musikverein-glaeserner-saal-wien-2/
LOCATION:Wien Musikverein\, Musikvereinsplatz 1\, Wien\, 1010
ORGANIZER;CN="Musikverein Wien":MAILTO:tickets@musikverein.at
END:VEVENT
BEGIN:VEVENT
DTSTART;TZID=UTC:20200116T200000
DTEND;TZID=UTC:20200116T200000
DTSTAMP:20260423T180637
CREATED:20200108T095201Z
LAST-MODIFIED:20200108T113424Z
UID:10000212-1579204800-1579204800@aniada.at
SUMMARY:Aniada a Noar im Musikverein\, Gläserner Saal\, Wien
DESCRIPTION:Musikverein\, Gläserner Saal\, Musikvereinsplatz 1\, 1010 Wien\nT. +43 1 5058190\,\n tickets@musikverein.at\n www.musikverein.at
URL:https://aniada.at/event/aniada-a-noar-im-musikverein-glaeserner-saal-wien/
LOCATION:Wien Musikverein\, Musikvereinsplatz 1\, Wien\, 1010
ORGANIZER;CN="Musikverein Wien":MAILTO:tickets@musikverein.at
END:VEVENT
BEGIN:VEVENT
DTSTART;TZID=UTC:20200125T200000
DTEND;TZID=UTC:20200125T200000
DTSTAMP:20260423T180637
CREATED:20200108T094515Z
LAST-MODIFIED:20200108T094515Z
UID:10000530-1579982400-1579982400@aniada.at
SUMMARY:Aniada a Noar - Benefizkonzert & Lesung Marianne Hofmeister im Pfarrheim Gnas
DESCRIPTION:Der Sozialkreis Gnas veranstaltet ein Benefizkonzert mit der steirischen Volksmusik-Gruppe Aniada a Noar\, die nicht nur mit Gesang und Klang\, sondern auch mit Witz und immerzu passenden Texten zu überzeugen wissen (www.aniada.at). Zwischendurch wird Marianne Hofmeister mit ihren Mundart-Gedichten zum Schmunzeln und Nachdenken anregen. \nDer Erlös dient der Albania-Austria Partnerschaft von Frau Dr. Marianne Graf – Hilfe\, die ankommt! Nähere Infos finden Sie unter www.albania-austria.com oder auf der Facebook Seite. \nOrt: Pfarrheim Gnas \nEintritt: VVK 12 Euro / AK 15 Euro\nKarten sind erhältlich bei den Trafiken Roth/Pichler und Poglitsch\, \nFranz Rauch:  +43 6642171014
URL:https://aniada.at/event/aniada-a-noar-benefizkonzert-im-pfarrheim-gnas-2/
LOCATION:Gnas Pfarrheim\, Gnas 6\, Gnas\, 8342
END:VEVENT
BEGIN:VEVENT
DTSTART;TZID=UTC:20200125T200000
DTEND;TZID=UTC:20200125T200000
DTSTAMP:20260423T180637
CREATED:20200108T094515Z
LAST-MODIFIED:20200108T113406Z
UID:10000211-1579982400-1579982400@aniada.at
SUMMARY:Aniada a Noar - Benefizkonzert & Lesung Marianne Hofmeister im Pfarrheim Gnas
DESCRIPTION:Der Sozialkreis Gnas veranstaltet ein Benefizkonzert mit der steirischen Volksmusik-Gruppe Aniada a Noar\, die nicht nur mit Gesang und Klang\, sondern auch mit Witz und immerzu passenden Texten zu überzeugen wissen (www.aniada.at). Zwischendurch wird Marianne Hofmeister mit ihren Mundart-Gedichten zum Schmunzeln und Nachdenken anregen. \nDer Erlös dient der Albania-Austria Partnerschaft von Frau Dr. Marianne Graf – Hilfe\, die ankommt! Nähere Infos finden Sie unter www.albania-austria.com oder auf der Facebook Seite. \nOrt: Pfarrheim Gnas \nEintritt: VVK 12 Euro / AK 15 Euro\nKarten sind erhältlich bei den Trafiken Roth/Pichler und Poglitsch\, \nFranz Rauch:  +43 6642171014
URL:https://aniada.at/event/aniada-a-noar-benefizkonzert-im-pfarrheim-gnas/
LOCATION:Gnas Pfarrheim\, Gnas 6\, Gnas\, 8342
END:VEVENT
BEGIN:VEVENT
DTSTART;TZID=UTC:20200130T203000
DTEND;TZID=UTC:20200130T203000
DTSTAMP:20260423T180637
CREATED:20200108T095802Z
LAST-MODIFIED:20200108T095802Z
UID:10000532-1580416200-1580416200@aniada.at
SUMMARY:Aniada a Noar im Theater im Fraunhofer | München
DESCRIPTION:Fraunhofers. 9\, 80469 München\nT. +49 (0)89 267850\n\nMail : info@fraunhofertheater.de\n\nWeb: www.fraunhofertheater.de
URL:https://aniada.at/event/aniada-a-noar-im-theater-im-fraunhofer-muenchen-2-2/
ORGANIZER;CN="Theater Fraunhofer":MAILTO:info@fraunhofertheater.de
END:VEVENT
BEGIN:VEVENT
DTSTART;TZID=UTC:20200130T203000
DTEND;TZID=UTC:20200130T203000
DTSTAMP:20260423T180637
CREATED:20200108T095802Z
LAST-MODIFIED:20200108T113627Z
UID:10000213-1580416200-1580416200@aniada.at
SUMMARY:Aniada a Noar im Theater im Fraunhofer | München
DESCRIPTION:Fraunhofers. 9\, 80469 München\nT. +49 (0)89 267850\n\nMail : info@fraunhofertheater.de\n\nWeb: www.fraunhofertheater.de
URL:https://aniada.at/event/aniada-a-noar-im-theater-im-fraunhofer-muenchen-2/
ORGANIZER;CN="Theater Fraunhofer":MAILTO:info@fraunhofertheater.de
END:VEVENT
BEGIN:VEVENT
DTSTART;TZID=UTC:20200131T200000
DTEND;TZID=UTC:20200131T200000
DTSTAMP:20260423T180637
CREATED:20200108T100145Z
LAST-MODIFIED:20200108T100145Z
UID:10000533-1580500800-1580500800@aniada.at
SUMMARY:Aniada a Noar im Kultur Café Vilgertshofen | Deutschland
DESCRIPTION:Raiffeisenstr. 4\,\nD 86946 Vilgertshofen\n+49 (0)8194 9315986\n\nhereinspaziert@kultur-stadl.de\n\nwww.kultur-stadl.de
URL:https://aniada.at/event/aniada-a-noar-im-kultur-cafe-vilgertshofen-deutschland-2/
LOCATION:Vilgertshofen Kultur Café\, Raiffeisenstr.4\, Vilgertshofen\, 86946\, Deutschland
END:VEVENT
BEGIN:VEVENT
DTSTART;TZID=UTC:20200131T200000
DTEND;TZID=UTC:20200131T200000
DTSTAMP:20260423T180637
CREATED:20200108T100145Z
LAST-MODIFIED:20200108T113341Z
UID:10000214-1580500800-1580500800@aniada.at
SUMMARY:Aniada a Noar im Kultur Café Vilgertshofen | Deutschland
DESCRIPTION:Raiffeisenstr. 4\,\nD 86946 Vilgertshofen\n+49 (0)8194 9315986\n\nhereinspaziert@kultur-stadl.de\n\nwww.kultur-stadl.de
URL:https://aniada.at/event/aniada-a-noar-im-kultur-cafe-vilgertshofen-deutschland/
LOCATION:Vilgertshofen Kultur Café\, Raiffeisenstr.4\, Vilgertshofen\, 86946\, Deutschland
END:VEVENT
END:VCALENDAR