BEGIN:VCALENDAR
VERSION:2.0
PRODID:-//Aniada a Noar - ECPv6.15.11//NONSGML v1.0//EN
CALSCALE:GREGORIAN
METHOD:PUBLISH
X-ORIGINAL-URL:https://aniada.at
X-WR-CALDESC:Veranstaltungen für Aniada a Noar
REFRESH-INTERVAL;VALUE=DURATION:PT1H
X-Robots-Tag:noindex
X-PUBLISHED-TTL:PT1H
BEGIN:VTIMEZONE
TZID:UTC
BEGIN:STANDARD
TZOFFSETFROM:+0000
TZOFFSETTO:+0000
TZNAME:UTC
DTSTART:20180101T000000
END:STANDARD
END:VTIMEZONE
BEGIN:VEVENT
DTSTART;TZID=UTC:20191003T193000
DTEND;TZID=UTC:20191003T203000
DTSTAMP:20260423T223142
CREATED:20190722T080930Z
LAST-MODIFIED:20190822T060052Z
UID:10000198-1570131000-1570134600@aniada.at
SUMMARY:Aniada a Noar | CD Präsentation "Summawind"| Die Scherbe\, Graz
DESCRIPTION:CD Präsentation „Summawind“\nDie Scherbe\nStockergasse 2\n8020 Graz \nGrafik©Gerald Brettschuh
URL:https://aniada.at/event/aniada-a-noar-cd-praesentation-die-scherbe-graz/
LOCATION:Graz Die Scherbe\, Stockergasse 2\, Graz\, 8020\, Österreich
END:VEVENT
BEGIN:VEVENT
DTSTART;TZID=UTC:20191003T193000
DTEND;TZID=UTC:20191003T203000
DTSTAMP:20260423T223142
CREATED:20190722T080930Z
LAST-MODIFIED:20190722T080930Z
UID:10000517-1570131000-1570134600@aniada.at
SUMMARY:Aniada a Noar | CD Präsentation "Summawind"| Die Scherbe\, Graz
DESCRIPTION:CD Präsentation „Summawind“\nDie Scherbe\nStockergasse 2\n8020 Graz \nGrafik©Gerald Brettschuh
URL:https://aniada.at/event/aniada-a-noar-cd-praesentation-die-scherbe-graz-2/
LOCATION:Graz Die Scherbe\, Stockergasse 2\, Graz\, 8020\, Österreich
END:VEVENT
BEGIN:VEVENT
DTSTART;TZID=UTC:20191004T193000
DTEND;TZID=UTC:20191004T213000
DTSTAMP:20260423T223142
CREATED:20190424T093424Z
LAST-MODIFIED:20190424T093424Z
UID:10000193-1570217400-1570224600@aniada.at
SUMMARY:Aniada a Noar in der Burg Neuhaus
DESCRIPTION:Freitag\, 4. Oktober  19.30 h \nBurg Neuhaus \n2562 Neuhaus Burg 2 \n+43 6644 866896   www.burg-neuhaus.at
URL:https://aniada.at/event/aniada-a-noar-in-der-burg-neuhaus/
LOCATION:Neuhaus Burg\, Burg 2\, Neuhaus\, 2565\, Österreich
ORGANIZER;CN="Burg Neuhaus":MAILTO:info@burg-neuhaus.at
END:VEVENT
BEGIN:VEVENT
DTSTART;TZID=UTC:20191004T193000
DTEND;TZID=UTC:20191004T213000
DTSTAMP:20260423T223142
CREATED:20190424T093424Z
LAST-MODIFIED:20190424T093424Z
UID:10000512-1570217400-1570224600@aniada.at
SUMMARY:Aniada a Noar in der Burg Neuhaus
DESCRIPTION:Freitag\, 4. Oktober  19.30 h \nBurg Neuhaus \n2562 Neuhaus Burg 2 \n+43 6644 866896   www.burg-neuhaus.at
URL:https://aniada.at/event/aniada-a-noar-in-der-burg-neuhaus-2/
LOCATION:Neuhaus Burg\, Burg 2\, Neuhaus\, 2565\, Österreich
ORGANIZER;CN="Burg Neuhaus":MAILTO:info@burg-neuhaus.at
END:VEVENT
BEGIN:VEVENT
DTSTART;TZID=UTC:20191009T110000
DTEND;TZID=UTC:20191009T130000
DTSTAMP:20260423T223142
CREATED:20190722T081724Z
LAST-MODIFIED:20190722T081724Z
UID:10000199-1570618800-1570626000@aniada.at
SUMMARY:Aniada a Noar als musikalische Festbegleitung bei der Eröffnung der neuen Beratungsstelle PSZ Voitsberg
DESCRIPTION:Anmeldungen bitte bis 16.9. 2019 an  info@pszvo.at  oder  03142 26300
URL:https://aniada.at/event/aniada-a-noar-als-musikalische-festbegleitung-bei-der-eroeffnung-der-neuen-beratungsstelle-psz-voitsberg/
LOCATION:Voitsberg PSZ\, Grazer Vorstadt 126\, Voitsberg\, 8570
END:VEVENT
BEGIN:VEVENT
DTSTART;TZID=UTC:20191009T110000
DTEND;TZID=UTC:20191009T130000
DTSTAMP:20260423T223142
CREATED:20190722T081724Z
LAST-MODIFIED:20190722T081724Z
UID:10000518-1570618800-1570626000@aniada.at
SUMMARY:Aniada a Noar als musikalische Festbegleitung bei der Eröffnung der neuen Beratungsstelle PSZ Voitsberg
DESCRIPTION:Anmeldungen bitte bis 16.9. 2019 an  info@pszvo.at  oder  03142 26300
URL:https://aniada.at/event/aniada-a-noar-als-musikalische-festbegleitung-bei-der-eroeffnung-der-neuen-beratungsstelle-psz-voitsberg-2/
LOCATION:Voitsberg PSZ\, Grazer Vorstadt 126\, Voitsberg\, 8570
END:VEVENT
BEGIN:VEVENT
DTSTART;TZID=UTC:20191012T190000
DTEND;TZID=UTC:20191012T210000
DTSTAMP:20260423T223142
CREATED:20190107T120141Z
LAST-MODIFIED:20190108T071235Z
UID:10000172-1570906800-1570914000@aniada.at
SUMMARY:Aniada a Noar mit "Zwitschern" in Markt Hartmannsdorf
DESCRIPTION:
URL:https://aniada.at/event/aniada-a-noar-mit-zwitschern-in-markt-hartmannsdorf/
LOCATION:Markt Hartmannsorf Dorfhof\, Hauptstrasse 25\, 8311\, 8311
END:VEVENT
BEGIN:VEVENT
DTSTART;TZID=UTC:20191012T190000
DTEND;TZID=UTC:20191012T210000
DTSTAMP:20260423T223142
CREATED:20190107T120141Z
LAST-MODIFIED:20190107T120141Z
UID:10000499-1570906800-1570914000@aniada.at
SUMMARY:Aniada a Noar mit "Zwitschern" in Markt Hartmannsdorf
DESCRIPTION:
URL:https://aniada.at/event/aniada-a-noar-mit-zwitschern-in-markt-hartmannsdorf-2/
LOCATION:Markt Hartmannsorf Dorfhof\, Hauptstrasse 25\, 8311\, 8311
END:VEVENT
BEGIN:VEVENT
DTSTART;TZID=UTC:20191018T140000
DTEND;TZID=UTC:20191018T153000
DTSTAMP:20260423T223142
CREATED:20190722T081925Z
LAST-MODIFIED:20190722T081925Z
UID:10000200-1571407200-1571412600@aniada.at
SUMMARY:Aniada a Noar in der HTLW Wien
DESCRIPTION:Schulfest – geschlossene Veranstaltung!
URL:https://aniada.at/event/aniada-a-noar-in-der-htlw-wien/
LOCATION:Wien HTLW\, Bergheidengasse\, Wien
END:VEVENT
BEGIN:VEVENT
DTSTART;TZID=UTC:20191018T140000
DTEND;TZID=UTC:20191018T153000
DTSTAMP:20260423T223142
CREATED:20190722T081925Z
LAST-MODIFIED:20190722T081925Z
UID:10000519-1571407200-1571412600@aniada.at
SUMMARY:Aniada a Noar in der HTLW Wien
DESCRIPTION:Schulfest – geschlossene Veranstaltung!
URL:https://aniada.at/event/aniada-a-noar-in-der-htlw-wien-2/
LOCATION:Wien HTLW\, Bergheidengasse\, Wien
END:VEVENT
BEGIN:VEVENT
DTSTART;TZID=UTC:20191019T200000
DTEND;TZID=UTC:20191019T220000
DTSTAMP:20260423T223142
CREATED:20190424T093616Z
LAST-MODIFIED:20190424T093616Z
UID:10000194-1571515200-1571522400@aniada.at
SUMMARY:Aniada a Noar in Neustadtl / „Jakob\, es ist Herbst“
DESCRIPTION:Samstag\, 19. Oktober\,   20.00 h \n„Jakob\, es ist Herbst“ \nSaal der NMS\, 3323 Neustadtl \n+43 664 1300142     kulturspektrum@neustadtl.at \n 
URL:https://aniada.at/event/aniada-a-noar-in-neustadtl-jakob-es-ist-herbst/
LOCATION:Neustadtl NMS\, Neustadtl\, 3323
END:VEVENT
BEGIN:VEVENT
DTSTART;TZID=UTC:20191019T200000
DTEND;TZID=UTC:20191019T220000
DTSTAMP:20260423T223142
CREATED:20190424T093616Z
LAST-MODIFIED:20190424T093616Z
UID:10000513-1571515200-1571522400@aniada.at
SUMMARY:Aniada a Noar in Neustadtl / „Jakob\, es ist Herbst“
DESCRIPTION:Samstag\, 19. Oktober\,   20.00 h \n„Jakob\, es ist Herbst“ \nSaal der NMS\, 3323 Neustadtl \n+43 664 1300142     kulturspektrum@neustadtl.at \n 
URL:https://aniada.at/event/aniada-a-noar-in-neustadtl-jakob-es-ist-herbst-2/
LOCATION:Neustadtl NMS\, Neustadtl\, 3323
END:VEVENT
BEGIN:VEVENT
DTSTART;TZID=UTC:20191025T193000
DTEND;TZID=UTC:20191025T210000
DTSTAMP:20260423T223142
CREATED:20191003T053128Z
LAST-MODIFIED:20191022T053409Z
UID:10000207-1572031800-1572037200@aniada.at
SUMMARY:Aniada a Noar mit "Zwitschern" in Grödig | NMS Turnsaal
DESCRIPTION:NMS Grödig\nOtto Glöckel Str. 10\,\n5082 Grödig
URL:https://aniada.at/event/aniada-a-noar-mit-zwitschern-in-groedig-nms-turnsaal/
LOCATION:Grödig NMS\, Otto Glöckel Str. 10\,\, Grödig\, Salzburg
END:VEVENT
BEGIN:VEVENT
DTSTART;TZID=UTC:20191025T193000
DTEND;TZID=UTC:20191025T210000
DTSTAMP:20260423T223142
CREATED:20191003T053128Z
LAST-MODIFIED:20191003T053128Z
UID:10000526-1572031800-1572037200@aniada.at
SUMMARY:Aniada a Noar mit "Zwitschern" in Grödig | NMS Turnsaal
DESCRIPTION:NMS Grödig\nOtto Glöckel Str. 10\,\n5082 Grödig
URL:https://aniada.at/event/aniada-a-noar-mit-zwitschern-in-groedig-nms-turnsaal-2/
LOCATION:Grödig NMS\, Otto Glöckel Str. 10\,\, Grödig\, Salzburg
END:VEVENT
BEGIN:VEVENT
DTSTART;TZID=UTC:20191030T200000
DTEND;TZID=UTC:20191030T220000
DTSTAMP:20260423T223142
CREATED:20190722T082154Z
LAST-MODIFIED:20190722T082154Z
UID:10000201-1572465600-1572472800@aniada.at
SUMMARY:Aniada a Noar im Dachbodentheater Stainz
DESCRIPTION:Musikalische Begleitung der Lesung von Antonio Fian
URL:https://aniada.at/event/aniada-a-noar-im-dachbodentheater-stainz/
LOCATION:Stainz Dachbodentheater\, Bahnhofstr. 21\, Stainz\, 8510
END:VEVENT
BEGIN:VEVENT
DTSTART;TZID=UTC:20191030T200000
DTEND;TZID=UTC:20191030T220000
DTSTAMP:20260423T223142
CREATED:20190722T082154Z
LAST-MODIFIED:20190722T082154Z
UID:10000520-1572465600-1572472800@aniada.at
SUMMARY:Aniada a Noar im Dachbodentheater Stainz
DESCRIPTION:Musikalische Begleitung der Lesung von Antonio Fian
URL:https://aniada.at/event/aniada-a-noar-im-dachbodentheater-stainz-2/
LOCATION:Stainz Dachbodentheater\, Bahnhofstr. 21\, Stainz\, 8510
END:VEVENT
END:VCALENDAR