BEGIN:VCALENDAR
VERSION:2.0
PRODID:-//Aniada a Noar - ECPv6.15.11//NONSGML v1.0//EN
CALSCALE:GREGORIAN
METHOD:PUBLISH
X-ORIGINAL-URL:https://aniada.at
X-WR-CALDESC:Veranstaltungen für Aniada a Noar
REFRESH-INTERVAL;VALUE=DURATION:PT1H
X-Robots-Tag:noindex
X-PUBLISHED-TTL:PT1H
BEGIN:VTIMEZONE
TZID:UTC
BEGIN:STANDARD
TZOFFSETFROM:+0000
TZOFFSETTO:+0000
TZNAME:UTC
DTSTART:20180101T000000
END:STANDARD
END:VTIMEZONE
BEGIN:VEVENT
DTSTART;TZID=UTC:20190901T104500
DTEND;TZID=UTC:20190901T124500
DTSTAMP:20260424T000332
CREATED:20190424T093104Z
LAST-MODIFIED:20190424T093104Z
UID:10000191-1567334700-1567341900@aniada.at
SUMMARY:Aniada a Noar & Brina Duo beim Grad & Schräg Festival 2019 in Straden
DESCRIPTION:Sonntag\, 1. September  10.45 h \nAniada a Noar & Brina Duo \n„Hoch vom.. bis zum..Štajermark“ \nGrad & Schräg Festival 2019 \nKulturhaus  8345 Straden \n+43 676 6253606  info@straden-aktiv.com   www.straden-aktiv.com \n 
URL:https://aniada.at/event/aniada-a-noar-brina-duo-beim-grad-schraeg-festival-2019-in-straden/
LOCATION:Straden Kulturhaus\, Straden\, 8345
ORGANIZER;CN="straden aktiv":MAILTO:office@straden-aktiv.com
END:VEVENT
BEGIN:VEVENT
DTSTART;TZID=UTC:20190901T104500
DTEND;TZID=UTC:20190901T124500
DTSTAMP:20260424T000332
CREATED:20190424T093104Z
LAST-MODIFIED:20190424T093104Z
UID:10000510-1567334700-1567341900@aniada.at
SUMMARY:Aniada a Noar & Brina Duo beim Grad & Schräg Festival 2019 in Straden
DESCRIPTION:Sonntag\, 1. September  10.45 h \nAniada a Noar & Brina Duo \n„Hoch vom.. bis zum..Štajermark“ \nGrad & Schräg Festival 2019 \nKulturhaus  8345 Straden \n+43 676 6253606  info@straden-aktiv.com   www.straden-aktiv.com \n 
URL:https://aniada.at/event/aniada-a-noar-brina-duo-beim-grad-schraeg-festival-2019-in-straden-2/
LOCATION:Straden Kulturhaus\, Straden\, 8345
ORGANIZER;CN="straden aktiv":MAILTO:office@straden-aktiv.com
END:VEVENT
BEGIN:VEVENT
DTSTART;TZID=UTC:20190906T180000
DTEND;TZID=UTC:20190906T200000
DTSTAMP:20260424T000332
CREATED:20190424T093308Z
LAST-MODIFIED:20190424T093308Z
UID:10000192-1567792800-1567800000@aniada.at
SUMMARY:Aniada a Noar beim Hoffest im Orgelbauerhaus Eisenstadt
DESCRIPTION:Freitag\, 6. September  18 h \nHoffest \nOrgelbauerhaus Eisenstadt  Hauptstr. 22 7000 Eisenstadt \nTourismusverband Eisenstadt   43 268267390
URL:https://aniada.at/event/aniada-a-noar-beim-hoffest-im-orgelbauerhaus-eisenstadt/
LOCATION:Eisenstadt Orgelbauerhaus\, Hauptstr. 22\, Eisenstadt\, 7000
END:VEVENT
BEGIN:VEVENT
DTSTART;TZID=UTC:20190906T180000
DTEND;TZID=UTC:20190906T200000
DTSTAMP:20260424T000332
CREATED:20190424T093308Z
LAST-MODIFIED:20190424T093308Z
UID:10000511-1567792800-1567800000@aniada.at
SUMMARY:Aniada a Noar beim Hoffest im Orgelbauerhaus Eisenstadt
DESCRIPTION:Freitag\, 6. September  18 h \nHoffest \nOrgelbauerhaus Eisenstadt  Hauptstr. 22 7000 Eisenstadt \nTourismusverband Eisenstadt   43 268267390
URL:https://aniada.at/event/aniada-a-noar-beim-hoffest-im-orgelbauerhaus-eisenstadt-2/
LOCATION:Eisenstadt Orgelbauerhaus\, Hauptstr. 22\, Eisenstadt\, 7000
END:VEVENT
BEGIN:VEVENT
DTSTART;TZID=UTC:20190926T190000
DTEND;TZID=UTC:20190926T210000
DTSTAMP:20260424T000332
CREATED:20190107T115822Z
LAST-MODIFIED:20190107T115822Z
UID:10000498-1569524400-1569531600@aniada.at
SUMMARY:Aniada a Noar mit "Zwitschern" bei der "Niedernsiller Stund" im Kulturzentrum Samerstall
DESCRIPTION:
URL:https://aniada.at/event/aniada-a-noar-mit-zwitschern-bei-der-niedernsiller-stund-im-kulturzentrum-samerstall-2/
LOCATION:Niedernsill Samerstall\, Kirchgasse 1\, Niedernsill\, 5722
END:VEVENT
BEGIN:VEVENT
DTSTART;TZID=UTC:20190926T190000
DTEND;TZID=UTC:20190926T210000
DTSTAMP:20260424T000332
CREATED:20190107T115822Z
LAST-MODIFIED:20190107T115822Z
UID:10000170-1569524400-1569531600@aniada.at
SUMMARY:Aniada a Noar mit "Zwitschern" bei der "Niedernsiller Stund" im Kulturzentrum Samerstall
DESCRIPTION:
URL:https://aniada.at/event/aniada-a-noar-mit-zwitschern-bei-der-niedernsiller-stund-im-kulturzentrum-samerstall/
LOCATION:Niedernsill Samerstall\, Kirchgasse 1\, Niedernsill\, 5722
END:VEVENT
BEGIN:VEVENT
DTSTART;TZID=UTC:20190927T193000
DTEND;TZID=UTC:20190927T213000
DTSTAMP:20260424T000332
CREATED:20190722T080144Z
LAST-MODIFIED:20190722T080144Z
UID:10000196-1569612600-1569619800@aniada.at
SUMMARY:Aniada a Noar im Kulturhaus Liezen
DESCRIPTION:Kulturhausplatz 1\n8940 Liezen \nVeranstalter: Lions Club Liezen\nMehr Infos => 
URL:https://aniada.at/event/aniada-a-noar-im-kulturhaus-liezen/
LOCATION:Liezen Kulturhaus\, Kulturhausplatz 1\, Liezen\, 8940
END:VEVENT
BEGIN:VEVENT
DTSTART;TZID=UTC:20190927T193000
DTEND;TZID=UTC:20190927T213000
DTSTAMP:20260424T000332
CREATED:20190722T080144Z
LAST-MODIFIED:20190722T080144Z
UID:10000515-1569612600-1569619800@aniada.at
SUMMARY:Aniada a Noar im Kulturhaus Liezen
DESCRIPTION:Kulturhausplatz 1\n8940 Liezen \nVeranstalter: Lions Club Liezen\nMehr Infos => 
URL:https://aniada.at/event/aniada-a-noar-im-kulturhaus-liezen-2/
LOCATION:Liezen Kulturhaus\, Kulturhausplatz 1\, Liezen\, 8940
END:VEVENT
BEGIN:VEVENT
DTSTART;TZID=UTC:20190928T150000
DTEND;TZID=UTC:20190928T170000
DTSTAMP:20260424T000332
CREATED:20190722T080440Z
LAST-MODIFIED:20190722T080440Z
UID:10000516-1569682800-1569690000@aniada.at
SUMMARY:Aniada a Noar mit Erich Oskar Hütter und Stefan Henkel im Rahmen des Festivals haus.kultur 2019
DESCRIPTION:Messequartier (Dachterrasse)\nMünzgrabenstr. 84\, 8010 Graz\n„Spiel am Wasser“  im Rahmen des Festivals haus.kultur 2019\nmit Erich Oskar Hütter und Stefan Heckel\nMehr Infos=> 
URL:https://aniada.at/event/aniada-a-noar-mit-erich-oskar-muetter-und-stefan-henkel-im-rahmen-des-festivals-haus-kultur-2019-2/
LOCATION:Graz Messequartier (Dachterrasse)\, Münzgrabenstraße 84\, Graz\, 8010\, Österreich
END:VEVENT
BEGIN:VEVENT
DTSTART;TZID=UTC:20190928T150000
DTEND;TZID=UTC:20190928T170000
DTSTAMP:20260424T000332
CREATED:20190722T080440Z
LAST-MODIFIED:20191007T092755Z
UID:10000197-1569682800-1569690000@aniada.at
SUMMARY:Aniada a Noar mit Erich Oskar Hütter und Stefan Henkel im Rahmen des Festivals haus.kultur 2019
DESCRIPTION:Messequartier (Dachterrasse)\nMünzgrabenstr. 84\, 8010 Graz\n„Spiel am Wasser“  im Rahmen des Festivals haus.kultur 2019\nmit Erich Oskar Hütter und Stefan Heckel\nMehr Infos=> 
URL:https://aniada.at/event/aniada-a-noar-mit-erich-oskar-muetter-und-stefan-henkel-im-rahmen-des-festivals-haus-kultur-2019/
LOCATION:Graz Messequartier (Dachterrasse)\, Münzgrabenstraße 84\, Graz\, 8010\, Österreich
END:VEVENT
END:VCALENDAR