BEGIN:VCALENDAR
VERSION:2.0
PRODID:-//Aniada a Noar - ECPv6.15.11//NONSGML v1.0//EN
CALSCALE:GREGORIAN
METHOD:PUBLISH
X-ORIGINAL-URL:https://aniada.at
X-WR-CALDESC:Veranstaltungen für Aniada a Noar
REFRESH-INTERVAL;VALUE=DURATION:PT1H
X-Robots-Tag:noindex
X-PUBLISHED-TTL:PT1H
BEGIN:VTIMEZONE
TZID:UTC
BEGIN:STANDARD
TZOFFSETFROM:+0000
TZOFFSETTO:+0000
TZNAME:UTC
DTSTART:20180101T000000
END:STANDARD
END:VTIMEZONE
BEGIN:VEVENT
DTSTART;TZID=UTC:20190712T200000
DTEND;TZID=UTC:20190712T220000
DTSTAMP:20260424T031908
CREATED:20190424T092437Z
LAST-MODIFIED:20190424T092437Z
UID:10000508-1562961600-1562968800@aniada.at
SUMMARY:Aniada a Noar beim Sommerfestival im Schilcherhof
DESCRIPTION:Freitag\, 12. Juli    20.00 h \nSommerfestival im Schilcherhof \nschilcherhof@schilcherhof.at   www.schilcherhof.at \n 
URL:https://aniada.at/event/aniada-a-noar-beim-sommerfestival-im-schilcherhof-2/
LOCATION:Austria
ORGANIZER;CN="Schilcherhof":MAILTO:schilcherhof@schilcherhof.at
END:VEVENT
BEGIN:VEVENT
DTSTART;TZID=UTC:20190712T200000
DTEND;TZID=UTC:20190712T220000
DTSTAMP:20260424T031908
CREATED:20190424T092437Z
LAST-MODIFIED:20190424T092437Z
UID:10000189-1562961600-1562968800@aniada.at
SUMMARY:Aniada a Noar beim Sommerfestival im Schilcherhof
DESCRIPTION:Freitag\, 12. Juli    20.00 h \nSommerfestival im Schilcherhof \nschilcherhof@schilcherhof.at   www.schilcherhof.at \n 
URL:https://aniada.at/event/aniada-a-noar-beim-sommerfestival-im-schilcherhof/
ORGANIZER;CN="Schilcherhof":MAILTO:schilcherhof@schilcherhof.at
END:VEVENT
BEGIN:VEVENT
DTSTART;TZID=UTC:20190713T190000
DTEND;TZID=UTC:20190713T200000
DTSTAMP:20260424T031908
CREATED:20190424T092722Z
LAST-MODIFIED:20190424T092736Z
UID:10000190-1563044400-1563048000@aniada.at
SUMMARY:Aniada a Noar am Schloßberg in Bruck a.d. Mur
DESCRIPTION:Samstag\, 13. Juli   19.00 h \nSchlossberg Bruck   8600 Bruck an der Mur \n+43 664 5038752  info@schlossberg-bruck.at    www.schlossberg-bruck.at
URL:https://aniada.at/event/aniada-a-noar-am-schlossberg-in-bruck-a-d-mur/
LOCATION:Bruck a.d. Mur Schloßberg\, Bruck a.d.Mur\, 8600
END:VEVENT
BEGIN:VEVENT
DTSTART;TZID=UTC:20190713T190000
DTEND;TZID=UTC:20190713T200000
DTSTAMP:20260424T031908
CREATED:20190424T092722Z
LAST-MODIFIED:20190424T092722Z
UID:10000509-1563044400-1563048000@aniada.at
SUMMARY:Aniada a Noar am Schloßberg in Bruck a.d. Mur
DESCRIPTION:Samstag\, 13. Juli   19.00 h \nSchlossberg Bruck   8600 Bruck an der Mur \n+43 664 5038752  info@schlossberg-bruck.at    www.schlossberg-bruck.at
URL:https://aniada.at/event/aniada-a-noar-am-schlossberg-in-bruck-a-d-mur-2/
LOCATION:Bruck a.d. Mur Schloßberg\, Bruck a.d.Mur\, 8600
END:VEVENT
END:VCALENDAR