BEGIN:VCALENDAR
VERSION:2.0
PRODID:-//Aniada a Noar - ECPv6.15.11//NONSGML v1.0//EN
CALSCALE:GREGORIAN
METHOD:PUBLISH
X-WR-CALNAME:Aniada a Noar
X-ORIGINAL-URL:https://aniada.at
X-WR-CALDESC:Veranstaltungen für Aniada a Noar
REFRESH-INTERVAL;VALUE=DURATION:PT1H
X-Robots-Tag:noindex
X-PUBLISHED-TTL:PT1H
BEGIN:VTIMEZONE
TZID:UTC
BEGIN:STANDARD
TZOFFSETFROM:+0000
TZOFFSETTO:+0000
TZNAME:UTC
DTSTART:20180101T000000
END:STANDARD
END:VTIMEZONE
BEGIN:VEVENT
DTSTART;TZID=UTC:20190502T170000
DTEND;TZID=UTC:20190502T173000
DTSTAMP:20260424T063136
CREATED:20190429T061053Z
LAST-MODIFIED:20190429T061053Z
UID:10000514-1556816400-1556818200@aniada.at
SUMMARY:Aniada a Noar in der Galerie Zwischenbilder im Sozialamt Graz / Ausstellungseröffnung "Kunstwerke III"
DESCRIPTION:Viele soziokulturelle Einrichtungen bieten Menschen künstlerische Ausbildungen und kreative Aufgaben an. Für die Ausstellung „Kunstwerke“ sammeln wir gemeinsam die Werke der Besucherinnen und Besucher dieser Angebote\, um sie einer breiten Öffentlichkeit vorzustellen. 37 Künstlerinnen und Künstler aus acht steirischen Kreativ-Werkstätten zeigen ihre Arbeiten. Die Ausstellung präsentiert die sehr persönlichen und unangepassten Ergebnisse einer einzigartigen und kraftvollen Auseinandersetzung mit Kunst.\n\nIn Zusammenarbeit mit: Lebenshilfen soziale Dienste GmbH\, Malatelier Randkunst Graz; Malatelier Randkunst Lieboch; Jugend am Werk\, Malwerkstatt Graz; Sozialtherapeutikum Steiermark Haus Sonnleiten;  Odilien-Institut; Leib & Söl\, Passail; alpha nova\, Tageswerkstätte Lannach & alpha nova Medienbüro; Wolfgang Palle (Behindertenbeauftragter der Stadt Graz) \n  \n 
URL:https://aniada.at/event/aniada-a-noar-in-der-galerie-zwischenbilder-im-sozialamt-graz-ausstellungseroeffnung-kunstwerke-iii-2/
LOCATION:Graz Galerie Zwischenbilder\, Schmiedgasse 26\, Graz\, 8010
ORGANIZER;CN="culture unlimited":MAILTO:info@culture-unlimited.com
END:VEVENT
BEGIN:VEVENT
DTSTART;TZID=UTC:20190502T170000
DTEND;TZID=UTC:20190502T173000
DTSTAMP:20260424T063136
CREATED:20190429T061053Z
LAST-MODIFIED:20190429T061330Z
UID:10000195-1556816400-1556818200@aniada.at
SUMMARY:Aniada a Noar in der Galerie Zwischenbilder im Sozialamt Graz / Ausstellungseröffnung "Kunstwerke III"
DESCRIPTION:Viele soziokulturelle Einrichtungen bieten Menschen künstlerische Ausbildungen und kreative Aufgaben an. Für die Ausstellung „Kunstwerke“ sammeln wir gemeinsam die Werke der Besucherinnen und Besucher dieser Angebote\, um sie einer breiten Öffentlichkeit vorzustellen. 37 Künstlerinnen und Künstler aus acht steirischen Kreativ-Werkstätten zeigen ihre Arbeiten. Die Ausstellung präsentiert die sehr persönlichen und unangepassten Ergebnisse einer einzigartigen und kraftvollen Auseinandersetzung mit Kunst.\n\nIn Zusammenarbeit mit: Lebenshilfen soziale Dienste GmbH\, Malatelier Randkunst Graz; Malatelier Randkunst Lieboch; Jugend am Werk\, Malwerkstatt Graz; Sozialtherapeutikum Steiermark Haus Sonnleiten;  Odilien-Institut; Leib & Söl\, Passail; alpha nova\, Tageswerkstätte Lannach & alpha nova Medienbüro; Wolfgang Palle (Behindertenbeauftragter der Stadt Graz) \n  \n 
URL:https://aniada.at/event/aniada-a-noar-in-der-galerie-zwischenbilder-im-sozialamt-graz-ausstellungseroeffnung-kunstwerke-iii/
LOCATION:Graz Galerie Zwischenbilder\, Schmiedgasse 26\, Graz\, 8010
ORGANIZER;CN="culture unlimited":MAILTO:info@culture-unlimited.com
END:VEVENT
BEGIN:VEVENT
DTSTART;TZID=UTC:20190518T210000
DTEND;TZID=UTC:20190518T220000
DTSTAMP:20260424T063136
CREATED:20190424T085941Z
LAST-MODIFIED:20190424T085941Z
UID:10000503-1558213200-1558216800@aniada.at
SUMMARY:In Compagnia beim Festival  „Cantomaggio“
DESCRIPTION:Samstag 18. Mai   ca. 2100 Uhr \nFestival „Cantomaggio“ \nIn Compagnia mit Emma Montanari\, Flavio Bortuzzo und Giulio Venier \nCentro Storico \n60030 Morro d’Alba (AN) \n 
URL:https://aniada.at/event/in-compagnia-beim-festival-cantomaggio-2/
LOCATION:Morro d’Alba Centro Storico\, Morro d´Alba (AN)\, 60030\, Italien
END:VEVENT
BEGIN:VEVENT
DTSTART;TZID=UTC:20190518T210000
DTEND;TZID=UTC:20190518T220000
DTSTAMP:20260424T063136
CREATED:20190424T085941Z
LAST-MODIFIED:20190424T085941Z
UID:10000180-1558213200-1558216800@aniada.at
SUMMARY:In Compagnia beim Festival  „Cantomaggio“
DESCRIPTION:Samstag 18. Mai   ca. 2100 Uhr \nFestival „Cantomaggio“ \nIn Compagnia mit Emma Montanari\, Flavio Bortuzzo und Giulio Venier \nCentro Storico \n60030 Morro d’Alba (AN) \n 
URL:https://aniada.at/event/in-compagnia-beim-festival-cantomaggio/
LOCATION:Morro d’Alba Centro Storico\, Morro d´Alba (AN)\, 60030\, Italien
END:VEVENT
BEGIN:VEVENT
DTSTART;TZID=UTC:20190519T120000
DTEND;TZID=UTC:20190519T140000
DTSTAMP:20260424T063136
CREATED:20190424T090157Z
LAST-MODIFIED:20190424T090157Z
UID:10000504-1558267200-1558274400@aniada.at
SUMMARY:In Compagnia beim Festival  „Cantomaggio“ / gemeinsame Abschlussveranstaltung
DESCRIPTION:Sonntag\, 19. Mai   ca. 12 h \nFestival „Cantomaggio“\, gemeinsame Abschlussveranstaltung \nCentro Storico
URL:https://aniada.at/event/in-compagnia-beim-festival-cantomaggio-gemeinsame-abschlussveranstaltung-2/
LOCATION:Morro d’Alba Centro Storico\, Morro d´Alba (AN)\, 60030\, Italien
END:VEVENT
BEGIN:VEVENT
DTSTART;TZID=UTC:20190519T120000
DTEND;TZID=UTC:20190519T140000
DTSTAMP:20260424T063136
CREATED:20190424T090157Z
LAST-MODIFIED:20190424T090157Z
UID:10000182-1558267200-1558274400@aniada.at
SUMMARY:In Compagnia beim Festival  „Cantomaggio“ / gemeinsame Abschlussveranstaltung
DESCRIPTION:Sonntag\, 19. Mai   ca. 12 h \nFestival „Cantomaggio“\, gemeinsame Abschlussveranstaltung \nCentro Storico
URL:https://aniada.at/event/in-compagnia-beim-festival-cantomaggio-gemeinsame-abschlussveranstaltung/
LOCATION:Morro d’Alba Centro Storico\, Morro d´Alba (AN)\, 60030\, Italien
END:VEVENT
BEGIN:VEVENT
DTSTART;TZID=UTC:20190529T200000
DTEND;TZID=UTC:20190529T220000
DTSTAMP:20260424T063136
CREATED:20190107T115343Z
LAST-MODIFIED:20190107T115343Z
UID:10000497-1559160000-1559167200@aniada.at
SUMMARY:Aniada a Noar mit "Zwitschern" im Alten Kino in St. Florian
DESCRIPTION:
URL:https://aniada.at/event/aniada-a-noar-mit-zwitschern-im-alten-kino-in-st-florian-2/
LOCATION:St. Florian Altes Kino\, Wiener Strasse 8\, St. Florian\, 4490
END:VEVENT
BEGIN:VEVENT
DTSTART;TZID=UTC:20190529T200000
DTEND;TZID=UTC:20190529T220000
DTSTAMP:20260424T063136
CREATED:20190107T115343Z
LAST-MODIFIED:20190107T115343Z
UID:10000168-1559160000-1559167200@aniada.at
SUMMARY:Aniada a Noar mit "Zwitschern" im Alten Kino in St. Florian
DESCRIPTION:
URL:https://aniada.at/event/aniada-a-noar-mit-zwitschern-im-alten-kino-in-st-florian/
LOCATION:St. Florian Altes Kino\, Wiener Strasse 8\, St. Florian\, 4490
END:VEVENT
BEGIN:VEVENT
DTSTART;TZID=UTC:20190530T200000
DTEND;TZID=UTC:20190530T220000
DTSTAMP:20260424T063136
CREATED:20190424T090927Z
LAST-MODIFIED:20190424T090927Z
UID:10000505-1559246400-1559253600@aniada.at
SUMMARY:Aufgrund der großen Nachfrage im März: Zusatztermin im Theatercafé Graz
DESCRIPTION:Donnerstag\, 30. Mai   20.00 h \nGraz\, Theatercafė  Mandellstr. 11  8010 Graz \n+43 316 842043   www.hinwider.com \nZusatztermin aufgrund der großen Nachfrage im März \n 
URL:https://aniada.at/event/aufgrund-der-grossen-nachfrage-im-maerz-zusatztermin-im-theatercafe-graz-2/
LOCATION:Graz Theater Café\, Mandellstraße 11\, Graz\, 8010
END:VEVENT
BEGIN:VEVENT
DTSTART;TZID=UTC:20190530T200000
DTEND;TZID=UTC:20190530T220000
DTSTAMP:20260424T063136
CREATED:20190424T090927Z
LAST-MODIFIED:20190424T091541Z
UID:10000184-1559246400-1559253600@aniada.at
SUMMARY:Aufgrund der großen Nachfrage im März: Zusatztermin im Theatercafé Graz
DESCRIPTION:Donnerstag\, 30. Mai   20.00 h \nGraz\, Theatercafė  Mandellstr. 11  8010 Graz \n+43 316 842043   www.hinwider.com \nZusatztermin aufgrund der großen Nachfrage im März \n 
URL:https://aniada.at/event/aufgrund-der-grossen-nachfrage-im-maerz-zusatztermin-im-theatercafe-graz/
LOCATION:Graz Theater Café\, Mandellstraße 11\, Graz\, 8010
ORGANIZER;CN="Graz Hin & Wider":MAILTO:buero.hinwider.com
END:VEVENT
END:VCALENDAR