BEGIN:VCALENDAR
VERSION:2.0
PRODID:-//Aniada a Noar - ECPv6.15.11//NONSGML v1.0//EN
CALSCALE:GREGORIAN
METHOD:PUBLISH
X-WR-CALNAME:Aniada a Noar
X-ORIGINAL-URL:https://aniada.at
X-WR-CALDESC:Veranstaltungen für Aniada a Noar
REFRESH-INTERVAL;VALUE=DURATION:PT1H
X-Robots-Tag:noindex
X-PUBLISHED-TTL:PT1H
BEGIN:VTIMEZONE
TZID:UTC
BEGIN:STANDARD
TZOFFSETFROM:+0000
TZOFFSETTO:+0000
TZNAME:UTC
DTSTART:20180101T000000
END:STANDARD
END:VTIMEZONE
BEGIN:VEVENT
DTSTART;TZID=UTC:20190317T200000
DTEND;TZID=UTC:20190317T200000
DTSTAMP:20260424T093039
CREATED:20181230T172836Z
LAST-MODIFIED:20181230T172836Z
UID:10000489-1552852800-1552852800@aniada.at
SUMMARY:Vorpremiere "Zwitschern" im Schlosskeller Ligist
DESCRIPTION:
URL:https://aniada.at/event/vorpremiere-zwitschern-2/
LOCATION:Ligist Schlosskelller\, Ligist 1\, Ligist\, Steiermark\, 8563\, Österreich
END:VEVENT
BEGIN:VEVENT
DTSTART;TZID=UTC:20190317T200000
DTEND;TZID=UTC:20190317T200000
DTSTAMP:20260424T093039
CREATED:20181230T172836Z
LAST-MODIFIED:20190107T113230Z
UID:10000160-1552852800-1552852800@aniada.at
SUMMARY:Vorpremiere "Zwitschern" im Schlosskeller Ligist
DESCRIPTION:
URL:https://aniada.at/event/vorpremiere-zwitschern/
LOCATION:Ligist Schlosskelller\, Ligist 1\, Ligist\, Steiermark\, 8563\, Österreich
END:VEVENT
BEGIN:VEVENT
DTSTART;TZID=UTC:20190319T133000
DTEND;TZID=UTC:20190319T143000
DTSTAMP:20260424T093039
CREATED:20181230T174927Z
LAST-MODIFIED:20181230T174927Z
UID:10000490-1553002200-1553005800@aniada.at
SUMMARY:MUTH Wien\, Verein Kulturmittag
DESCRIPTION:Kultur ist\, was der Mensch selbst gestaltend hervorbringt\, sei es in der Musik\, der Kunst oder in der Pflege der Tradition. Aniada a Noar beim Kulturmittag im Konzertsaal der Wiener Sängerknaben.
URL:https://aniada.at/event/muth-wien-verein-kulturmittag-2/
LOCATION:Wien Muth\, Am Augartenspitz 1 (Ecke Castellezgasse)\, Wien\, Wien\, 1020\, Österreich
END:VEVENT
BEGIN:VEVENT
DTSTART;TZID=UTC:20190319T133000
DTEND;TZID=UTC:20190319T143000
DTSTAMP:20260424T093039
CREATED:20181230T174927Z
LAST-MODIFIED:20190304T093922Z
UID:10000161-1553002200-1553005800@aniada.at
SUMMARY:MUTH Wien\, Verein Kulturmittag
DESCRIPTION:Kultur ist\, was der Mensch selbst gestaltend hervorbringt\, sei es in der Musik\, der Kunst oder in der Pflege der Tradition. Aniada a Noar beim Kulturmittag im Konzertsaal der Wiener Sängerknaben.
URL:https://aniada.at/event/muth-wien-verein-kulturmittag/
LOCATION:Wien Muth\, Am Augartenspitz 1 (Ecke Castellezgasse)\, Wien\, Wien\, 1020\, Österreich
END:VEVENT
BEGIN:VEVENT
DTSTART;TZID=UTC:20190321T193000
DTEND;TZID=UTC:20190321T193000
DTSTAMP:20260424T093039
CREATED:20181230T180124Z
LAST-MODIFIED:20181230T180124Z
UID:10000491-1553196600-1553196600@aniada.at
SUMMARY:Aniada a Noar in der Ottersbachmühle
DESCRIPTION:Musikalischer Hochgenuss in der 400Jahren alten Ottersbachmühle. Aniada a Noar spielt auf!
URL:https://aniada.at/event/aniada-a-noar-in-der-ottersbachmuehle-2/
LOCATION:St. Peter Ottersbachmühle\, Wittmannsdorf 14\, St. Peter\, Steiermark\, 8093\, Österreich
END:VEVENT
BEGIN:VEVENT
DTSTART;TZID=UTC:20190321T193000
DTEND;TZID=UTC:20190321T193000
DTSTAMP:20260424T093039
CREATED:20181230T180124Z
LAST-MODIFIED:20181230T180124Z
UID:10000162-1553196600-1553196600@aniada.at
SUMMARY:Aniada a Noar in der Ottersbachmühle
DESCRIPTION:Musikalischer Hochgenuss in der 400Jahren alten Ottersbachmühle. Aniada a Noar spielt auf!
URL:https://aniada.at/event/aniada-a-noar-in-der-ottersbachmuehle/
LOCATION:St. Peter Ottersbachmühle\, Wittmannsdorf 14\, St. Peter\, Steiermark\, 8093\, Österreich
END:VEVENT
BEGIN:VEVENT
DTSTART;TZID=UTC:20190323T200000
DTEND;TZID=UTC:20190323T200000
DTSTAMP:20260424T093039
CREATED:20181230T181400Z
LAST-MODIFIED:20181230T181400Z
UID:10000492-1553371200-1553371200@aniada.at
SUMMARY:Premiere "Zwitschern" im Theatercafé
DESCRIPTION:Es war am 19. September 1885\, eine Grazer Institution – das heutige Theatercafe‘ öffnete seine Pforten…… am 23.März 2019 erleben Sie die Premiere „Zwitschern“ mit Aniada a Noar!
URL:https://aniada.at/event/premiere-zwitschern-2/
LOCATION:Graz „Hin & Wider“ im Theatercafe\, Mandellstraße 11\, Graz\, Steiermark\, 8010\, Österreich
END:VEVENT
BEGIN:VEVENT
DTSTART;TZID=UTC:20190323T200000
DTEND;TZID=UTC:20190323T200000
DTSTAMP:20260424T093039
CREATED:20181230T181400Z
LAST-MODIFIED:20190107T100509Z
UID:10000163-1553371200-1553371200@aniada.at
SUMMARY:Premiere "Zwitschern" im Theatercafé
DESCRIPTION:Es war am 19. September 1885\, eine Grazer Institution – das heutige Theatercafe‘ öffnete seine Pforten…… am 23.März 2019 erleben Sie die Premiere „Zwitschern“ mit Aniada a Noar!
URL:https://aniada.at/event/premiere-zwitschern/
LOCATION:Graz „Hin & Wider“ im Theatercafe\, Mandellstraße 11\, Graz\, Steiermark\, 8010\, Österreich
END:VEVENT
BEGIN:VEVENT
DTSTART;TZID=UTC:20190326T200000
DTEND;TZID=UTC:20190326T200000
DTSTAMP:20260424T093039
CREATED:20181230T182316Z
LAST-MODIFIED:20181230T182316Z
UID:10000493-1553630400-1553630400@aniada.at
SUMMARY:"Zwitschern" im Theatercafé
DESCRIPTION:Theatercafe – Aniada a Noar – Eierspeis…. besser geht`s nimmer!
URL:https://aniada.at/event/zwitschern-3/
LOCATION:Graz „Hin & Wider“ im Theatercafe\, Mandellstraße 11\, Graz\, Steiermark\, 8010\, Österreich
END:VEVENT
BEGIN:VEVENT
DTSTART;TZID=UTC:20190326T200000
DTEND;TZID=UTC:20190326T200000
DTSTAMP:20260424T093039
CREATED:20181230T182316Z
LAST-MODIFIED:20190107T113836Z
UID:10000164-1553630400-1553630400@aniada.at
SUMMARY:"Zwitschern" im Theatercafé
DESCRIPTION:Theatercafe – Aniada a Noar – Eierspeis…. besser geht`s nimmer!
URL:https://aniada.at/event/zwitschern/
LOCATION:Graz „Hin & Wider“ im Theatercafe\, Mandellstraße 11\, Graz\, Steiermark\, 8010\, Österreich
END:VEVENT
BEGIN:VEVENT
DTSTART;TZID=UTC:20190327T200000
DTEND;TZID=UTC:20190327T200000
DTSTAMP:20260424T093039
CREATED:20181230T183146Z
LAST-MODIFIED:20181230T183146Z
UID:10000494-1553716800-1553716800@aniada.at
SUMMARY:"Zwitschern" im Theatercafé
DESCRIPTION:In der Heimat verwurzelt und doch immer über den Tellerrand schauend\, Aniada a Noar spielen im legendären Grazer Theatercafe‘.
URL:https://aniada.at/event/zwitschern-2-2/
LOCATION:Graz „Hin & Wider“ im Theatercafe\, Mandellstraße 11\, Graz\, Steiermark\, 8010\, Österreich
END:VEVENT
BEGIN:VEVENT
DTSTART;TZID=UTC:20190327T200000
DTEND;TZID=UTC:20190327T200000
DTSTAMP:20260424T093039
CREATED:20181230T183146Z
LAST-MODIFIED:20190107T113906Z
UID:10000165-1553716800-1553716800@aniada.at
SUMMARY:"Zwitschern" im Theatercafé
DESCRIPTION:In der Heimat verwurzelt und doch immer über den Tellerrand schauend\, Aniada a Noar spielen im legendären Grazer Theatercafe‘.
URL:https://aniada.at/event/zwitschern-2/
LOCATION:Graz „Hin & Wider“ im Theatercafe\, Mandellstraße 11\, Graz\, Steiermark\, 8010\, Österreich
END:VEVENT
BEGIN:VEVENT
DTSTART;TZID=UTC:20190328T193000
DTEND;TZID=UTC:20190328T213000
DTSTAMP:20260424T093040
CREATED:20181230T184442Z
LAST-MODIFIED:20190313T080659Z
UID:10000166-1553801400-1553808600@aniada.at
SUMMARY:Aniada a Noar und Gustl Schmölzer im großen Minoritensaal Graz
DESCRIPTION:Im großen Minoritensaal wo die Lebenslust des Barrock förmlich zu spüren ist ladet der Lions-Club Graz\,  Aniada a Noar sorgen für einen Musikalischen Höhenflug….. \nReservierungen unter: +43/664/3259646
URL:https://aniada.at/event/grosser-minoritensaal/
LOCATION:Graz Großer Minoritensaal\, Mariahilferplatz3\, Graz\, Steiermark\, 8020\, Österreich
END:VEVENT
BEGIN:VEVENT
DTSTART;TZID=UTC:20190328T193000
DTEND;TZID=UTC:20190328T213000
DTSTAMP:20260424T093040
CREATED:20181230T184442Z
LAST-MODIFIED:20181230T184442Z
UID:10000495-1553801400-1553808600@aniada.at
SUMMARY:Aniada a Noar und Gustl Schmölzer im großen Minoritensaal Graz
DESCRIPTION:Im großen Minoritensaal wo die Lebenslust des Barrock förmlich zu spüren ist ladet der Lions-Club Graz\,  Aniada a Noar sorgen für einen Musikalischen Höhenflug….. \nReservierungen unter: +43/664/3259646
URL:https://aniada.at/event/grosser-minoritensaal-2/
LOCATION:Graz Großer Minoritensaal\, Mariahilferplatz3\, Graz\, Steiermark\, 8020\, Österreich
END:VEVENT
END:VCALENDAR