BEGIN:VCALENDAR
VERSION:2.0
PRODID:-//Aniada a Noar - ECPv6.15.11//NONSGML v1.0//EN
CALSCALE:GREGORIAN
METHOD:PUBLISH
X-WR-CALNAME:Aniada a Noar
X-ORIGINAL-URL:https://aniada.at
X-WR-CALDESC:Veranstaltungen für Aniada a Noar
REFRESH-INTERVAL;VALUE=DURATION:PT1H
X-Robots-Tag:noindex
X-PUBLISHED-TTL:PT1H
BEGIN:VTIMEZONE
TZID:UTC
BEGIN:STANDARD
TZOFFSETFROM:+0000
TZOFFSETTO:+0000
TZNAME:UTC
DTSTART:20180101T000000
END:STANDARD
END:VTIMEZONE
BEGIN:VEVENT
DTSTART;TZID=UTC:20190104T063000
DTEND;TZID=UTC:20190104T090000
DTSTAMP:20260424T124757
CREATED:20181230T151750Z
LAST-MODIFIED:20181230T151831Z
UID:10000157-1546583400-1546592400@aniada.at
SUMMARY:„Guten Morgen Österreich“ aus Ligist
DESCRIPTION:Das bekannte Frühstücksfernsehen des ORF Österreich sendet am 4.1.2019 live vom Ligister Marktplatz! \nSeid mit dabei. Beginn 06:30 Uhr. Liveübertragung in ORF2.
URL:https://aniada.at/event/guten-morgen-oesterreich-aus-ligist/
LOCATION:Ligist Marktplatz\, Ligist\, Ligist\, Steiermark\, 8563\, Österreich
END:VEVENT
BEGIN:VEVENT
DTSTART;TZID=UTC:20190104T063000
DTEND;TZID=UTC:20190104T090000
DTSTAMP:20260424T124757
CREATED:20181230T151750Z
LAST-MODIFIED:20181230T151750Z
UID:10000486-1546583400-1546592400@aniada.at
SUMMARY:„Guten Morgen Österreich“ aus Ligist
DESCRIPTION:Das bekannte Frühstücksfernsehen des ORF Österreich sendet am 4.1.2019 live vom Ligister Marktplatz! \nSeid mit dabei. Beginn 06:30 Uhr. Liveübertragung in ORF2.
URL:https://aniada.at/event/guten-morgen-oesterreich-aus-ligist-2/
LOCATION:Ligist Marktplatz\, Ligist\, Ligist\, Steiermark\, 8563\, Österreich
END:VEVENT
BEGIN:VEVENT
DTSTART;TZID=UTC:20190125T200000
DTEND;TZID=UTC:20190125T200000
DTSTAMP:20260424T124757
CREATED:20181230T155231Z
LAST-MODIFIED:20181230T162210Z
UID:10000158-1548446400-1548446400@aniada.at
SUMMARY:Erdball im Labyrintkeller Umschaid
DESCRIPTION:Bereits zum neunzehnten Mal findet der Ball tief  unter den Wurzeln der Weingärten statt. Inzwischen eine gesellschaftliche Institution ersten Ranges\, wo außerirdische Themen unterirdisch besprochen werden. Der musikalische Hochgenuss in der Romantik der alten Lehmröhren\, das große Angebot an Weinen und köstlichen Weinviertler Schmankerln…..Getanzt wird in klassischen lässigen Fracks und ungestümen Kostümen…Gespielt wird unter anderm von Aniada a Noar.
URL:https://aniada.at/event/erdball-im-labyrintkeller-umschaid/
LOCATION:Herrnbaumgarten Labyrinthkeller Umschaid\, Haupstraße 49\, Herrnbaumgarten\, Niederösterreich\, 2171\, Österreich
END:VEVENT
BEGIN:VEVENT
DTSTART;TZID=UTC:20190125T200000
DTEND;TZID=UTC:20190125T200000
DTSTAMP:20260424T124757
CREATED:20181230T155231Z
LAST-MODIFIED:20181230T155231Z
UID:10000487-1548446400-1548446400@aniada.at
SUMMARY:Erdball im Labyrintkeller Umschaid
DESCRIPTION:Bereits zum neunzehnten Mal findet der Ball tief  unter den Wurzeln der Weingärten statt. Inzwischen eine gesellschaftliche Institution ersten Ranges\, wo außerirdische Themen unterirdisch besprochen werden. Der musikalische Hochgenuss in der Romantik der alten Lehmröhren\, das große Angebot an Weinen und köstlichen Weinviertler Schmankerln…..Getanzt wird in klassischen lässigen Fracks und ungestümen Kostümen…Gespielt wird unter anderm von Aniada a Noar.
URL:https://aniada.at/event/erdball-im-labyrintkeller-umschaid-2/
LOCATION:Herrnbaumgarten Labyrinthkeller Umschaid\, Haupstraße 49\, Herrnbaumgarten\, Niederösterreich\, 2171\, Österreich
END:VEVENT
END:VCALENDAR