BEGIN:VCALENDAR
VERSION:2.0
PRODID:-//Aniada a Noar - ECPv6.15.11//NONSGML v1.0//EN
CALSCALE:GREGORIAN
METHOD:PUBLISH
X-WR-CALNAME:Aniada a Noar
X-ORIGINAL-URL:https://aniada.at
X-WR-CALDESC:Veranstaltungen für Aniada a Noar
REFRESH-INTERVAL;VALUE=DURATION:PT1H
X-Robots-Tag:noindex
X-PUBLISHED-TTL:PT1H
BEGIN:VTIMEZONE
TZID:UTC
BEGIN:STANDARD
TZOFFSETFROM:+0000
TZOFFSETTO:+0000
TZNAME:UTC
DTSTART:20170101T000000
END:STANDARD
END:VTIMEZONE
BEGIN:VEVENT
DTSTART;TZID=UTC:20181207T190000
DTEND;TZID=UTC:20181207T213000
DTSTAMP:20260424T141551
CREATED:20181121T074008Z
LAST-MODIFIED:20181203T093824Z
UID:10000156-1544209200-1544218200@aniada.at
SUMMARY:Slowenisch- Steirischer Advent mit Brina in Maribor
DESCRIPTION:Maribor\nFreitag\, 07. Dezember um 19:00 Uhr\nVetrinjski dvor\, Vetrinjska ulica 30\, Maribor\n+386 2 228 1250    vetrinjski.dvor@nd-mb.si
URL:https://aniada.at/event/advent-mit-brina-in-maribor/
LOCATION:Maribor Vetrinjski dvor\, Vetrinjska ulica 30\, Maribor
END:VEVENT
BEGIN:VEVENT
DTSTART;TZID=UTC:20181207T190000
DTEND;TZID=UTC:20181207T213000
DTSTAMP:20260424T141551
CREATED:20181121T074008Z
LAST-MODIFIED:20181121T074008Z
UID:10000485-1544209200-1544218200@aniada.at
SUMMARY:Slowenisch- Steirischer Advent mit Brina in Maribor
DESCRIPTION:Maribor\nFreitag\, 07. Dezember um 19:00 Uhr\nVetrinjski dvor\, Vetrinjska ulica 30\, Maribor\n+386 2 228 1250    vetrinjski.dvor@nd-mb.si
URL:https://aniada.at/event/advent-mit-brina-in-maribor-2/
LOCATION:Maribor Vetrinjski dvor\, Vetrinjska ulica 30\, Maribor
END:VEVENT
BEGIN:VEVENT
DTSTART;TZID=UTC:20181213T193000
DTEND;TZID=UTC:20181213T220000
DTSTAMP:20260424T141551
CREATED:20180705T085056Z
LAST-MODIFIED:20180705T085056Z
UID:10000473-1544729400-1544738400@aniada.at
SUMMARY:Slowenisch-steirischer Advent im Granatium Stollen | Radenthein
DESCRIPTION:Vorverkauf: Raiba Radenthein / Kelag PlusClub\nVorverkauf: € 20\,00\, Abendkasse: € 22\,00 \nMehr Infos =>
URL:https://aniada.at/event/slowenisch-steirischer-advent-im-granatium-stollen-radenthein-2/
LOCATION:Radenthein Granatium Stollen\, Klammweg 10\, Radenthein\, Kärnten\, 9545\, Österreich
END:VEVENT
BEGIN:VEVENT
DTSTART;TZID=UTC:20181213T193000
DTEND;TZID=UTC:20181213T220000
DTSTAMP:20260424T141551
CREATED:20180705T085056Z
LAST-MODIFIED:20181203T093908Z
UID:10000072-1544729400-1544738400@aniada.at
SUMMARY:Slowenisch-steirischer Advent im Granatium Stollen | Radenthein
DESCRIPTION:Vorverkauf: Raiba Radenthein / Kelag PlusClub\nVorverkauf: € 20\,00\, Abendkasse: € 22\,00 \nMehr Infos =>
URL:https://aniada.at/event/slowenisch-steirischer-advent-im-granatium-stollen-radenthein/
LOCATION:Radenthein Granatium Stollen\, Klammweg 10\, Radenthein\, Kärnten\, 9545\, Österreich
END:VEVENT
BEGIN:VEVENT
DTSTART;TZID=UTC:20181214T193000
DTEND;TZID=UTC:20181214T220000
DTSTAMP:20260424T141551
CREATED:20180705T085537Z
LAST-MODIFIED:20181203T094315Z
UID:10000068-1544815800-1544824800@aniada.at
SUMMARY:Slowenisch-steirischer Advent in der Pfarrkirche Kellberg bei Passau
DESCRIPTION:Karten erhält man entweder beim Kirchenwirt \n=> T.Nr. +49 85018116 Mail: info@kirchenwirt-kellberg.de \nUnd bei allen Geschäftsstellen der PNP (Passauer Neue Presse) T.NR. +49 8586 97270
URL:https://aniada.at/event/slowenisch-steirischer-advent-in-kellberg-bei-passau/
LOCATION:Kellberg Pfarrkirche\, St. Blasius Straße 3\, Thyrnau\, Niederbayern\, 94136\, Deutschland
END:VEVENT
BEGIN:VEVENT
DTSTART;TZID=UTC:20181214T193000
DTEND;TZID=UTC:20181214T220000
DTSTAMP:20260424T141551
CREATED:20180705T085537Z
LAST-MODIFIED:20180705T085537Z
UID:10000474-1544815800-1544824800@aniada.at
SUMMARY:Slowenisch-steirischer Advent in der Pfarrkirche Kellberg bei Passau
DESCRIPTION:Karten erhält man entweder beim Kirchenwirt \n=> T.Nr. +49 85018116 Mail: info@kirchenwirt-kellberg.de \nUnd bei allen Geschäftsstellen der PNP (Passauer Neue Presse) T.NR. +49 8586 97270
URL:https://aniada.at/event/slowenisch-steirischer-advent-in-kellberg-bei-passau-2/
LOCATION:Kellberg Pfarrkirche\, St. Blasius Straße 3\, Thyrnau\, Niederbayern\, 94136\, Deutschland
END:VEVENT
BEGIN:VEVENT
DTSTART;TZID=UTC:20181215T200000
DTEND;TZID=UTC:20181215T223000
DTSTAMP:20260424T141551
CREATED:20180705T085711Z
LAST-MODIFIED:20181203T094353Z
UID:10000070-1544904000-1544913000@aniada.at
SUMMARY:Slowenisch-steirischer Advent im Bräugasthof Lobisser
DESCRIPTION:
URL:https://aniada.at/event/slowenisch-steirischer-advent-im-braeugasthof-lobisser/
LOCATION:Hallstatt Bräugasthof Lobisser\, Seestraße 120\, Hallstatt\, 4830
ORGANIZER;CN="Br%C3%A4ugasthof Lobisser":MAILTO:restaurant@brauhaus-lobisser.com
END:VEVENT
BEGIN:VEVENT
DTSTART;TZID=UTC:20181215T200000
DTEND;TZID=UTC:20181215T223000
DTSTAMP:20260424T141551
CREATED:20180705T085711Z
LAST-MODIFIED:20180705T085711Z
UID:10000475-1544904000-1544913000@aniada.at
SUMMARY:Slowenisch-steirischer Advent im Bräugasthof Lobisser
DESCRIPTION:
URL:https://aniada.at/event/slowenisch-steirischer-advent-im-braeugasthof-lobisser-2/
LOCATION:Hallstatt Bräugasthof Lobisser\, Seestraße 120\, Hallstatt\, 4830
ORGANIZER;CN="Br%C3%A4ugasthof Lobisser":MAILTO:restaurant@brauhaus-lobisser.com
END:VEVENT
BEGIN:VEVENT
DTSTART;TZID=UTC:20181216T200000
DTEND;TZID=UTC:20181216T223000
DTSTAMP:20260424T141551
CREATED:20180705T090013Z
LAST-MODIFIED:20180705T090013Z
UID:10000476-1544990400-1544999400@aniada.at
SUMMARY:Slowenisch-steirischer Advent im Hotel Langwies | Bad Vigaun
DESCRIPTION:
URL:https://aniada.at/event/slowenisch-steirischer-advent-im-hotel-langwies-bad-vigaun-2/
LOCATION:Bad Vigaun Hotel Langwies\, Langwies 22\, Bad Vigaun\, Salzburg\, 5424\, Österreich
ORGANIZER;CN="Hotel Langwies":MAILTO:hotel@langwies.at
END:VEVENT
BEGIN:VEVENT
DTSTART;TZID=UTC:20181216T200000
DTEND;TZID=UTC:20181216T223000
DTSTAMP:20260424T141551
CREATED:20180705T090013Z
LAST-MODIFIED:20181203T094424Z
UID:10000079-1544990400-1544999400@aniada.at
SUMMARY:Slowenisch-steirischer Advent im Hotel Langwies | Bad Vigaun
DESCRIPTION:
URL:https://aniada.at/event/slowenisch-steirischer-advent-im-hotel-langwies-bad-vigaun/
LOCATION:Bad Vigaun Hotel Langwies\, Langwies 22\, Bad Vigaun\, Salzburg\, 5424\, Österreich
ORGANIZER;CN="Hotel Langwies":MAILTO:hotel@langwies.at
END:VEVENT
BEGIN:VEVENT
DTSTART;TZID=UTC:20181217T193000
DTEND;TZID=UTC:20181217T220000
DTSTAMP:20260424T141551
CREATED:20180705T090352Z
LAST-MODIFIED:20180705T090352Z
UID:10000477-1545075000-1545084000@aniada.at
SUMMARY:Slowenisch-steirischer Advent im Bockkeller in Wien
DESCRIPTION:
URL:https://aniada.at/event/slowenisch-steirischer-advent-im-bockkeller-in-wien-2/
LOCATION:Austria
ORGANIZER;CN="Wiener Volksliedwerk":MAILTO:office@wvlw.at
END:VEVENT
BEGIN:VEVENT
DTSTART;TZID=UTC:20181217T193000
DTEND;TZID=UTC:20181217T220000
DTSTAMP:20260424T141551
CREATED:20180705T090352Z
LAST-MODIFIED:20181203T094751Z
UID:10000081-1545075000-1545084000@aniada.at
SUMMARY:Slowenisch-steirischer Advent im Bockkeller in Wien
DESCRIPTION:
URL:https://aniada.at/event/slowenisch-steirischer-advent-im-bockkeller-in-wien/
LOCATION:Austria
ORGANIZER;CN="Wiener Volksliedwerk":MAILTO:office@wvlw.at
END:VEVENT
BEGIN:VEVENT
DTSTART;TZID=UTC:20181219T200000
DTEND;TZID=UTC:20181219T223000
DTSTAMP:20260424T141551
CREATED:20180705T090744Z
LAST-MODIFIED:20181203T094705Z
UID:10000076-1545249600-1545258600@aniada.at
SUMMARY:Slowenisch-steirischer Advent mit Brina im großen Minoritensaal\, Graz
DESCRIPTION:Besinnlich-fröhliche Advent-Tour 2018 \nOrt: Großer MInoritensaal\, Mariahilferplatz 3\, 8020 Graz \nAniada a Noars musikalische Reisen im Advent finden 2018 ihre spannende Fortsetzung. Ein lang gehegter Wunsch führt die Musiker zu den nächsten Nachbarn\, um vergessenen oder verloren geglaubten Gemeinsamkeiten nachzuspüren. \nBrina Vogelnik \nBrina gilt als die Stimme Sloweniens schlechthin. Sie entwickelte in ihren vielfältigen Projekten eine neue musikalische Sprache in Slowenien\, die aus einer langen Tradition von Volksliedern schöpfen kann. Mit ihren interessanten Interpretationen verleiht sie den für die slowenische Geschichte und Identität so wichtigen\, alten Liedern eine ganz neue Note. Brina transformiert sie behutsam\, lässt musikalische Zitate aus dem Jazz und aus der Worldmusic einfließen. Begleitet wird sie vom genialen Gitarristen Luka Ropret\, mit dem sie seit vielen Jahren zusammenarbeitet. \nBrina Vogelnik:        Gesang\, Melodika\nLuka Ropret:            Gesang\, Gitarre\, Oud\, Ukulele\nWolfgang Moitz:       Gesang\, Flöten\, Dudelsack\, Nasenflöte\, Akkordeon\nBertl Pfundner:        Gesang\, Ziehharmonika\, Mandoline\, Gitarre\nAndreas Safer:         Gesang\, Geige\, Mandoline\, Mandola\, Singende Säge \n  \nPreise: \n€ 23\,- Kat I\n€ 21\,- Kat II\n€ 19\,- Kat III \nReservierungen unter: 0664 213 13 86\noder unter info@aniada.at \nRasche Reservierung wird empfohlen!!! \n 
URL:https://aniada.at/event/slowenisch-steirischer-advent-im-grossen-minoritensaal-graz/
END:VEVENT
BEGIN:VEVENT
DTSTART;TZID=UTC:20181219T200000
DTEND;TZID=UTC:20181219T223000
DTSTAMP:20260424T141551
CREATED:20180705T090744Z
LAST-MODIFIED:20180705T090744Z
UID:10000478-1545249600-1545258600@aniada.at
SUMMARY:Slowenisch-steirischer Advent mit Brina im großen Minoritensaal\, Graz
DESCRIPTION:Besinnlich-fröhliche Advent-Tour 2018 \nOrt: Großer MInoritensaal\, Mariahilferplatz 3\, 8020 Graz \nAniada a Noars musikalische Reisen im Advent finden 2018 ihre spannende Fortsetzung. Ein lang gehegter Wunsch führt die Musiker zu den nächsten Nachbarn\, um vergessenen oder verloren geglaubten Gemeinsamkeiten nachzuspüren. \nBrina Vogelnik \nBrina gilt als die Stimme Sloweniens schlechthin. Sie entwickelte in ihren vielfältigen Projekten eine neue musikalische Sprache in Slowenien\, die aus einer langen Tradition von Volksliedern schöpfen kann. Mit ihren interessanten Interpretationen verleiht sie den für die slowenische Geschichte und Identität so wichtigen\, alten Liedern eine ganz neue Note. Brina transformiert sie behutsam\, lässt musikalische Zitate aus dem Jazz und aus der Worldmusic einfließen. Begleitet wird sie vom genialen Gitarristen Luka Ropret\, mit dem sie seit vielen Jahren zusammenarbeitet. \nBrina Vogelnik:        Gesang\, Melodika\nLuka Ropret:            Gesang\, Gitarre\, Oud\, Ukulele\nWolfgang Moitz:       Gesang\, Flöten\, Dudelsack\, Nasenflöte\, Akkordeon\nBertl Pfundner:        Gesang\, Ziehharmonika\, Mandoline\, Gitarre\nAndreas Safer:         Gesang\, Geige\, Mandoline\, Mandola\, Singende Säge \n  \nPreise: \n€ 23\,- Kat I\n€ 21\,- Kat II\n€ 19\,- Kat III \nReservierungen unter: 0664 213 13 86\noder unter info@aniada.at \nRasche Reservierung wird empfohlen!!! \n 
URL:https://aniada.at/event/slowenisch-steirischer-advent-im-grossen-minoritensaal-graz-2/
END:VEVENT
BEGIN:VEVENT
DTSTART;TZID=UTC:20181220T200000
DTEND;TZID=UTC:20181220T223000
DTSTAMP:20260424T141551
CREATED:20180705T090902Z
LAST-MODIFIED:20181203T094817Z
UID:10000077-1545336000-1545345000@aniada.at
SUMMARY:Slowenisch-steirischer Advent im Kulturzentrum Leibnitz
DESCRIPTION:
URL:https://aniada.at/event/slowenisch-steirischer-advent-im-kulturzentrum-leibnitz/
LOCATION:Leibnitz Kulturzentrum\, Kaspar-Harb-Gasse 4\, Leibnitz\, Steiermark\, 8430\, Österreich
ORGANIZER;CN="Leibnitz KULT":MAILTO:office@leibnitz-kult.at 
END:VEVENT
BEGIN:VEVENT
DTSTART;TZID=UTC:20181220T200000
DTEND;TZID=UTC:20181220T223000
DTSTAMP:20260424T141551
CREATED:20180705T090902Z
LAST-MODIFIED:20180705T090902Z
UID:10000479-1545336000-1545345000@aniada.at
SUMMARY:Slowenisch-steirischer Advent im Kulturzentrum Leibnitz
DESCRIPTION:
URL:https://aniada.at/event/slowenisch-steirischer-advent-im-kulturzentrum-leibnitz-2/
LOCATION:Leibnitz Kulturzentrum\, Kaspar-Harb-Gasse 4\, Leibnitz\, Steiermark\, 8430\, Österreich
ORGANIZER;CN="Leibnitz KULT":MAILTO:office@leibnitz-kult.at 
END:VEVENT
END:VCALENDAR