BEGIN:VCALENDAR
VERSION:2.0
PRODID:-//Aniada a Noar - ECPv6.15.11//NONSGML v1.0//EN
CALSCALE:GREGORIAN
METHOD:PUBLISH
X-ORIGINAL-URL:https://aniada.at
X-WR-CALDESC:Veranstaltungen für Aniada a Noar
REFRESH-INTERVAL;VALUE=DURATION:PT1H
X-Robots-Tag:noindex
X-PUBLISHED-TTL:PT1H
BEGIN:VTIMEZONE
TZID:UTC
BEGIN:STANDARD
TZOFFSETFROM:+0000
TZOFFSETTO:+0000
TZNAME:UTC
DTSTART:20170101T000000
END:STANDARD
END:VTIMEZONE
BEGIN:VEVENT
DTSTART;TZID=UTC:20181003T193000
DTEND;TZID=UTC:20181003T203000
DTSTAMP:20260424T184149
CREATED:20180416T084058Z
LAST-MODIFIED:20180416T084058Z
UID:10000150-1538595000-1538598600@aniada.at
SUMMARY:Aniada a Noar im Penzinghof in Oberndorf in Tirol / Steirische Wochen
DESCRIPTION:T.  +43 5352 62905 \nMail:   info@penzinghof.at \nWebseite: www.penzinghof.at
URL:https://aniada.at/event/aniada-a-noar-im-penzinghof-in-oberndorf-in-tirol-steirische-wochen/
LOCATION:Oberndorf Hotel Penzinghof\, Penzingweg 14\, Oberndorf\, Tirol\, 6372\, Österreich
END:VEVENT
BEGIN:VEVENT
DTSTART;TZID=UTC:20181003T193000
DTEND;TZID=UTC:20181003T203000
DTSTAMP:20260424T184149
CREATED:20180416T084058Z
LAST-MODIFIED:20180416T084058Z
UID:10000469-1538595000-1538598600@aniada.at
SUMMARY:Aniada a Noar im Penzinghof in Oberndorf in Tirol / Steirische Wochen
DESCRIPTION:T.  +43 5352 62905 \nMail:   info@penzinghof.at \nWebseite: www.penzinghof.at
URL:https://aniada.at/event/aniada-a-noar-im-penzinghof-in-oberndorf-in-tirol-steirische-wochen-2/
LOCATION:Oberndorf Hotel Penzinghof\, Penzingweg 14\, Oberndorf\, Tirol\, 6372\, Österreich
END:VEVENT
BEGIN:VEVENT
DTSTART;TZID=UTC:20181004T200000
DTEND;TZID=UTC:20181004T210000
DTSTAMP:20260424T184149
CREATED:20180416T084455Z
LAST-MODIFIED:20180622T082558Z
UID:10000151-1538683200-1538686800@aniada.at
SUMMARY:Aniada a Noar im FeuerWerk in Fügen im Zillertal
DESCRIPTION:www.binderholz-feuerwerk.com
URL:https://aniada.at/event/aniada-a-noar-im-feuerwerk-in-fuegen-im-zillertal/
LOCATION:Fügen FeuerWerk bei binderholz\, Binderholz Straße 49\, Fügen\, Tirol\, 6263\, Österreich
END:VEVENT
BEGIN:VEVENT
DTSTART;TZID=UTC:20181004T200000
DTEND;TZID=UTC:20181004T210000
DTSTAMP:20260424T184149
CREATED:20180416T084455Z
LAST-MODIFIED:20180416T084455Z
UID:10000470-1538683200-1538686800@aniada.at
SUMMARY:Aniada a Noar im FeuerWerk in Fügen im Zillertal
DESCRIPTION:www.binderholz-feuerwerk.com
URL:https://aniada.at/event/aniada-a-noar-im-feuerwerk-in-fuegen-im-zillertal-2/
LOCATION:Fügen FeuerWerk bei binderholz\, Binderholz Straße 49\, Fügen\, Tirol\, 6263\, Österreich
END:VEVENT
BEGIN:VEVENT
DTSTART;TZID=UTC:20181005T200000
DTEND;TZID=UTC:20181005T220000
DTSTAMP:20260424T184149
CREATED:20180925T035005Z
LAST-MODIFIED:20180925T035005Z
UID:10000483-1538769600-1538776800@aniada.at
SUMMARY:Aniada a Noar im Gutshof Wolfgangsee
DESCRIPTION:Karten bei:  Raiffeisenbank Strobl\, Tourismusverband Strobl\, Welt-Laden Bad Ischl \nGutshof Wolfgangsee:\n+43 6137 20429   info@gutshof-wolfgangsee.at
URL:https://aniada.at/event/aniada-a-noar-im-gutshof-wolfgangsee-2/
LOCATION:Strobl Gutshof Wolfgangsee\, Parkweg 1\, Strobl\, 5350\, Österreich
END:VEVENT
BEGIN:VEVENT
DTSTART;TZID=UTC:20181005T200000
DTEND;TZID=UTC:20181005T220000
DTSTAMP:20260424T184149
CREATED:20180925T035005Z
LAST-MODIFIED:20180925T035005Z
UID:10000155-1538769600-1538776800@aniada.at
SUMMARY:Aniada a Noar im Gutshof Wolfgangsee
DESCRIPTION:Karten bei:  Raiffeisenbank Strobl\, Tourismusverband Strobl\, Welt-Laden Bad Ischl \nGutshof Wolfgangsee:\n+43 6137 20429   info@gutshof-wolfgangsee.at
URL:https://aniada.at/event/aniada-a-noar-im-gutshof-wolfgangsee/
LOCATION:Strobl Gutshof Wolfgangsee\, Parkweg 1\, Strobl\, 5350\, Österreich
END:VEVENT
BEGIN:VEVENT
DTSTART;TZID=UTC:20181011T193000
DTEND;TZID=UTC:20181011T203000
DTSTAMP:20260424T184149
CREATED:20180622T053004Z
LAST-MODIFIED:20180622T053004Z
UID:10000472-1539286200-1539289800@aniada.at
SUMMARY:Aniada a Noar im Haus der Regionen / Krems
DESCRIPTION:ticket@volkskulturnoe.at
URL:https://aniada.at/event/aniada-a-noar-im-haus-der-regionen-krems-2/
LOCATION:Krems Haus der Regionen\, Steiner Donaulände 56\, Krems an der Donau\, 3500\, Österreich
ORGANIZER;CN="Haus der Regionen":MAILTO:ticket@volkskulturnoe.at
END:VEVENT
BEGIN:VEVENT
DTSTART;TZID=UTC:20181011T193000
DTEND;TZID=UTC:20181011T203000
DTSTAMP:20260424T184149
CREATED:20180622T053004Z
LAST-MODIFIED:20180622T053004Z
UID:10000153-1539286200-1539289800@aniada.at
SUMMARY:Aniada a Noar im Haus der Regionen / Krems
DESCRIPTION:ticket@volkskulturnoe.at
URL:https://aniada.at/event/aniada-a-noar-im-haus-der-regionen-krems/
LOCATION:Krems Haus der Regionen\, Steiner Donaulände 56\, Krems an der Donau\, 3500\, Österreich
ORGANIZER;CN="Haus der Regionen":MAILTO:ticket@volkskulturnoe.at
END:VEVENT
END:VCALENDAR