BEGIN:VCALENDAR
VERSION:2.0
PRODID:-//Aniada a Noar - ECPv6.15.11//NONSGML v1.0//EN
CALSCALE:GREGORIAN
METHOD:PUBLISH
X-ORIGINAL-URL:https://aniada.at
X-WR-CALDESC:Veranstaltungen für Aniada a Noar
REFRESH-INTERVAL;VALUE=DURATION:PT1H
X-Robots-Tag:noindex
X-PUBLISHED-TTL:PT1H
BEGIN:VTIMEZONE
TZID:UTC
BEGIN:STANDARD
TZOFFSETFROM:+0000
TZOFFSETTO:+0000
TZNAME:UTC
DTSTART:20170101T000000
END:STANDARD
END:VTIMEZONE
BEGIN:VEVENT
DTSTART;TZID=UTC:20180705T200000
DTEND;TZID=UTC:20180705T210000
DTSTAMP:20260424T232447
CREATED:20180301T114423Z
LAST-MODIFIED:20180301T114423Z
UID:10000144-1530820800-1530824400@aniada.at
SUMMARY:Aniada a Noar im Weinhof Monschein in Schwabau bei Straden
DESCRIPTION:
URL:https://aniada.at/event/aniada-a-noar-im-weinhof-monschein-in-schwabau-bei-straden/
LOCATION:Straden Weinhof Monschein\, Dörflweg 21\, Schwabau\, 8345
END:VEVENT
BEGIN:VEVENT
DTSTART;TZID=UTC:20180705T200000
DTEND;TZID=UTC:20180705T210000
DTSTAMP:20260424T232447
CREATED:20180301T114423Z
LAST-MODIFIED:20180301T114423Z
UID:10000463-1530820800-1530824400@aniada.at
SUMMARY:Aniada a Noar im Weinhof Monschein in Schwabau bei Straden
DESCRIPTION:
URL:https://aniada.at/event/aniada-a-noar-im-weinhof-monschein-in-schwabau-bei-straden-2/
LOCATION:Straden Weinhof Monschein\, Dörflweg 21\, Schwabau\, 8345
END:VEVENT
BEGIN:VEVENT
DTSTART;TZID=UTC:20180713T200000
DTEND;TZID=UTC:20180713T210000
DTSTAMP:20260424T232447
CREATED:20180301T114537Z
LAST-MODIFIED:20180301T114537Z
UID:10000145-1531512000-1531515600@aniada.at
SUMMARY:In Compagnia beim Sommerfestival im Schilcherhof in Ligist
DESCRIPTION:
URL:https://aniada.at/event/in-compagnia-beim-sommerfestival-im-schilcherhof-in-ligist/
LOCATION:Austria
END:VEVENT
BEGIN:VEVENT
DTSTART;TZID=UTC:20180713T200000
DTEND;TZID=UTC:20180713T210000
DTSTAMP:20260424T232447
CREATED:20180301T114537Z
LAST-MODIFIED:20180301T114537Z
UID:10000464-1531512000-1531515600@aniada.at
SUMMARY:In Compagnia beim Sommerfestival im Schilcherhof in Ligist
DESCRIPTION:
URL:https://aniada.at/event/in-compagnia-beim-sommerfestival-im-schilcherhof-in-ligist-2/
LOCATION:Austria
END:VEVENT
BEGIN:VEVENT
DTSTART;TZID=UTC:20180718T190000
DTEND;TZID=UTC:20180718T210000
DTSTAMP:20260424T232447
CREATED:20180301T115258Z
LAST-MODIFIED:20180620T110233Z
UID:10000146-1531940400-1531947600@aniada.at
SUMMARY:Aniada a Noar beim Tollwood Festival in München - Hacker-Pschorr Brettl
DESCRIPTION:Hacker – Pschorr Brettl
URL:https://aniada.at/event/aniada-a-noar-beim-tollwood-festival-in-muenchen/
LOCATION:München Tollwood Festival\, Hacker Brettl/Waisenhausstr. 20\, München\, München\, 80637\, Deutschland
END:VEVENT
BEGIN:VEVENT
DTSTART;TZID=UTC:20180718T190000
DTEND;TZID=UTC:20180718T210000
DTSTAMP:20260424T232447
CREATED:20180301T115258Z
LAST-MODIFIED:20180301T115258Z
UID:10000465-1531940400-1531947600@aniada.at
SUMMARY:Aniada a Noar beim Tollwood Festival in München - Hacker-Pschorr Brettl
DESCRIPTION:Hacker – Pschorr Brettl
URL:https://aniada.at/event/aniada-a-noar-beim-tollwood-festival-in-muenchen-2/
LOCATION:München Tollwood Festival\, Hacker Brettl/Waisenhausstr. 20\, München\, München\, 80637\, Deutschland
END:VEVENT
BEGIN:VEVENT
DTSTART;TZID=UTC:20180719T200000
DTEND;TZID=UTC:20180719T213000
DTSTAMP:20260424T232447
CREATED:20180416T083052Z
LAST-MODIFIED:20180416T083052Z
UID:10000467-1532030400-1532035800@aniada.at
SUMMARY:Aniada a Noar in Passau\, Scharfrichterhaus
DESCRIPTION:
URL:https://aniada.at/event/aniada-a-noar-in-passau-scharfrichterhaus-2/
LOCATION:Passauer Scharfrichterhaus\, Deutschland
END:VEVENT
BEGIN:VEVENT
DTSTART;TZID=UTC:20180719T200000
DTEND;TZID=UTC:20180719T213000
DTSTAMP:20260424T232447
CREATED:20180416T083052Z
LAST-MODIFIED:20180618T064625Z
UID:10000148-1532030400-1532035800@aniada.at
SUMMARY:Aniada a Noar in Passau\, Scharfrichterhaus
DESCRIPTION:
URL:https://aniada.at/event/aniada-a-noar-in-passau-scharfrichterhaus/
LOCATION:Passauer Scharfrichterhaus\, Deutschland
END:VEVENT
BEGIN:VEVENT
DTSTART;TZID=UTC:20180720T200000
DTEND;TZID=UTC:20180720T210000
DTSTAMP:20260424T232447
CREATED:20180622T052427Z
LAST-MODIFIED:20180622T052427Z
UID:10000471-1532116800-1532120400@aniada.at
SUMMARY:Aniada a Noar in Arnfels im Café Lederhaas
DESCRIPTION:
URL:https://aniada.at/event/aniada-a-noar-in-arnfels-im-cafe-lederhaas-2/
LOCATION:Arnfels Café Lederhaas\, Leibnitzer Str. 18\, Arnfels\, 8454\, Österreich
END:VEVENT
BEGIN:VEVENT
DTSTART;TZID=UTC:20180720T200000
DTEND;TZID=UTC:20180720T210000
DTSTAMP:20260424T232447
CREATED:20180622T052427Z
LAST-MODIFIED:20180622T052427Z
UID:10000152-1532116800-1532120400@aniada.at
SUMMARY:Aniada a Noar in Arnfels im Café Lederhaas
DESCRIPTION:
URL:https://aniada.at/event/aniada-a-noar-in-arnfels-im-cafe-lederhaas/
LOCATION:Arnfels Café Lederhaas\, Leibnitzer Str. 18\, Arnfels\, 8454\, Österreich
END:VEVENT
END:VCALENDAR