BEGIN:VCALENDAR
VERSION:2.0
PRODID:-//Aniada a Noar - ECPv6.15.11//NONSGML v1.0//EN
CALSCALE:GREGORIAN
METHOD:PUBLISH
X-WR-CALNAME:Aniada a Noar
X-ORIGINAL-URL:https://aniada.at
X-WR-CALDESC:Veranstaltungen für Aniada a Noar
REFRESH-INTERVAL;VALUE=DURATION:PT1H
X-Robots-Tag:noindex
X-PUBLISHED-TTL:PT1H
BEGIN:VTIMEZONE
TZID:UTC
BEGIN:STANDARD
TZOFFSETFROM:+0000
TZOFFSETTO:+0000
TZNAME:UTC
DTSTART:20160101T000000
END:STANDARD
END:VTIMEZONE
BEGIN:VEVENT
DTSTART;TZID=UTC:20170901T190000
DTEND;TZID=UTC:20170901T210000
DTSTAMP:20260425T163828
CREATED:20170524T095430Z
LAST-MODIFIED:20170524T095430Z
UID:10000437-1504292400-1504299600@aniada.at
SUMMARY:Aniada a Noar in St. Nikolai im Sausal / Benefiz Lebenshilfe
DESCRIPTION:
URL:https://aniada.at/event/aniada-a-noar-in-st-nikolai-im-sausal-benefiz-lebenshilfe-2/
END:VEVENT
BEGIN:VEVENT
DTSTART;TZID=UTC:20170901T190000
DTEND;TZID=UTC:20170901T210000
DTSTAMP:20260425T163828
CREATED:20170524T095430Z
LAST-MODIFIED:20170524T095430Z
UID:10000107-1504292400-1504299600@aniada.at
SUMMARY:Aniada a Noar in St. Nikolai im Sausal / Benefiz Lebenshilfe
DESCRIPTION:
URL:https://aniada.at/event/aniada-a-noar-in-st-nikolai-im-sausal-benefiz-lebenshilfe/
END:VEVENT
BEGIN:VEVENT
DTSTART;TZID=UTC:20170908T203000
DTEND;TZID=UTC:20170908T223000
DTSTAMP:20260425T163828
CREATED:20170119T094115Z
LAST-MODIFIED:20170119T094115Z
UID:10000418-1504902600-1504909800@aniada.at
SUMMARY:Aniada a Noar in Gallneukirchen
DESCRIPTION:Aniada a Noar mit ihrem Programm 35 \n  \nReservierung: http://www.gallnsteine.at/reservierungen/ \nVorverkauf: Oberbank Gallneukirchen.
URL:https://aniada.at/event/aniada-a-noar-in-gallneukirchen-2/
LOCATION:Gallneukirchen Kulturbauernhof Warschenhofer\, Punzenberg 9\, Gallneukirchen\, Oberösterreich\, 4210\, Österreich
END:VEVENT
BEGIN:VEVENT
DTSTART;TZID=UTC:20170908T203000
DTEND;TZID=UTC:20170908T223000
DTSTAMP:20260425T163828
CREATED:20170119T094115Z
LAST-MODIFIED:20170804T093542Z
UID:10000020-1504902600-1504909800@aniada.at
SUMMARY:Aniada a Noar in Gallneukirchen
DESCRIPTION:Aniada a Noar mit ihrem Programm 35 \n  \nReservierung: http://www.gallnsteine.at/reservierungen/ \nVorverkauf: Oberbank Gallneukirchen.
URL:https://aniada.at/event/aniada-a-noar-in-gallneukirchen/
LOCATION:Gallneukirchen Kulturbauernhof Warschenhofer\, Punzenberg 9\, Gallneukirchen\, Oberösterreich\, 4210\, Österreich
END:VEVENT
BEGIN:VEVENT
DTSTART;TZID=UTC:20170909T180000
DTEND;TZID=UTC:20170909T191000
DTSTAMP:20260425T163828
CREATED:20170216T134115Z
LAST-MODIFIED:20170216T134115Z
UID:10000422-1504980000-1504984200@aniada.at
SUMMARY:Aniada a Noar spielt Polka Potente beim Festival Bodenständig
DESCRIPTION:  \nhttp://www.bodenstaendig.n \n 
URL:https://aniada.at/event/aniada-a-noar-spielt-polka-potente-beim-festival-bodenstaendig-2/
LOCATION:Salzburg Festival Bodenständig\, Petersbrunnhof\, Zugellistr. 12\, Salzburg\, Salzburg\, 5020\, Österreich
ORGANIZER;CN="Forum Salzburger Volkskultur":MAILTO:festival@bodenständig.at
END:VEVENT
BEGIN:VEVENT
DTSTART;TZID=UTC:20170909T180000
DTEND;TZID=UTC:20170909T191000
DTSTAMP:20260425T163828
CREATED:20170216T134115Z
LAST-MODIFIED:20170216T134115Z
UID:10000092-1504980000-1504984200@aniada.at
SUMMARY:Aniada a Noar spielt Polka Potente beim Festival Bodenständig
DESCRIPTION:  \nhttp://www.bodenstaendig.n \n 
URL:https://aniada.at/event/aniada-a-noar-spielt-polka-potente-beim-festival-bodenstaendig/
LOCATION:Salzburg Festival Bodenständig\, Petersbrunnhof\, Zugellistr. 12\, Salzburg\, Salzburg\, 5020\, Österreich
ORGANIZER;CN="Forum Salzburger Volkskultur":MAILTO:festival@bodenständig.at
END:VEVENT
BEGIN:VEVENT
DTSTART;TZID=UTC:20170921T200000
DTEND;TZID=UTC:20170921T220000
DTSTAMP:20260425T163828
CREATED:20161206T094817Z
LAST-MODIFIED:20161206T094817Z
UID:10000011-1506024000-1506031200@aniada.at
SUMMARY:Aniada a Noar im Culturcentrum Wolkenstein in Stainach
DESCRIPTION:
URL:https://aniada.at/event/aniada-a-noar-im-culturcentrum-wolkenstein-in-stainach/
END:VEVENT
BEGIN:VEVENT
DTSTART;TZID=UTC:20170921T200000
DTEND;TZID=UTC:20170921T220000
DTSTAMP:20260425T163828
CREATED:20161206T094817Z
LAST-MODIFIED:20161206T094817Z
UID:10000417-1506024000-1506031200@aniada.at
SUMMARY:Aniada a Noar im Culturcentrum Wolkenstein in Stainach
DESCRIPTION:
URL:https://aniada.at/event/aniada-a-noar-im-culturcentrum-wolkenstein-in-stainach-2/
END:VEVENT
BEGIN:VEVENT
DTSTART;TZID=UTC:20170922T193000
DTEND;TZID=UTC:20170922T213000
DTSTAMP:20260425T163828
CREATED:20161205T110411Z
LAST-MODIFIED:20161205T110411Z
UID:10000416-1506108600-1506115800@aniada.at
SUMMARY:Aniada a Noar im Jazzkeller Weiz
DESCRIPTION:
URL:https://aniada.at/event/aniada-a-noar-im-jazzkeller-weiz-2/
LOCATION:Weiz Jazzkeller\, Südtirolerplatz 1\, Weiz
END:VEVENT
BEGIN:VEVENT
DTSTART;TZID=UTC:20170922T193000
DTEND;TZID=UTC:20170922T213000
DTSTAMP:20260425T163828
CREATED:20161205T110411Z
LAST-MODIFIED:20161205T110411Z
UID:10000019-1506108600-1506115800@aniada.at
SUMMARY:Aniada a Noar im Jazzkeller Weiz
DESCRIPTION:
URL:https://aniada.at/event/aniada-a-noar-im-jazzkeller-weiz/
LOCATION:Weiz Jazzkeller\, Südtirolerplatz 1\, Weiz
END:VEVENT
BEGIN:VEVENT
DTSTART;TZID=UTC:20170923T200000
DTEND;TZID=UTC:20170923T220000
DTSTAMP:20260425T163828
CREATED:20170503T084838Z
LAST-MODIFIED:20170503T084838Z
UID:10000430-1506196800-1506204000@aniada.at
SUMMARY:Aniada a Noar im kunsthaus muerz | Mürzzuschlag
DESCRIPTION:
URL:https://aniada.at/event/aniada-a-noar-im-kunsthaus-muerz-muerzzuschlag-2/
LOCATION:Mürzzuschlag Kunsthaus Mürz\, Österreich
END:VEVENT
BEGIN:VEVENT
DTSTART;TZID=UTC:20170923T200000
DTEND;TZID=UTC:20170923T220000
DTSTAMP:20260425T163828
CREATED:20170503T084838Z
LAST-MODIFIED:20170503T084838Z
UID:10000104-1506196800-1506204000@aniada.at
SUMMARY:Aniada a Noar im kunsthaus muerz | Mürzzuschlag
DESCRIPTION:
URL:https://aniada.at/event/aniada-a-noar-im-kunsthaus-muerz-muerzzuschlag/
LOCATION:Mürzzuschlag Kunsthaus Mürz\, Österreich
END:VEVENT
BEGIN:VEVENT
DTSTART;TZID=UTC:20170924T190000
DTEND;TZID=UTC:20170924T210000
DTSTAMP:20260425T163828
CREATED:20170524T095745Z
LAST-MODIFIED:20170524T095745Z
UID:10000438-1506279600-1506286800@aniada.at
SUMMARY:Incompagnia beim Rupertikirtag in Salzburg
DESCRIPTION:
URL:https://aniada.at/event/incompagnia-beim-rupertikirtag-in-salzburg-2/
LOCATION:Salzburg Rupertikirtag\, Domplatz\, Salzburg\, 5020
END:VEVENT
BEGIN:VEVENT
DTSTART;TZID=UTC:20170924T190000
DTEND;TZID=UTC:20170924T210000
DTSTAMP:20260425T163828
CREATED:20170524T095745Z
LAST-MODIFIED:20170524T100013Z
UID:10000108-1506279600-1506286800@aniada.at
SUMMARY:Incompagnia beim Rupertikirtag in Salzburg
DESCRIPTION:
URL:https://aniada.at/event/incompagnia-beim-rupertikirtag-in-salzburg/
LOCATION:Salzburg Rupertikirtag\, Domplatz\, Salzburg\, 5020
END:VEVENT
END:VCALENDAR