BEGIN:VCALENDAR
VERSION:2.0
PRODID:-//Aniada a Noar - ECPv6.15.11//NONSGML v1.0//EN
CALSCALE:GREGORIAN
METHOD:PUBLISH
X-WR-CALNAME:Aniada a Noar
X-ORIGINAL-URL:https://aniada.at
X-WR-CALDESC:Veranstaltungen für Aniada a Noar
REFRESH-INTERVAL;VALUE=DURATION:PT1H
X-Robots-Tag:noindex
X-PUBLISHED-TTL:PT1H
BEGIN:VTIMEZONE
TZID:UTC
BEGIN:STANDARD
TZOFFSETFROM:+0000
TZOFFSETTO:+0000
TZNAME:UTC
DTSTART:20160101T000000
END:STANDARD
END:VTIMEZONE
BEGIN:VEVENT
DTSTART;TZID=UTC:20170602T200000
DTEND;TZID=UTC:20170602T220000
DTSTAMP:20260425T225447
CREATED:20170503T072603Z
LAST-MODIFIED:20170503T072603Z
UID:10000096-1496433600-1496440800@aniada.at
SUMMARY:Aniada a Noar in Leoben/geschlossene Veranstaltung
DESCRIPTION:
URL:https://aniada.at/event/aniada-a-noar-in-leobengeschlossene-veranstaltung/
LOCATION:Leoben
END:VEVENT
BEGIN:VEVENT
DTSTART;TZID=UTC:20170602T200000
DTEND;TZID=UTC:20170602T220000
DTSTAMP:20260425T225447
CREATED:20170503T072603Z
LAST-MODIFIED:20170503T072603Z
UID:10000425-1496433600-1496440800@aniada.at
SUMMARY:Aniada a Noar in Leoben/geschlossene Veranstaltung
DESCRIPTION:
URL:https://aniada.at/event/aniada-a-noar-in-leobengeschlossene-veranstaltung-2/
LOCATION:Leoben
END:VEVENT
BEGIN:VEVENT
DTSTART;TZID=UTC:20170603T183000
DTEND;TZID=UTC:20170603T203000
DTSTAMP:20260425T225447
CREATED:20170503T074729Z
LAST-MODIFIED:20170524T095216Z
UID:10000097-1496514600-1496521800@aniada.at
SUMMARY:In Compagnia in Monfalcone in der Galleria Arte Contemporanea
DESCRIPTION:im Rahmen des Projektes Folk in Tour : http://www.folkintour.it \n  \nTickets: info@folkintour.it
URL:https://aniada.at/event/in-compagnia-in-monfalcone/
LOCATION:Monfalcone Galeria Arte Contemporanea\, Piazza Cavour\, Monfalcone\, Italien
END:VEVENT
BEGIN:VEVENT
DTSTART;TZID=UTC:20170603T183000
DTEND;TZID=UTC:20170603T203000
DTSTAMP:20260425T225447
CREATED:20170503T074729Z
LAST-MODIFIED:20170503T074729Z
UID:10000426-1496514600-1496521800@aniada.at
SUMMARY:In Compagnia in Monfalcone in der Galleria Arte Contemporanea
DESCRIPTION:im Rahmen des Projektes Folk in Tour : http://www.folkintour.it \n  \nTickets: info@folkintour.it
URL:https://aniada.at/event/in-compagnia-in-monfalcone-2/
LOCATION:Monfalcone Galeria Arte Contemporanea\, Piazza Cavour\, Monfalcone\, Italien
END:VEVENT
BEGIN:VEVENT
DTSTART;TZID=UTC:20170604T113000
DTEND;TZID=UTC:20170604T133000
DTSTAMP:20260425T225447
CREATED:20170503T074919Z
LAST-MODIFIED:20170503T074919Z
UID:10000098-1496575800-1496583000@aniada.at
SUMMARY:In Compagnia in Travesio/Pordenone
DESCRIPTION:
URL:https://aniada.at/event/in-compagnia-in-travesiopordenone/
END:VEVENT
BEGIN:VEVENT
DTSTART;TZID=UTC:20170604T113000
DTEND;TZID=UTC:20170604T133000
DTSTAMP:20260425T225447
CREATED:20170503T074919Z
LAST-MODIFIED:20170503T074919Z
UID:10000427-1496575800-1496583000@aniada.at
SUMMARY:In Compagnia in Travesio/Pordenone
DESCRIPTION:
URL:https://aniada.at/event/in-compagnia-in-travesiopordenone-2/
END:VEVENT
BEGIN:VEVENT
DTSTART;TZID=UTC:20170604T113000
DTEND;TZID=UTC:20170604T133000
DTSTAMP:20260425T225447
CREATED:20170524T095052Z
LAST-MODIFIED:20170524T095119Z
UID:10000106-1496575800-1496583000@aniada.at
SUMMARY:In Compagnia im Agriturismo Ai Padrons / Meduno
DESCRIPTION:im Rahmen des Projektes Folk in Tour : http://www.folkintour.it \n  \nTickets : info@folkintour.it
URL:https://aniada.at/event/in-compagnia-im-agriturismo-ai-padrons-meduno/
LOCATION:Meduno Agriturismo Al Padrons\, Via Tomba\, Meduno\, Italien
END:VEVENT
BEGIN:VEVENT
DTSTART;TZID=UTC:20170604T113000
DTEND;TZID=UTC:20170604T133000
DTSTAMP:20260425T225447
CREATED:20170524T095052Z
LAST-MODIFIED:20170524T095052Z
UID:10000436-1496575800-1496583000@aniada.at
SUMMARY:In Compagnia im Agriturismo Ai Padrons / Meduno
DESCRIPTION:im Rahmen des Projektes Folk in Tour : http://www.folkintour.it \n  \nTickets : info@folkintour.it
URL:https://aniada.at/event/in-compagnia-im-agriturismo-ai-padrons-meduno-2/
LOCATION:Meduno Agriturismo Al Padrons\, Via Tomba\, Meduno\, Italien
END:VEVENT
BEGIN:VEVENT
DTSTART;TZID=UTC:20170609T193000
DTEND;TZID=UTC:20170609T213000
DTSTAMP:20260425T225447
CREATED:20170215T121140Z
LAST-MODIFIED:20170607T085824Z
UID:10000012-1497036600-1497043800@aniada.at
SUMMARY:Aniada a Noar & August Schmölzer in Gratwein
DESCRIPTION:„Aniada a Noar und August Schmölzer“ \nAn einem Abend mit Literatur und Musik verschmelzen Aniada a Noar und August Schmölzer ineinander. Es ist ein sich Gegenseitiges Ergänzen\, ein Abend mit Tiefe\, Freude und Humor\, alles was das Herz des Hörers und Schauers begehrt. \nNichts wird ausgelassen außer die LANGEWEILE.
URL:https://aniada.at/event/aniada-a-noar-august-schmoelzer-in-gratwein/
LOCATION:Gratwein MZH\, Schulgasse 10\, Gratwein\, 81121\, Österreich
END:VEVENT
BEGIN:VEVENT
DTSTART;TZID=UTC:20170609T193000
DTEND;TZID=UTC:20170609T213000
DTSTAMP:20260425T225447
CREATED:20170215T121140Z
LAST-MODIFIED:20170215T121140Z
UID:10000419-1497036600-1497043800@aniada.at
SUMMARY:Aniada a Noar & August Schmölzer in Gratwein
DESCRIPTION:„Aniada a Noar und August Schmölzer“ \nAn einem Abend mit Literatur und Musik verschmelzen Aniada a Noar und August Schmölzer ineinander. Es ist ein sich Gegenseitiges Ergänzen\, ein Abend mit Tiefe\, Freude und Humor\, alles was das Herz des Hörers und Schauers begehrt. \nNichts wird ausgelassen außer die LANGEWEILE.
URL:https://aniada.at/event/aniada-a-noar-august-schmoelzer-in-gratwein-2/
LOCATION:Gratwein MZH\, Schulgasse 10\, Gratwein\, 81121\, Österreich
END:VEVENT
BEGIN:VEVENT
DTSTART;TZID=UTC:20170610T193000
DTEND;TZID=UTC:20170610T203000
DTSTAMP:20260425T225447
CREATED:20170215T131721Z
LAST-MODIFIED:20170216T131028Z
UID:10000091-1497123000-1497126600@aniada.at
SUMMARY:Aniada Noar und August Schmölzer in Hartberg im Rahmen von "Literatur und Musik"
DESCRIPTION:„Aniada a Noar und August Schmölzer“ \nAn einem Abend mit Literatur und Musik verschmelzen Aniada a Noar und August Schmölzer ineinander. Es ist ein sich Gegenseitiges Ergänzen\, ein Abend mit Tiefe\, Freude und Humor\, alles was das Herz des Hörers und Schauers begehrt. \nNichts wird ausgelassen außer die LANGEWEILE.
URL:https://aniada.at/event/aniada-noar-und-august-schmoelzer-in-hartberg-im-rahmen-von-literatur-und-musik/
ORGANIZER;CN="leykam Buchhandelsges.m.b.H":MAILTO:gerlinde.wiesenhofer@leykam-buch.at
END:VEVENT
BEGIN:VEVENT
DTSTART;TZID=UTC:20170610T193000
DTEND;TZID=UTC:20170610T203000
DTSTAMP:20260425T225447
CREATED:20170215T131721Z
LAST-MODIFIED:20170215T131721Z
UID:10000421-1497123000-1497126600@aniada.at
SUMMARY:Aniada Noar und August Schmölzer in Hartberg im Rahmen von "Literatur und Musik"
DESCRIPTION:„Aniada a Noar und August Schmölzer“ \nAn einem Abend mit Literatur und Musik verschmelzen Aniada a Noar und August Schmölzer ineinander. Es ist ein sich Gegenseitiges Ergänzen\, ein Abend mit Tiefe\, Freude und Humor\, alles was das Herz des Hörers und Schauers begehrt. \nNichts wird ausgelassen außer die LANGEWEILE.
URL:https://aniada.at/event/aniada-noar-und-august-schmoelzer-in-hartberg-im-rahmen-von-literatur-und-musik-2/
ORGANIZER;CN="leykam Buchhandelsges.m.b.H":MAILTO:gerlinde.wiesenhofer@leykam-buch.at
END:VEVENT
BEGIN:VEVENT
DTSTART;TZID=UTC:20170622T200000
DTEND;TZID=UTC:20170622T220000
DTSTAMP:20260425T225447
CREATED:20170503T081604Z
LAST-MODIFIED:20170503T081604Z
UID:10000099-1498161600-1498168800@aniada.at
SUMMARY:Aniada a Noar in Tegernbach (A)
DESCRIPTION:  \nHofbühne Tegernbach \nKarteninfo:\n07248 / 66 958\ninfo@hofbuehne.at \nWeltmusik im Theaterstadl
URL:https://aniada.at/event/aniada-a-noar-in-tegernbach-a-2/
LOCATION:Tegernbach Hofbühne\, Österreich
ORGANIZER;CN="Hausruckviertler":MAILTO:info@ hofbuehne.at
END:VEVENT
BEGIN:VEVENT
DTSTART;TZID=UTC:20170622T200000
DTEND;TZID=UTC:20170622T220000
DTSTAMP:20260425T225447
CREATED:20170503T081604Z
LAST-MODIFIED:20170503T081604Z
UID:10000428-1498161600-1498168800@aniada.at
SUMMARY:Aniada a Noar in Tegernbach (A)
DESCRIPTION:  \nHofbühne Tegernbach \nKarteninfo:\n07248 / 66 958\ninfo@hofbuehne.at \nWeltmusik im Theaterstadl
URL:https://aniada.at/event/aniada-a-noar-in-tegernbach-a-2-2/
LOCATION:Tegernbach Hofbühne\, Österreich
ORGANIZER;CN="Hausruckviertler":MAILTO:info@ hofbuehne.at
END:VEVENT
BEGIN:VEVENT
DTSTART;TZID=UTC:20170629T193000
DTEND;TZID=UTC:20170629T213000
DTSTAMP:20260425T225447
CREATED:20170503T083332Z
LAST-MODIFIED:20170503T083332Z
UID:10000429-1498764600-1498771800@aniada.at
SUMMARY:Aniada a Noar im Bockkeller in Ottakring
DESCRIPTION:
URL:https://aniada.at/event/aniada-a-noar-im-bockkeller-in-ottakring-2/
END:VEVENT
BEGIN:VEVENT
DTSTART;TZID=UTC:20170629T193000
DTEND;TZID=UTC:20170629T213000
DTSTAMP:20260425T225447
CREATED:20170503T083332Z
LAST-MODIFIED:20170503T083332Z
UID:10000100-1498764600-1498771800@aniada.at
SUMMARY:Aniada a Noar im Bockkeller in Ottakring
DESCRIPTION:
URL:https://aniada.at/event/aniada-a-noar-im-bockkeller-in-ottakring/
END:VEVENT
BEGIN:VEVENT
DTSTART;TZID=UTC:20170630T200000
DTEND;TZID=UTC:20170630T213000
DTSTAMP:20260425T225447
CREATED:20170307T122630Z
LAST-MODIFIED:20170307T122630Z
UID:10000413-1498852800-1498858200@aniada.at
SUMMARY:Aniada a Noar im Schilcherhof in Ligist (A)
DESCRIPTION:
URL:https://aniada.at/event/aniada-a-noar-und-august-schmoelzer-in-ligist-a-2/
LOCATION:Austria
ORGANIZER;CN="Schilcherhof":MAILTO:schilcherhof@schilcherhof.at
END:VEVENT
BEGIN:VEVENT
DTSTART;TZID=UTC:20170630T200000
DTEND;TZID=UTC:20170630T213000
DTSTAMP:20260425T225447
CREATED:20170307T122630Z
LAST-MODIFIED:20170613T093938Z
UID:10000093-1498852800-1498858200@aniada.at
SUMMARY:Aniada a Noar im Schilcherhof in Ligist (A)
DESCRIPTION:
URL:https://aniada.at/event/aniada-a-noar-und-august-schmoelzer-in-ligist-a/
LOCATION:Austria
ORGANIZER;CN="Schilcherhof":MAILTO:schilcherhof@schilcherhof.at
END:VEVENT
END:VCALENDAR