BEGIN:VCALENDAR
VERSION:2.0
PRODID:-//Aniada a Noar - ECPv6.15.11//NONSGML v1.0//EN
CALSCALE:GREGORIAN
METHOD:PUBLISH
X-WR-CALNAME:Aniada a Noar
X-ORIGINAL-URL:https://aniada.at
X-WR-CALDESC:Veranstaltungen für Aniada a Noar
REFRESH-INTERVAL;VALUE=DURATION:PT1H
X-Robots-Tag:noindex
X-PUBLISHED-TTL:PT1H
BEGIN:VTIMEZONE
TZID:UTC
BEGIN:STANDARD
TZOFFSETFROM:+0000
TZOFFSETTO:+0000
TZNAME:UTC
DTSTART:20210101T000000
END:STANDARD
END:VTIMEZONE
BEGIN:VEVENT
DTSTART;TZID=UTC:20221212T200000
DTEND;TZID=UTC:20221212T223000
DTSTAMP:20260421T153252
CREATED:20221028T130626Z
LAST-MODIFIED:20221028T130626Z
UID:10000286-1670875200-1670884200@aniada.at
SUMMARY:ANIADA A NOAR "Voller Freude" im Bockkeller Wien
DESCRIPTION:Weihnachtstour mit Nataša Mirković\, Matthias Loibner & Lothar Lässer
URL:https://aniada.at/event/aniada-a-noar-voller-freude-im-bockkeller-wien/
LOCATION:Wien Bockkeller\, Gallitzinstraße 1\, Wien\, Wien\, 1160\, Österreich
ORGANIZER;CN="Wiener Volksliedwerk":MAILTO:office@wvlw.at
END:VEVENT
BEGIN:VEVENT
DTSTART;TZID=UTC:20221212T200000
DTEND;TZID=UTC:20221212T223000
DTSTAMP:20260421T153252
CREATED:20221028T130626Z
LAST-MODIFIED:20221028T130626Z
UID:10000625-1670875200-1670884200@aniada.at
SUMMARY:ANIADA A NOAR "Voller Freude" im Bockkeller Wien
DESCRIPTION:Weihnachtstour mit Nataša Mirković\, Matthias Loibner & Lothar Lässer
URL:https://aniada.at/event/aniada-a-noar-voller-freude-im-bockkeller-wien-2/
LOCATION:Wien Bockkeller\, Gallitzinstraße 1\, Wien\, Wien\, 1160\, Österreich
ORGANIZER;CN="Wiener Volksliedwerk":MAILTO:office@wvlw.at
END:VEVENT
END:VCALENDAR