BEGIN:VCALENDAR
VERSION:2.0
PRODID:-//Aniada a Noar - ECPv6.15.11//NONSGML v1.0//EN
CALSCALE:GREGORIAN
METHOD:PUBLISH
X-WR-CALNAME:Aniada a Noar
X-ORIGINAL-URL:https://aniada.at
X-WR-CALDESC:Veranstaltungen für Aniada a Noar
REFRESH-INTERVAL;VALUE=DURATION:PT1H
X-Robots-Tag:noindex
X-PUBLISHED-TTL:PT1H
BEGIN:VTIMEZONE
TZID:UTC
BEGIN:STANDARD
TZOFFSETFROM:+0000
TZOFFSETTO:+0000
TZNAME:UTC
DTSTART:20210101T000000
END:STANDARD
END:VTIMEZONE
BEGIN:VEVENT
DTSTART;TZID=UTC:20221208T190000
DTEND;TZID=UTC:20221208T213000
DTSTAMP:20260421T152723
CREATED:20221028T123428Z
LAST-MODIFIED:20221115T130820Z
UID:10000283-1670526000-1670535000@aniada.at
SUMMARY:ANIADA A NOAR "Voller Freude" im Pfarrsaal St. Leonhard\, Graz
DESCRIPTION:Weihnachtstour mit Nataša Mirković\, Matthias Loibner & Lothar Lässer.\nDiese Veranstaltung ist ausverkauft!
URL:https://aniada.at/event/aniada-a-noar-voller-freude-im-pfarrsaal-st-leonhard-graz/
LOCATION:Graz Pfarrsaal St. Leonhard\, Leonhardplatz 14\, St.Leonhard\, Graz\, 8010
END:VEVENT
BEGIN:VEVENT
DTSTART;TZID=UTC:20221208T190000
DTEND;TZID=UTC:20221208T213000
DTSTAMP:20260421T152723
CREATED:20221028T123428Z
LAST-MODIFIED:20221028T123428Z
UID:10000622-1670526000-1670535000@aniada.at
SUMMARY:ANIADA A NOAR "Voller Freude" im Pfarrsaal St. Leonhard\, Graz
DESCRIPTION:Weihnachtstour mit Nataša Mirković\, Matthias Loibner & Lothar Lässer.\nDiese Veranstaltung ist ausverkauft!
URL:https://aniada.at/event/aniada-a-noar-voller-freude-im-pfarrsaal-st-leonhard-graz-2/
LOCATION:Graz Pfarrsaal St. Leonhard\, Leonhardplatz 14\, St.Leonhard\, Graz\, 8010
END:VEVENT
END:VCALENDAR