BEGIN:VCALENDAR
VERSION:2.0
PRODID:-//Aniada a Noar - ECPv6.15.11//NONSGML v1.0//EN
CALSCALE:GREGORIAN
METHOD:PUBLISH
X-WR-CALNAME:Aniada a Noar
X-ORIGINAL-URL:https://aniada.at
X-WR-CALDESC:Veranstaltungen für Aniada a Noar
REFRESH-INTERVAL;VALUE=DURATION:PT1H
X-Robots-Tag:noindex
X-PUBLISHED-TTL:PT1H
BEGIN:VTIMEZONE
TZID:UTC
BEGIN:STANDARD
TZOFFSETFROM:+0000
TZOFFSETTO:+0000
TZNAME:UTC
DTSTART:20210101T000000
END:STANDARD
END:VTIMEZONE
BEGIN:VEVENT
DTSTART;TZID=UTC:20220922T200000
DTEND;TZID=UTC:20220922T220000
DTSTAMP:20260421T200437
CREATED:20220920T132544Z
LAST-MODIFIED:20220920T132544Z
UID:10000281-1663876800-1663884000@aniada.at
SUMMARY:ANIADA A NOAR & Martin Moro beim Rupertikirtag Salzburg
DESCRIPTION:
URL:https://aniada.at/event/aniada-a-noar-martin-moro-beim-rupertikirtag-salzburg/
LOCATION:Salzburg Rupertikirtag\, Domplatz\, Salzburg\, 5020
ORGANIZER;CN="Salzburg Altstadt Marketig":MAILTO:office@salzburg-altstadt.at
END:VEVENT
BEGIN:VEVENT
DTSTART;TZID=UTC:20220922T200000
DTEND;TZID=UTC:20220922T220000
DTSTAMP:20260421T200437
CREATED:20220920T132544Z
LAST-MODIFIED:20220920T132544Z
UID:10000620-1663876800-1663884000@aniada.at
SUMMARY:ANIADA A NOAR & Martin Moro beim Rupertikirtag Salzburg
DESCRIPTION:
URL:https://aniada.at/event/aniada-a-noar-martin-moro-beim-rupertikirtag-salzburg-2/
LOCATION:Salzburg Rupertikirtag\, Domplatz\, Salzburg\, 5020
ORGANIZER;CN="Salzburg Altstadt Marketig":MAILTO:office@salzburg-altstadt.at
END:VEVENT
END:VCALENDAR