BEGIN:VCALENDAR
VERSION:2.0
PRODID:-//Aniada a Noar - ECPv6.15.11//NONSGML v1.0//EN
CALSCALE:GREGORIAN
METHOD:PUBLISH
X-WR-CALNAME:Aniada a Noar
X-ORIGINAL-URL:https://aniada.at
X-WR-CALDESC:Veranstaltungen für Aniada a Noar
REFRESH-INTERVAL;VALUE=DURATION:PT1H
X-Robots-Tag:noindex
X-PUBLISHED-TTL:PT1H
BEGIN:VTIMEZONE
TZID:UTC
BEGIN:STANDARD
TZOFFSETFROM:+0000
TZOFFSETTO:+0000
TZNAME:UTC
DTSTART:20210101T000000
END:STANDARD
END:VTIMEZONE
BEGIN:VEVENT
DTSTART;TZID=UTC:20220914T200000
DTEND;TZID=UTC:20220914T223000
DTSTAMP:20260421T194813
CREATED:20220816T095354Z
LAST-MODIFIED:20220816T095354Z
UID:10000277-1663185600-1663194600@aniada.at
SUMMARY:ANIADA A NAOR & Lothar Lässer beim mundARTists Festival Graz
DESCRIPTION:
URL:https://aniada.at/event/aniada-a-naor-lothar-laesser-beim-mundartists-festival-graz/
LOCATION:Graz ARTists\, Schützgasse 16\, Graz\, 8020
ORGANIZER;CN="Graz ARTists":MAILTO:office@art.ists.at
END:VEVENT
BEGIN:VEVENT
DTSTART;TZID=UTC:20220914T200000
DTEND;TZID=UTC:20220914T223000
DTSTAMP:20260421T194813
CREATED:20220816T095354Z
LAST-MODIFIED:20220816T095354Z
UID:10000616-1663185600-1663194600@aniada.at
SUMMARY:ANIADA A NAOR & Lothar Lässer beim mundARTists Festival Graz
DESCRIPTION:
URL:https://aniada.at/event/aniada-a-naor-lothar-laesser-beim-mundartists-festival-graz-2/
LOCATION:Graz ARTists\, Schützgasse 16\, Graz\, 8020
ORGANIZER;CN="Graz ARTists":MAILTO:office@art.ists.at
END:VEVENT
END:VCALENDAR