BEGIN:VCALENDAR
VERSION:2.0
PRODID:-//Aniada a Noar - ECPv6.15.11//NONSGML v1.0//EN
CALSCALE:GREGORIAN
METHOD:PUBLISH
X-ORIGINAL-URL:https://aniada.at
X-WR-CALDESC:Veranstaltungen für Aniada a Noar
REFRESH-INTERVAL;VALUE=DURATION:PT1H
X-Robots-Tag:noindex
X-PUBLISHED-TTL:PT1H
BEGIN:VTIMEZONE
TZID:UTC
BEGIN:STANDARD
TZOFFSETFROM:+0000
TZOFFSETTO:+0000
TZNAME:UTC
DTSTART:20210101T000000
END:STANDARD
END:VTIMEZONE
BEGIN:VEVENT
DTSTART;TZID=UTC:20220626T200000
DTEND;TZID=UTC:20220626T220000
DTSTAMP:20260422T020555
CREATED:20220307T100604Z
LAST-MODIFIED:20221021T135541Z
UID:10000181-1656273600-1656280800@aniada.at
SUMMARY:ANIADA A NOAR "FELICITÁ" in Weissenbach bei Haus
DESCRIPTION:In Compagnia mit Emma Montagnari\, Giulio Venier\, Flavio Bortuzzo & Lothar Lässer
URL:https://aniada.at/event/aniada-a-noar-in-compagnia-in-weissenbach-bei-haus/
LOCATION:Weissenbach Schwabnstall\, Weissenbach 10\, Weissenbach bei Haus\, Steiermark\, 8967\, Österreich
ORGANIZER;CN="Dorfgemeinschaft Weissenbach":MAILTO:ernestineputre@gmx.net
END:VEVENT
BEGIN:VEVENT
DTSTART;TZID=UTC:20220626T200000
DTEND;TZID=UTC:20220626T220000
DTSTAMP:20260422T020555
CREATED:20220307T100604Z
LAST-MODIFIED:20220307T100604Z
UID:10000603-1656273600-1656280800@aniada.at
SUMMARY:ANIADA A NOAR "FELICITÁ" in Weissenbach bei Haus
DESCRIPTION:In Compagnia mit Emma Montagnari\, Giulio Venier\, Flavio Bortuzzo & Lothar Lässer
URL:https://aniada.at/event/aniada-a-noar-in-compagnia-in-weissenbach-bei-haus-2/
LOCATION:Weissenbach Schwabnstall\, Weissenbach 10\, Weissenbach bei Haus\, Steiermark\, 8967\, Österreich
ORGANIZER;CN="Dorfgemeinschaft Weissenbach":MAILTO:ernestineputre@gmx.net
END:VEVENT
END:VCALENDAR