BEGIN:VCALENDAR
VERSION:2.0
PRODID:-//Aniada a Noar - ECPv6.15.11//NONSGML v1.0//EN
CALSCALE:GREGORIAN
METHOD:PUBLISH
X-ORIGINAL-URL:https://aniada.at
X-WR-CALDESC:Veranstaltungen für Aniada a Noar
REFRESH-INTERVAL;VALUE=DURATION:PT1H
X-Robots-Tag:noindex
X-PUBLISHED-TTL:PT1H
BEGIN:VTIMEZONE
TZID:UTC
BEGIN:STANDARD
TZOFFSETFROM:+0000
TZOFFSETTO:+0000
TZNAME:UTC
DTSTART:20210101T000000
END:STANDARD
END:VTIMEZONE
BEGIN:VEVENT
DTSTART;TZID=UTC:20220401T200000
DTEND;TZID=UTC:20220401T220000
DTSTAMP:20260422T034819
CREATED:20211203T191509Z
LAST-MODIFIED:20211203T191509Z
UID:10000264-1648843200-1648850400@aniada.at
SUMMARY:ANIADA A NOAR & Martin Moro
DESCRIPTION:NIADA A NOAR & Martin Moro\nMandellstr. 11\, 8010 Graz\n+ 43 (0) 316 842043   www.hinwider.com
URL:https://aniada.at/event/aniada-a-noar-martin-moro-2-2/
END:VEVENT
BEGIN:VEVENT
DTSTART;TZID=UTC:20220401T200000
DTEND;TZID=UTC:20220401T220000
DTSTAMP:20260422T034819
CREATED:20211203T191509Z
LAST-MODIFIED:20211203T191509Z
UID:10000595-1648843200-1648850400@aniada.at
SUMMARY:ANIADA A NOAR & Martin Moro
DESCRIPTION:NIADA A NOAR & Martin Moro\nMandellstr. 11\, 8010 Graz\n+ 43 (0) 316 842043   www.hinwider.com
URL:https://aniada.at/event/aniada-a-noar-martin-moro-2-2-3/
END:VEVENT
END:VCALENDAR