BEGIN:VCALENDAR
VERSION:2.0
PRODID:-//Aniada a Noar - ECPv6.15.11//NONSGML v1.0//EN
CALSCALE:GREGORIAN
METHOD:PUBLISH
X-ORIGINAL-URL:https://aniada.at
X-WR-CALDESC:Veranstaltungen für Aniada a Noar
REFRESH-INTERVAL;VALUE=DURATION:PT1H
X-Robots-Tag:noindex
X-PUBLISHED-TTL:PT1H
BEGIN:VTIMEZONE
TZID:UTC
BEGIN:STANDARD
TZOFFSETFROM:+0000
TZOFFSETTO:+0000
TZNAME:UTC
DTSTART:20200101T000000
END:STANDARD
END:VTIMEZONE
BEGIN:VEVENT
DTSTART;TZID=UTC:20211210T200000
DTEND;TZID=UTC:20211210T220000
DTSTAMP:20260422T093755
CREATED:20211203T165443Z
LAST-MODIFIED:20211203T165443Z
UID:10000255-1639166400-1639173600@aniada.at
SUMMARY:abgesagt! FELICITÀ  Aniada a Noar mit Altrioh & Lothar Lässer
DESCRIPTION:Cafe Kemetmüller\, Stiftsplatz 8\, 4582 Spital/Pyhrn\nFELICITÀ  Aniada a Noar mit Altrioh & Lothar Lässer+43 7563 8007   info@kemetmueller.com    www.kemetmueller.comabgesagt!
URL:https://aniada.at/event/felicita-aniada-a-noar-mit-altrioh-lothar-laesser-2/
LOCATION:Spital Cafe Kemetmüller\, Stiftsplatz 8\, Spital am Pyhrn\, Oberösterreich\, 4582\, Österreich
END:VEVENT
BEGIN:VEVENT
DTSTART;TZID=UTC:20211210T200000
DTEND;TZID=UTC:20211210T220000
DTSTAMP:20260422T093755
CREATED:20211203T165443Z
LAST-MODIFIED:20211203T165443Z
UID:10000584-1639166400-1639173600@aniada.at
SUMMARY:abgesagt! FELICITÀ  Aniada a Noar mit Altrioh & Lothar Lässer
DESCRIPTION:Cafe Kemetmüller\, Stiftsplatz 8\, 4582 Spital/Pyhrn\nFELICITÀ  Aniada a Noar mit Altrioh & Lothar Lässer+43 7563 8007   info@kemetmueller.com    www.kemetmueller.comabgesagt!
URL:https://aniada.at/event/felicita-aniada-a-noar-mit-altrioh-lothar-laesser-2-2/
LOCATION:Spital Cafe Kemetmüller\, Stiftsplatz 8\, Spital am Pyhrn\, Oberösterreich\, 4582\, Österreich
END:VEVENT
END:VCALENDAR