BEGIN:VCALENDAR
VERSION:2.0
PRODID:-//Aniada a Noar - ECPv6.15.11//NONSGML v1.0//EN
CALSCALE:GREGORIAN
METHOD:PUBLISH
X-ORIGINAL-URL:https://aniada.at
X-WR-CALDESC:Veranstaltungen für Aniada a Noar
REFRESH-INTERVAL;VALUE=DURATION:PT1H
X-Robots-Tag:noindex
X-PUBLISHED-TTL:PT1H
BEGIN:VTIMEZONE
TZID:UTC
BEGIN:STANDARD
TZOFFSETFROM:+0000
TZOFFSETTO:+0000
TZNAME:UTC
DTSTART:20200101T000000
END:STANDARD
END:VTIMEZONE
BEGIN:VEVENT
DTSTART;TZID=UTC:20211208T193000
DTEND;TZID=UTC:20211208T223000
DTSTAMP:20260422T093105
CREATED:20211203T165240Z
LAST-MODIFIED:20211203T165240Z
UID:10000254-1638991800-1639002600@aniada.at
SUMMARY:abgesagt! FELICITÀ  Aniada a Noar mit Altrioh & Lothar Lässer
DESCRIPTION:FELICITÀ  Aniada a Noar mit Altrioh & Lothar Lässer \n+43 4363 81050     office@stiegerhaus.at   www.stieglerhaus.atabgesagt!
URL:https://aniada.at/event/abgesagt-felicita-aniada-a-noar-mit-altrioh-lothar-laesser/
LOCATION:St. Stefan Stieglerhaus\, St.Stefan ob Stainz 14\, St. Stefan ob Stainz\, 8511
END:VEVENT
BEGIN:VEVENT
DTSTART;TZID=UTC:20211208T193000
DTEND;TZID=UTC:20211208T223000
DTSTAMP:20260422T093105
CREATED:20211203T165240Z
LAST-MODIFIED:20211203T165240Z
UID:10000583-1638991800-1639002600@aniada.at
SUMMARY:abgesagt! FELICITÀ  Aniada a Noar mit Altrioh & Lothar Lässer
DESCRIPTION:FELICITÀ  Aniada a Noar mit Altrioh & Lothar Lässer \n+43 4363 81050     office@stiegerhaus.at   www.stieglerhaus.atabgesagt!
URL:https://aniada.at/event/abgesagt-felicita-aniada-a-noar-mit-altrioh-lothar-laesser-3/
LOCATION:St. Stefan Stieglerhaus\, St.Stefan ob Stainz 14\, St. Stefan ob Stainz\, 8511
END:VEVENT
END:VCALENDAR