BEGIN:VCALENDAR
VERSION:2.0
PRODID:-//Aniada a Noar - ECPv6.15.11//NONSGML v1.0//EN
CALSCALE:GREGORIAN
METHOD:PUBLISH
X-WR-CALNAME:Aniada a Noar
X-ORIGINAL-URL:https://aniada.at
X-WR-CALDESC:Veranstaltungen für Aniada a Noar
REFRESH-INTERVAL;VALUE=DURATION:PT1H
X-Robots-Tag:noindex
X-PUBLISHED-TTL:PT1H
BEGIN:VTIMEZONE
TZID:UTC
BEGIN:STANDARD
TZOFFSETFROM:+0000
TZOFFSETTO:+0000
TZNAME:UTC
DTSTART:20200101T000000
END:STANDARD
END:VTIMEZONE
BEGIN:VEVENT
DTSTART;TZID=UTC:20210716T193000
DTEND;TZID=UTC:20210716T210000
DTSTAMP:20260422T165925
CREATED:20210506T083722Z
LAST-MODIFIED:20210511T062629Z
UID:10000232-1626463800-1626469200@aniada.at
SUMMARY:40 Jahre ANIADA A NOAR im Schilcherhof in Ligist beim Sommerfestival
DESCRIPTION:Fr.  16. Juli     19:30 h\nLigist   Schilcherhof\nSommerfestival\nDietenberg 50\n8563 Ligist\n+43 664 1556371\n schilcherhof@schilcherhof.at\n http://schilcherhof.at
URL:https://aniada.at/event/40-jahre-aniada-a-noar-im-schilcherhof-in-ligist-beim-sommerfestival/
ORGANIZER;CN="Schilcherhof":MAILTO:schilcherhof@schilcherhof.at
END:VEVENT
BEGIN:VEVENT
DTSTART;TZID=UTC:20210716T193000
DTEND;TZID=UTC:20210716T210000
DTSTAMP:20260422T165925
CREATED:20210506T083722Z
LAST-MODIFIED:20210506T083722Z
UID:10000566-1626463800-1626469200@aniada.at
SUMMARY:40 Jahre ANIADA A NOAR im Schilcherhof in Ligist beim Sommerfestival
DESCRIPTION:Fr.  16. Juli     19:30 h\nLigist   Schilcherhof\nSommerfestival\nDietenberg 50\n8563 Ligist\n+43 664 1556371\n schilcherhof@schilcherhof.at\n http://schilcherhof.at
URL:https://aniada.at/event/40-jahre-aniada-a-noar-im-schilcherhof-in-ligist-beim-sommerfestival-2/
ORGANIZER;CN="Schilcherhof":MAILTO:schilcherhof@schilcherhof.at
END:VEVENT
END:VCALENDAR