BEGIN:VCALENDAR
VERSION:2.0
PRODID:-//Aniada a Noar - ECPv6.15.11//NONSGML v1.0//EN
CALSCALE:GREGORIAN
METHOD:PUBLISH
X-WR-CALNAME:Aniada a Noar
X-ORIGINAL-URL:https://aniada.at
X-WR-CALDESC:Veranstaltungen für Aniada a Noar
REFRESH-INTERVAL;VALUE=DURATION:PT1H
X-Robots-Tag:noindex
X-PUBLISHED-TTL:PT1H
BEGIN:VTIMEZONE
TZID:UTC
BEGIN:STANDARD
TZOFFSETFROM:+0000
TZOFFSETTO:+0000
TZNAME:UTC
DTSTART:20190101T000000
END:STANDARD
END:VTIMEZONE
BEGIN:VEVENT
DTSTART;TZID=UTC:20201217T200000
DTEND;TZID=UTC:20201217T213000
DTSTAMP:20260423T032124
CREATED:20201009T053013Z
LAST-MODIFIED:20201009T053013Z
UID:10000236-1608235200-1608240600@aniada.at
SUMMARY:Weihnachtstour FELICITÀ mit Emma Montanari\, Giulio Venier und Flavio Bortuzzo im Kulturzentrum in Leibnitz
DESCRIPTION:Do. 17.12.   Leibnitz Kulturzentrum    20 h\nKaspar Harb G. 4\, 8430 Leibnitz\nReservierung:  office@leibnitz-kult.at   03452 76506   www.leibnitzkult.at
URL:https://aniada.at/event/weihnachtstour-felicita-mit-emma-montanari-giulio-venier-und-flavio-bortuzzo-im-kulturzentrum-in-leibnitz/
LOCATION:Leibnitz Kulturzentrum\, Kaspar-Harb-Gasse 4\, Leibnitz\, Steiermark\, 8430\, Österreich
ORGANIZER;CN="Leibnitz KULT":MAILTO:office@leibnitz-kult.at 
END:VEVENT
BEGIN:VEVENT
DTSTART;TZID=UTC:20201217T200000
DTEND;TZID=UTC:20201217T213000
DTSTAMP:20260423T032124
CREATED:20201009T053013Z
LAST-MODIFIED:20201009T053013Z
UID:10000562-1608235200-1608240600@aniada.at
SUMMARY:Weihnachtstour FELICITÀ mit Emma Montanari\, Giulio Venier und Flavio Bortuzzo im Kulturzentrum in Leibnitz
DESCRIPTION:Do. 17.12.   Leibnitz Kulturzentrum    20 h\nKaspar Harb G. 4\, 8430 Leibnitz\nReservierung:  office@leibnitz-kult.at   03452 76506   www.leibnitzkult.at
URL:https://aniada.at/event/weihnachtstour-felicita-mit-emma-montanari-giulio-venier-und-flavio-bortuzzo-im-kulturzentrum-in-leibnitz-2/
LOCATION:Leibnitz Kulturzentrum\, Kaspar-Harb-Gasse 4\, Leibnitz\, Steiermark\, 8430\, Österreich
ORGANIZER;CN="Leibnitz KULT":MAILTO:office@leibnitz-kult.at 
END:VEVENT
END:VCALENDAR