BEGIN:VCALENDAR
VERSION:2.0
PRODID:-//Aniada a Noar - ECPv6.15.11//NONSGML v1.0//EN
CALSCALE:GREGORIAN
METHOD:PUBLISH
X-WR-CALNAME:Aniada a Noar
X-ORIGINAL-URL:https://aniada.at
X-WR-CALDESC:Veranstaltungen für Aniada a Noar
REFRESH-INTERVAL;VALUE=DURATION:PT1H
X-Robots-Tag:noindex
X-PUBLISHED-TTL:PT1H
BEGIN:VTIMEZONE
TZID:UTC
BEGIN:STANDARD
TZOFFSETFROM:+0000
TZOFFSETTO:+0000
TZNAME:UTC
DTSTART:20190101T000000
END:STANDARD
END:VTIMEZONE
BEGIN:VEVENT
DTSTART;TZID=UTC:20201216T173000
DTEND;TZID=UTC:20201216T184500
DTSTAMP:20260423T032205
CREATED:20201009T052315Z
LAST-MODIFIED:20201009T052315Z
UID:10000238-1608139800-1608144300@aniada.at
SUMMARY:Weihnachtstour FELICITÀ mit Emma Montanari\, Giulio Venier und Flavio Bortuzzo im Steiermarkhof in Graz
DESCRIPTION:Mi. 16.12.    Graz   Steiermarkhof    17.30  + 20 h\nEkkehard Hauer Str. 33\, 8052 Graz\nReservierung:   0664 213 1386\, denise.terner@holzmann.st\n\nParkplatz: € 3\,-
URL:https://aniada.at/event/weihnachtstour-felicita-mit-emma-montanari-giulio-venier-und-flavio-bortuzzo-im-steiermarkhof-in-graz/
LOCATION:Graz Steiermarkhof\, Ekkehard Hauer Str. 33\, Graz\, Steiermark\, 8052
END:VEVENT
BEGIN:VEVENT
DTSTART;TZID=UTC:20201216T173000
DTEND;TZID=UTC:20201216T184500
DTSTAMP:20260423T032205
CREATED:20201009T052315Z
LAST-MODIFIED:20201009T052315Z
UID:10000560-1608139800-1608144300@aniada.at
SUMMARY:Weihnachtstour FELICITÀ mit Emma Montanari\, Giulio Venier und Flavio Bortuzzo im Steiermarkhof in Graz
DESCRIPTION:Mi. 16.12.    Graz   Steiermarkhof    17.30  + 20 h\nEkkehard Hauer Str. 33\, 8052 Graz\nReservierung:   0664 213 1386\, denise.terner@holzmann.st\n\nParkplatz: € 3\,-
URL:https://aniada.at/event/weihnachtstour-felicita-mit-emma-montanari-giulio-venier-und-flavio-bortuzzo-im-steiermarkhof-in-graz-3/
LOCATION:Graz Steiermarkhof\, Ekkehard Hauer Str. 33\, Graz\, Steiermark\, 8052
END:VEVENT
BEGIN:VEVENT
DTSTART;TZID=UTC:20201216T200000
DTEND;TZID=UTC:20201216T213000
DTSTAMP:20260423T032205
CREATED:20201009T052830Z
LAST-MODIFIED:20201009T052830Z
UID:10000237-1608148800-1608154200@aniada.at
SUMMARY:Weihnachtstour FELICITÀ mit Emma Montanari\, Giulio Venier und Flavio Bortuzzo im Steiermarkhof in Graz
DESCRIPTION:Mi. 16.12.    Graz   Steiermarkhof    17.30  + 20 h\nEkkehard Hauer Str. 33\, 8052 Graz\nReservierung:   0664 213 1386\, denise.terner@holzmann.st\n\nParkplatz: € 3\,-
URL:https://aniada.at/event/weihnachtstour-felicita-mit-emma-montanari-giulio-venier-und-flavio-bortuzzo-im-steiermarkhof-in-graz-2/
LOCATION:Graz Steiermarkhof\, Ekkehard Hauer Str. 33\, Graz\, Steiermark\, 8052
END:VEVENT
BEGIN:VEVENT
DTSTART;TZID=UTC:20201216T200000
DTEND;TZID=UTC:20201216T213000
DTSTAMP:20260423T032205
CREATED:20201009T052830Z
LAST-MODIFIED:20201009T052830Z
UID:10000561-1608148800-1608154200@aniada.at
SUMMARY:Weihnachtstour FELICITÀ mit Emma Montanari\, Giulio Venier und Flavio Bortuzzo im Steiermarkhof in Graz
DESCRIPTION:Mi. 16.12.    Graz   Steiermarkhof    17.30  + 20 h\nEkkehard Hauer Str. 33\, 8052 Graz\nReservierung:   0664 213 1386\, denise.terner@holzmann.st\n\nParkplatz: € 3\,-
URL:https://aniada.at/event/weihnachtstour-felicita-mit-emma-montanari-giulio-venier-und-flavio-bortuzzo-im-steiermarkhof-in-graz-2-2/
LOCATION:Graz Steiermarkhof\, Ekkehard Hauer Str. 33\, Graz\, Steiermark\, 8052
END:VEVENT
END:VCALENDAR