BEGIN:VCALENDAR
VERSION:2.0
PRODID:-//Aniada a Noar - ECPv6.15.11//NONSGML v1.0//EN
CALSCALE:GREGORIAN
METHOD:PUBLISH
X-WR-CALNAME:Aniada a Noar
X-ORIGINAL-URL:https://aniada.at
X-WR-CALDESC:Veranstaltungen für Aniada a Noar
REFRESH-INTERVAL;VALUE=DURATION:PT1H
X-Robots-Tag:noindex
X-PUBLISHED-TTL:PT1H
BEGIN:VTIMEZONE
TZID:UTC
BEGIN:STANDARD
TZOFFSETFROM:+0000
TZOFFSETTO:+0000
TZNAME:UTC
DTSTART:20190101T000000
END:STANDARD
END:VTIMEZONE
BEGIN:VEVENT
DTSTART;TZID=UTC:20200710T200000
DTEND;TZID=UTC:20200710T210000
DTSTAMP:20260423T105631
CREATED:20200303T130957Z
LAST-MODIFIED:20200602T060630Z
UID:10000216-1594411200-1594414800@aniada.at
SUMMARY:Aniada a Noar beim Sommerfestival Schilcherhof Ligist mit „Summawind - Zwitschern in offener Luft“  special guest:  Martin Moro / Begrenzte Besucherzahl\, Reservierung erforderlich!
DESCRIPTION:Freitag\, 10. Juli  20 Uhr   Sommerfestival Schilcherhof Ligist\nDietenberg 50\, 8563 Ligist\n„Summawind – Zwitschern in offener Luft“  special guest:  Martin Moro\n+43 664 1556371      schilcherhof@schlicherhof.at      www.schilcherhof.at\n\nBegrenzte Besucherzahl\, Reservierung erforderlich!
URL:https://aniada.at/event/aniada-a-noar-beim-sommerfestival-schilcherhof-ligist-mit-summawind-zwitschern-in-offener-luft-special-guest-martin-moro/
ORGANIZER;CN="Schilcherhof":MAILTO:schilcherhof@schilcherhof.at
END:VEVENT
BEGIN:VEVENT
DTSTART;TZID=UTC:20200710T200000
DTEND;TZID=UTC:20200710T210000
DTSTAMP:20260423T105631
CREATED:20200303T130957Z
LAST-MODIFIED:20200303T130957Z
UID:10000551-1594411200-1594414800@aniada.at
SUMMARY:Aniada a Noar beim Sommerfestival Schilcherhof Ligist mit „Summawind - Zwitschern in offener Luft“  special guest:  Martin Moro / Begrenzte Besucherzahl\, Reservierung erforderlich!
DESCRIPTION:Freitag\, 10. Juli  20 Uhr   Sommerfestival Schilcherhof Ligist\nDietenberg 50\, 8563 Ligist\n„Summawind – Zwitschern in offener Luft“  special guest:  Martin Moro\n+43 664 1556371      schilcherhof@schlicherhof.at      www.schilcherhof.at\n\nBegrenzte Besucherzahl\, Reservierung erforderlich!
URL:https://aniada.at/event/aniada-a-noar-beim-sommerfestival-schilcherhof-ligist-mit-summawind-zwitschern-in-offener-luft-special-guest-martin-moro-2/
ORGANIZER;CN="Schilcherhof":MAILTO:schilcherhof@schilcherhof.at
END:VEVENT
END:VCALENDAR